BEGIN:VCALENDAR
VERSION:2.0
PRODID:-//Shinbu Gent - ECPv6.15.18//NONSGML v1.0//EN
CALSCALE:GREGORIAN
METHOD:PUBLISH
X-WR-CALNAME:Shinbu Gent
X-ORIGINAL-URL:https://www.shinbugent.be
X-WR-CALDESC:Evenementen voor Shinbu Gent
REFRESH-INTERVAL;VALUE=DURATION:PT1H
X-Robots-Tag:noindex
X-PUBLISHED-TTL:PT1H
BEGIN:VTIMEZONE
TZID:Europe/Brussels
BEGIN:DAYLIGHT
TZOFFSETFROM:+0100
TZOFFSETTO:+0200
TZNAME:CEST
DTSTART:20210328T010000
END:DAYLIGHT
BEGIN:STANDARD
TZOFFSETFROM:+0200
TZOFFSETTO:+0100
TZNAME:CET
DTSTART:20211031T010000
END:STANDARD
BEGIN:DAYLIGHT
TZOFFSETFROM:+0100
TZOFFSETTO:+0200
TZNAME:CEST
DTSTART:20220327T010000
END:DAYLIGHT
BEGIN:STANDARD
TZOFFSETFROM:+0200
TZOFFSETTO:+0100
TZNAME:CET
DTSTART:20221030T010000
END:STANDARD
BEGIN:DAYLIGHT
TZOFFSETFROM:+0100
TZOFFSETTO:+0200
TZNAME:CEST
DTSTART:20230326T010000
END:DAYLIGHT
BEGIN:STANDARD
TZOFFSETFROM:+0200
TZOFFSETTO:+0100
TZNAME:CET
DTSTART:20231029T010000
END:STANDARD
BEGIN:DAYLIGHT
TZOFFSETFROM:+0100
TZOFFSETTO:+0200
TZNAME:CEST
DTSTART:20240331T010000
END:DAYLIGHT
BEGIN:STANDARD
TZOFFSETFROM:+0200
TZOFFSETTO:+0100
TZNAME:CET
DTSTART:20241027T010000
END:STANDARD
END:VTIMEZONE
BEGIN:VEVENT
DTSTART;TZID=Europe/Brussels:20230114T103000
DTEND;TZID=Europe/Brussels:20230114T120000
DTSTAMP:20260420T114346
CREATED:20230109T144830Z
LAST-MODIFIED:20230109T144831Z
UID:20001014-1673692200-1673697600@www.shinbugent.be
SUMMARY:Clubtraining volwassenen
DESCRIPTION:tijdelijke aanpassing trainingsuren
URL:https://www.shinbugent.be/event/clubtraining-27/
LOCATION:Universitair Sportcentrum (Gent)\, Watersportlaan 3\, Gent\, Oost-Vlaanderen\, 9000\, België
GEO:51.0475487;3.7026469
X-APPLE-STRUCTURED-LOCATION;VALUE=URI;X-ADDRESS=Universitair Sportcentrum (Gent) Watersportlaan 3 Gent Oost-Vlaanderen 9000 België;X-APPLE-RADIUS=500;X-TITLE=Watersportlaan 3:geo:3.7026469,51.0475487
END:VEVENT
BEGIN:VEVENT
DTSTART;TZID=Europe/Brussels:20230114T090000
DTEND;TZID=Europe/Brussels:20230114T103000
DTSTAMP:20260420T114346
CREATED:20230109T150232Z
LAST-MODIFIED:20230109T150234Z
UID:20001128-1673686800-1673692200@www.shinbugent.be
SUMMARY:Clubtraining jeugd
DESCRIPTION:tijdelijke aanpassing trainingsuren jeugd
URL:https://www.shinbugent.be/event/clubtraining-jeugd/2023-01-14/
LOCATION:Universitair Sportcentrum (Gent)\, Watersportlaan 3\, Gent\, Oost-Vlaanderen\, 9000\, België
GEO:51.0475487;3.7026469
X-APPLE-STRUCTURED-LOCATION;VALUE=URI;X-ADDRESS=Universitair Sportcentrum (Gent) Watersportlaan 3 Gent Oost-Vlaanderen 9000 België;X-APPLE-RADIUS=500;X-TITLE=Watersportlaan 3:geo:3.7026469,51.0475487
END:VEVENT
BEGIN:VEVENT
DTSTART;TZID=Europe/Brussels:20230112T193000
DTEND;TZID=Europe/Brussels:20230112T210000
DTSTAMP:20260420T114346
CREATED:20221128T123635Z
LAST-MODIFIED:20221128T123636Z
UID:20001102-1673551800-1673557200@www.shinbugent.be
SUMMARY:Provinciale training
DESCRIPTION:
URL:https://www.shinbugent.be/event/provinciale-training-8/
LOCATION:Universitair Sportcentrum (Gent)\, Watersportlaan 3\, Gent\, Oost-Vlaanderen\, 9000\, België
GEO:51.0475487;3.7026469
X-APPLE-STRUCTURED-LOCATION;VALUE=URI;X-ADDRESS=Universitair Sportcentrum (Gent) Watersportlaan 3 Gent Oost-Vlaanderen 9000 België;X-APPLE-RADIUS=500;X-TITLE=Watersportlaan 3:geo:3.7026469,51.0475487
END:VEVENT
BEGIN:VEVENT
DTSTART;TZID=Europe/Brussels:20230112T193000
DTEND;TZID=Europe/Brussels:20230112T210000
DTSTAMP:20260420T114346
CREATED:20220929T060120Z
LAST-MODIFIED:20220929T060120Z
UID:20001013-1673551800-1673557200@www.shinbugent.be
SUMMARY:Clubtraining
DESCRIPTION:
URL:https://www.shinbugent.be/event/clubtraining-4/
LOCATION:Universitair Sportcentrum (Gent)\, Watersportlaan 3\, Gent\, Oost-Vlaanderen\, 9000\, België
GEO:51.0475487;3.7026469
X-APPLE-STRUCTURED-LOCATION;VALUE=URI;X-ADDRESS=Universitair Sportcentrum (Gent) Watersportlaan 3 Gent Oost-Vlaanderen 9000 België;X-APPLE-RADIUS=500;X-TITLE=Watersportlaan 3:geo:3.7026469,51.0475487
END:VEVENT
BEGIN:VEVENT
DTSTART;TZID=Europe/Brussels:20230110T190000
DTEND;TZID=Europe/Brussels:20230110T203000
DTSTAMP:20260420T114346
CREATED:20221231T145616Z
LAST-MODIFIED:20221231T145618Z
UID:20001124-1673377200-1673382600@www.shinbugent.be
SUMMARY:Club-competitietraining
DESCRIPTION:
URL:https://www.shinbugent.be/event/club-competitietraining-8/
LOCATION:Universitair Sportcentrum (Gent)\, Watersportlaan 3\, Gent\, Oost-Vlaanderen\, 9000\, België
GEO:51.0475487;3.7026469
X-APPLE-STRUCTURED-LOCATION;VALUE=URI;X-ADDRESS=Universitair Sportcentrum (Gent) Watersportlaan 3 Gent Oost-Vlaanderen 9000 België;X-APPLE-RADIUS=500;X-TITLE=Watersportlaan 3:geo:3.7026469,51.0475487
END:VEVENT
BEGIN:VEVENT
DTSTART;TZID=Europe/Brussels:20230110T190000
DTEND;TZID=Europe/Brussels:20230110T203000
DTSTAMP:20260420T114346
CREATED:20220929T060120Z
LAST-MODIFIED:20220929T060120Z
UID:20001009-1673377200-1673382600@www.shinbugent.be
SUMMARY:Clubtraining
DESCRIPTION:
URL:https://www.shinbugent.be/event/clubtraining-4/2023-01-10/
LOCATION:Universitair Sportcentrum (Gent)\, Watersportlaan 3\, Gent\, Oost-Vlaanderen\, 9000\, België
GEO:51.0475487;3.7026469
X-APPLE-STRUCTURED-LOCATION;VALUE=URI;X-ADDRESS=Universitair Sportcentrum (Gent) Watersportlaan 3 Gent Oost-Vlaanderen 9000 België;X-APPLE-RADIUS=500;X-TITLE=Watersportlaan 3:geo:3.7026469,51.0475487
END:VEVENT
BEGIN:VEVENT
DTSTART;TZID=Europe/Brussels:20230107T140000
DTEND;TZID=Europe/Brussels:20230107T153000
DTSTAMP:20260420T114346
CREATED:20220819T140054Z
LAST-MODIFIED:20220819T140055Z
UID:20000995-1673100000-1673105400@www.shinbugent.be
SUMMARY:Nationale training
DESCRIPTION:
URL:https://www.shinbugent.be/event/nationale-training-7/
LOCATION:Complexe Gaston Reiff (Braine l’Alleud)\, Rue Ernest Laurent 210\, Braine l'Alleud\, 1420\, België
GEO:50.678249;4.3848448
X-APPLE-STRUCTURED-LOCATION;VALUE=URI;X-ADDRESS=Complexe Gaston Reiff (Braine l’Alleud) Rue Ernest Laurent 210 Braine l'Alleud 1420 België;X-APPLE-RADIUS=500;X-TITLE=Rue Ernest Laurent 210:geo:4.3848448,50.678249
END:VEVENT
BEGIN:VEVENT
DTSTART;TZID=Europe/Brussels:20230107T100000
DTEND;TZID=Europe/Brussels:20230107T113000
DTSTAMP:20260420T114346
CREATED:20221231T152448Z
LAST-MODIFIED:20221231T152450Z
UID:20001008-1673085600-1673091000@www.shinbugent.be
SUMMARY:1e clubtraining 2023 + receptie
DESCRIPTION:
URL:https://www.shinbugent.be/event/clubtraining-26/
LOCATION:Universitair Sportcentrum (Gent)\, Watersportlaan 3\, Gent\, Oost-Vlaanderen\, 9000\, België
GEO:51.0475487;3.7026469
X-APPLE-STRUCTURED-LOCATION;VALUE=URI;X-ADDRESS=Universitair Sportcentrum (Gent) Watersportlaan 3 Gent Oost-Vlaanderen 9000 België;X-APPLE-RADIUS=500;X-TITLE=Watersportlaan 3:geo:3.7026469,51.0475487
END:VEVENT
BEGIN:VEVENT
DTSTART;TZID=Europe/Brussels:20230105T193000
DTEND;TZID=Europe/Brussels:20230105T210000
DTSTAMP:20260420T114346
CREATED:20220822T144818Z
LAST-MODIFIED:20220822T144818Z
UID:20001081-1672947000-1672952400@www.shinbugent.be
SUMMARY:Geen clubtraining
DESCRIPTION:
URL:https://www.shinbugent.be/event/geen-clubtraining-2/
END:VEVENT
BEGIN:VEVENT
DTSTART;TZID=Europe/Brussels:20230103T190000
DTEND;TZID=Europe/Brussels:20230103T203000
DTSTAMP:20260420T114346
CREATED:20220822T144547Z
LAST-MODIFIED:20220822T144718Z
UID:20001080-1672772400-1672777800@www.shinbugent.be
SUMMARY:Geen clubtraining
DESCRIPTION:
URL:https://www.shinbugent.be/event/geen-clubtraining/
END:VEVENT
BEGIN:VEVENT
DTSTART;TZID=Europe/Brussels:20221224T000000
DTEND;TZID=Europe/Brussels:20230101T235959
DTSTAMP:20260420T114346
CREATED:20220802T112406Z
LAST-MODIFIED:20220802T113628Z
UID:20000984-1671840000-1672617599@www.shinbugent.be
SUMMARY:Kerstvakantie - geen trainingen (GUSB gesloten)
DESCRIPTION:
URL:https://www.shinbugent.be/event/kerstvakantie-geen-training-gusb-gesloten/
LOCATION:Universitair Sportcentrum (Gent)\, Watersportlaan 3\, Gent\, Oost-Vlaanderen\, 9000\, België
GEO:51.0475487;3.7026469
X-APPLE-STRUCTURED-LOCATION;VALUE=URI;X-ADDRESS=Universitair Sportcentrum (Gent) Watersportlaan 3 Gent Oost-Vlaanderen 9000 België;X-APPLE-RADIUS=500;X-TITLE=Watersportlaan 3:geo:3.7026469,51.0475487
END:VEVENT
BEGIN:VEVENT
DTSTART;TZID=Europe/Brussels:20221222T193000
DTEND;TZID=Europe/Brussels:20221222T210000
DTSTAMP:20260420T114346
CREATED:20220802T114650Z
LAST-MODIFIED:20220802T114651Z
UID:20000993-1671737400-1671742800@www.shinbugent.be
SUMMARY:Clubtraining
DESCRIPTION:
URL:https://www.shinbugent.be/event/clubtraining-3/
LOCATION:Universitair Sportcentrum (Gent)\, Watersportlaan 3\, Gent\, Oost-Vlaanderen\, 9000\, België
GEO:51.0475487;3.7026469
X-APPLE-STRUCTURED-LOCATION;VALUE=URI;X-ADDRESS=Universitair Sportcentrum (Gent) Watersportlaan 3 Gent Oost-Vlaanderen 9000 België;X-APPLE-RADIUS=500;X-TITLE=Watersportlaan 3:geo:3.7026469,51.0475487
END:VEVENT
BEGIN:VEVENT
DTSTART;TZID=Europe/Brussels:20221220T190000
DTEND;TZID=Europe/Brussels:20221220T203000
DTSTAMP:20260420T114346
CREATED:20220802T114602Z
LAST-MODIFIED:20220802T114603Z
UID:20000992-1671562800-1671568200@www.shinbugent.be
SUMMARY:Clubtraining
DESCRIPTION:
URL:https://www.shinbugent.be/event/clubtraining-2/
LOCATION:Universitair Sportcentrum (Gent)\, Watersportlaan 3\, Gent\, Oost-Vlaanderen\, 9000\, België
GEO:51.0475487;3.7026469
X-APPLE-STRUCTURED-LOCATION;VALUE=URI;X-ADDRESS=Universitair Sportcentrum (Gent) Watersportlaan 3 Gent Oost-Vlaanderen 9000 België;X-APPLE-RADIUS=500;X-TITLE=Watersportlaan 3:geo:3.7026469,51.0475487
END:VEVENT
BEGIN:VEVENT
DTSTART;TZID=Europe/Brussels:20221217T100000
DTEND;TZID=Europe/Brussels:20221217T170000
DTSTAMP:20260420T114346
CREATED:20220822T144129Z
LAST-MODIFIED:20220822T144130Z
UID:20001078-1671271200-1671296400@www.shinbugent.be
SUMMARY:Tasseikan trainingsdag 'Back to basics'
DESCRIPTION:
URL:https://www.shinbugent.be/event/tasseikan-trainingsdag-back-to-basics/
LOCATION:Sporten Ontmoetingscentrum O.C.P. (De Pinte)\, Polderbos 20\, De Pinte\, 9840
GEO:50.9910617;3.6447414
X-APPLE-STRUCTURED-LOCATION;VALUE=URI;X-ADDRESS=Sporten Ontmoetingscentrum O.C.P. (De Pinte) Polderbos 20 De Pinte 9840;X-APPLE-RADIUS=500;X-TITLE=Polderbos 20:geo:3.6447414,50.9910617
END:VEVENT
BEGIN:VEVENT
DTSTART;TZID=Europe/Brussels:20221217T100000
DTEND;TZID=Europe/Brussels:20221217T113000
DTSTAMP:20260420T114346
CREATED:20220711T170912Z
LAST-MODIFIED:20220711T170914Z
UID:20000939-1671271200-1671276600@www.shinbugent.be
SUMMARY:Clubtraining
DESCRIPTION:
URL:https://www.shinbugent.be/event/clubtraining/2022-12-17/
LOCATION:Universitair Sportcentrum (Gent)\, Watersportlaan 3\, Gent\, Oost-Vlaanderen\, 9000\, België
GEO:51.0475487;3.7026469
X-APPLE-STRUCTURED-LOCATION;VALUE=URI;X-ADDRESS=Universitair Sportcentrum (Gent) Watersportlaan 3 Gent Oost-Vlaanderen 9000 België;X-APPLE-RADIUS=500;X-TITLE=Watersportlaan 3:geo:3.7026469,51.0475487
END:VEVENT
BEGIN:VEVENT
DTSTART;TZID=Europe/Brussels:20221215T193000
DTEND;TZID=Europe/Brussels:20221215T210000
DTSTAMP:20260420T114346
CREATED:20220929T060116Z
LAST-MODIFIED:20220929T060116Z
UID:20000970-1671132600-1671138000@www.shinbugent.be
SUMMARY:Clubtraining
DESCRIPTION:
URL:https://www.shinbugent.be/event/clubtraining/2022-12-15/
LOCATION:Universitair Sportcentrum (Gent)\, Watersportlaan 3\, Gent\, Oost-Vlaanderen\, 9000\, België
GEO:51.0475487;3.7026469
X-APPLE-STRUCTURED-LOCATION;VALUE=URI;X-ADDRESS=Universitair Sportcentrum (Gent) Watersportlaan 3 Gent Oost-Vlaanderen 9000 België;X-APPLE-RADIUS=500;X-TITLE=Watersportlaan 3:geo:3.7026469,51.0475487
END:VEVENT
BEGIN:VEVENT
DTSTART;TZID=Europe/Brussels:20221213T190000
DTEND;TZID=Europe/Brussels:20221213T203000
DTSTAMP:20260420T114346
CREATED:20220929T060116Z
LAST-MODIFIED:20220929T060116Z
UID:20000954-1670958000-1670963400@www.shinbugent.be
SUMMARY:Clubtraining
DESCRIPTION:
URL:https://www.shinbugent.be/event/clubtraining/2022-12-13/
LOCATION:Universitair Sportcentrum (Gent)\, Watersportlaan 3\, Gent\, Oost-Vlaanderen\, 9000\, België
GEO:51.0475487;3.7026469
X-APPLE-STRUCTURED-LOCATION;VALUE=URI;X-ADDRESS=Universitair Sportcentrum (Gent) Watersportlaan 3 Gent Oost-Vlaanderen 9000 België;X-APPLE-RADIUS=500;X-TITLE=Watersportlaan 3:geo:3.7026469,51.0475487
END:VEVENT
BEGIN:VEVENT
DTSTART;TZID=Europe/Brussels:20221210T133000
DTEND;TZID=Europe/Brussels:20221210T173000
DTSTAMP:20260420T114346
CREATED:20220802T111812Z
LAST-MODIFIED:20220802T111812Z
UID:20000983-1670679000-1670693400@www.shinbugent.be
SUMMARY:JOW 4 - Gent
DESCRIPTION:
URL:https://www.shinbugent.be/event/jow-4-gent/
LOCATION:Universitair Sportcentrum (Gent)\, Watersportlaan 3\, Gent\, Oost-Vlaanderen\, 9000\, België
GEO:51.0475487;3.7026469
X-APPLE-STRUCTURED-LOCATION;VALUE=URI;X-ADDRESS=Universitair Sportcentrum (Gent) Watersportlaan 3 Gent Oost-Vlaanderen 9000 België;X-APPLE-RADIUS=500;X-TITLE=Watersportlaan 3:geo:3.7026469,51.0475487
END:VEVENT
BEGIN:VEVENT
DTSTART;TZID=Europe/Brussels:20221210T100000
DTEND;TZID=Europe/Brussels:20221210T113000
DTSTAMP:20260420T114346
CREATED:20220711T170912Z
LAST-MODIFIED:20220711T170914Z
UID:20000938-1670666400-1670671800@www.shinbugent.be
SUMMARY:Clubtraining
DESCRIPTION:
URL:https://www.shinbugent.be/event/clubtraining/2022-12-10/
LOCATION:Universitair Sportcentrum (Gent)\, Watersportlaan 3\, Gent\, Oost-Vlaanderen\, 9000\, België
GEO:51.0475487;3.7026469
X-APPLE-STRUCTURED-LOCATION;VALUE=URI;X-ADDRESS=Universitair Sportcentrum (Gent) Watersportlaan 3 Gent Oost-Vlaanderen 9000 België;X-APPLE-RADIUS=500;X-TITLE=Watersportlaan 3:geo:3.7026469,51.0475487
END:VEVENT
BEGIN:VEVENT
DTSTART;TZID=Europe/Brussels:20221208T193000
DTEND;TZID=Europe/Brussels:20221208T210000
DTSTAMP:20260420T114346
CREATED:20220929T060116Z
LAST-MODIFIED:20220929T060116Z
UID:20000969-1670527800-1670533200@www.shinbugent.be
SUMMARY:Clubtraining
DESCRIPTION:
URL:https://www.shinbugent.be/event/clubtraining/2022-12-08/
LOCATION:Universitair Sportcentrum (Gent)\, Watersportlaan 3\, Gent\, Oost-Vlaanderen\, 9000\, België
GEO:51.0475487;3.7026469
X-APPLE-STRUCTURED-LOCATION;VALUE=URI;X-ADDRESS=Universitair Sportcentrum (Gent) Watersportlaan 3 Gent Oost-Vlaanderen 9000 België;X-APPLE-RADIUS=500;X-TITLE=Watersportlaan 3:geo:3.7026469,51.0475487
END:VEVENT
BEGIN:VEVENT
DTSTART;TZID=Europe/Brussels:20221206T190000
DTEND;TZID=Europe/Brussels:20221206T203000
DTSTAMP:20260420T114346
CREATED:20220929T060116Z
LAST-MODIFIED:20220929T060116Z
UID:20000953-1670353200-1670358600@www.shinbugent.be
SUMMARY:Clubtraining
DESCRIPTION:
URL:https://www.shinbugent.be/event/clubtraining/2022-12-06/
LOCATION:Universitair Sportcentrum (Gent)\, Watersportlaan 3\, Gent\, Oost-Vlaanderen\, 9000\, België
GEO:51.0475487;3.7026469
X-APPLE-STRUCTURED-LOCATION;VALUE=URI;X-ADDRESS=Universitair Sportcentrum (Gent) Watersportlaan 3 Gent Oost-Vlaanderen 9000 België;X-APPLE-RADIUS=500;X-TITLE=Watersportlaan 3:geo:3.7026469,51.0475487
END:VEVENT
BEGIN:VEVENT
DTSTART;TZID=Europe/Brussels:20221203T130000
DTEND;TZID=Europe/Brussels:20221203T163000
DTSTAMP:20260420T114346
CREATED:20221109T212213Z
LAST-MODIFIED:20221109T212214Z
UID:20001093-1670072400-1670085000@www.shinbugent.be
SUMMARY:Jeugdactiviteit: filmnamiddag
DESCRIPTION:Shinbu organiseert een gratis filmnamiddag voor de jeugdleden op zaterdag 03/12 (na de ochtendtraining).\nOp krachten komen na de training is nu eenmaal belangrijk en op een lege maag naar de film kijken is daarnaast ook niet handig dus voor we de film starten\, bieden we je zoon en/of dochter de mogelijkheid aan samen een spaghetti te eten.\nEindigen doen we tegen 16u - 16u30 waarna iedereen terug huiswaarts keert.\nSchrijf je in voor 20/11/2022 door te antwoorden op het mailtje dat hierover werd verzonden via secretaris@shinbugent.be
URL:https://www.shinbugent.be/event/jeugdactiviteit-filmnamiddag/
LOCATION:Universitair Sportcentrum (Gent)\, Watersportlaan 3\, Gent\, Oost-Vlaanderen\, 9000\, België
ATTACH;FMTTYPE=image/jpeg:https://www.shinbugent.be/wp-content/uploads/2022/11/promo-filmnamiddag.jpg
GEO:51.0475487;3.7026469
X-APPLE-STRUCTURED-LOCATION;VALUE=URI;X-ADDRESS=Universitair Sportcentrum (Gent) Watersportlaan 3 Gent Oost-Vlaanderen 9000 België;X-APPLE-RADIUS=500;X-TITLE=Watersportlaan 3:geo:3.7026469,51.0475487
END:VEVENT
BEGIN:VEVENT
DTSTART;TZID=Europe/Brussels:20221203T100000
DTEND;TZID=Europe/Brussels:20221203T113000
DTSTAMP:20260420T114346
CREATED:20221110T143443Z
LAST-MODIFIED:20221110T143445Z
UID:20000937-1670061600-1670067000@www.shinbugent.be
SUMMARY:Clubtraining - enkel jeugd (geen volwassenen)
DESCRIPTION:Zaterdag 03/12/2022 vindt er enkel en alleen een jeugdtraining plaats. De training voor de groep van de volwassenen wordt geannuleerd.
URL:https://www.shinbugent.be/event/clubtraining-21/
LOCATION:Universitair Sportcentrum (Gent)\, Watersportlaan 3\, Gent\, Oost-Vlaanderen\, 9000\, België
GEO:51.0475487;3.7026469
X-APPLE-STRUCTURED-LOCATION;VALUE=URI;X-ADDRESS=Universitair Sportcentrum (Gent) Watersportlaan 3 Gent Oost-Vlaanderen 9000 België;X-APPLE-RADIUS=500;X-TITLE=Watersportlaan 3:geo:3.7026469,51.0475487
END:VEVENT
BEGIN:VEVENT
DTSTART;TZID=Europe/Brussels:20221201T193000
DTEND;TZID=Europe/Brussels:20221201T210000
DTSTAMP:20260420T114346
CREATED:20220929T060116Z
LAST-MODIFIED:20220929T060116Z
UID:20000968-1669923000-1669928400@www.shinbugent.be
SUMMARY:Clubtraining
DESCRIPTION:
URL:https://www.shinbugent.be/event/clubtraining/2022-12-01/
LOCATION:Universitair Sportcentrum (Gent)\, Watersportlaan 3\, Gent\, Oost-Vlaanderen\, 9000\, België
GEO:51.0475487;3.7026469
X-APPLE-STRUCTURED-LOCATION;VALUE=URI;X-ADDRESS=Universitair Sportcentrum (Gent) Watersportlaan 3 Gent Oost-Vlaanderen 9000 België;X-APPLE-RADIUS=500;X-TITLE=Watersportlaan 3:geo:3.7026469,51.0475487
END:VEVENT
BEGIN:VEVENT
DTSTART;TZID=Europe/Brussels:20221201T193000
DTEND;TZID=Europe/Brussels:20221201T210000
DTSTAMP:20260420T114346
CREATED:20211112T164348Z
LAST-MODIFIED:20211112T164350Z
UID:20000882-1669923000-1669928400@www.shinbugent.be
SUMMARY:Provinciale training
DESCRIPTION:
URL:https://www.shinbugent.be/event/provinciale-training-7/
LOCATION:Universitair Sportcentrum (Gent)\, Watersportlaan 3\, Gent\, Oost-Vlaanderen\, 9000\, België
GEO:51.0475487;3.7026469
X-APPLE-STRUCTURED-LOCATION;VALUE=URI;X-ADDRESS=Universitair Sportcentrum (Gent) Watersportlaan 3 Gent Oost-Vlaanderen 9000 België;X-APPLE-RADIUS=500;X-TITLE=Watersportlaan 3:geo:3.7026469,51.0475487
END:VEVENT
BEGIN:VEVENT
DTSTART;TZID=Europe/Brussels:20221129T190000
DTEND;TZID=Europe/Brussels:20221129T203000
DTSTAMP:20260420T114346
CREATED:20221115T104916Z
LAST-MODIFIED:20221115T104918Z
UID:20001096-1669748400-1669753800@www.shinbugent.be
SUMMARY:Graadexamen volwassenen
DESCRIPTION:
URL:https://www.shinbugent.be/event/graadexamen-volwassenen/
LOCATION:Universitair Sportcentrum (Gent)\, Watersportlaan 3\, Gent\, Oost-Vlaanderen\, 9000\, België
GEO:51.0475487;3.7026469
X-APPLE-STRUCTURED-LOCATION;VALUE=URI;X-ADDRESS=Universitair Sportcentrum (Gent) Watersportlaan 3 Gent Oost-Vlaanderen 9000 België;X-APPLE-RADIUS=500;X-TITLE=Watersportlaan 3:geo:3.7026469,51.0475487
END:VEVENT
BEGIN:VEVENT
DTSTART;TZID=Europe/Brussels:20221129T190000
DTEND;TZID=Europe/Brussels:20221129T203000
DTSTAMP:20260420T114346
CREATED:20220929T060116Z
LAST-MODIFIED:20220929T060116Z
UID:20000952-1669748400-1669753800@www.shinbugent.be
SUMMARY:Clubtraining
DESCRIPTION:
URL:https://www.shinbugent.be/event/clubtraining/2022-11-29/
LOCATION:Universitair Sportcentrum (Gent)\, Watersportlaan 3\, Gent\, Oost-Vlaanderen\, 9000\, België
GEO:51.0475487;3.7026469
X-APPLE-STRUCTURED-LOCATION;VALUE=URI;X-ADDRESS=Universitair Sportcentrum (Gent) Watersportlaan 3 Gent Oost-Vlaanderen 9000 België;X-APPLE-RADIUS=500;X-TITLE=Watersportlaan 3:geo:3.7026469,51.0475487
END:VEVENT
BEGIN:VEVENT
DTSTART;TZID=Europe/Brussels:20221126T133000
DTEND;TZID=Europe/Brussels:20221126T173000
DTSTAMP:20260420T114346
CREATED:20220802T111450Z
LAST-MODIFIED:20220802T111451Z
UID:20000982-1669469400-1669483800@www.shinbugent.be
SUMMARY:JOW 3 - Wachtebeke
DESCRIPTION:
URL:https://www.shinbugent.be/event/jow-3-wachtebeke/
LOCATION:Sporthal Puyenbroeck (Wachtebeke)\, Puidonkdreef 1\, Lochristi\, Oost-Vlaanderen\, 9185\, België
GEO:51.152695;3.8637784
X-APPLE-STRUCTURED-LOCATION;VALUE=URI;X-ADDRESS=Sporthal Puyenbroeck (Wachtebeke) Puidonkdreef 1 Lochristi Oost-Vlaanderen 9185 België;X-APPLE-RADIUS=500;X-TITLE=Puidonkdreef 1:geo:3.8637784,51.152695
END:VEVENT
BEGIN:VEVENT
DTSTART;TZID=Europe/Brussels:20221126T113000
DTEND;TZID=Europe/Brussels:20221126T120000
DTSTAMP:20260420T114346
CREATED:20221115T104530Z
LAST-MODIFIED:20221115T104532Z
UID:20001095-1669462200-1669464000@www.shinbugent.be
SUMMARY:Tussengraadexamen jeugd
DESCRIPTION:Deelname aan het tussengraadexamen kan enkel en alleen wanneer er een mail tot uitnodiging werd ontvangen. Geen mail betekent geen deelname aan het tussengraadexamen.
URL:https://www.shinbugent.be/event/tussengraadexamen-jeugd/
LOCATION:Universitair Sportcentrum (Gent)\, Watersportlaan 3\, Gent\, Oost-Vlaanderen\, 9000\, België
GEO:51.0475487;3.7026469
X-APPLE-STRUCTURED-LOCATION;VALUE=URI;X-ADDRESS=Universitair Sportcentrum (Gent) Watersportlaan 3 Gent Oost-Vlaanderen 9000 België;X-APPLE-RADIUS=500;X-TITLE=Watersportlaan 3:geo:3.7026469,51.0475487
END:VEVENT
BEGIN:VEVENT
DTSTART;TZID=Europe/Brussels:20221126T100000
DTEND;TZID=Europe/Brussels:20221126T113000
DTSTAMP:20260420T114346
CREATED:20220711T170912Z
LAST-MODIFIED:20220711T170914Z
UID:20000936-1669456800-1669462200@www.shinbugent.be
SUMMARY:Clubtraining
DESCRIPTION:
URL:https://www.shinbugent.be/event/clubtraining/2022-11-26/
LOCATION:Universitair Sportcentrum (Gent)\, Watersportlaan 3\, Gent\, Oost-Vlaanderen\, 9000\, België
GEO:51.0475487;3.7026469
X-APPLE-STRUCTURED-LOCATION;VALUE=URI;X-ADDRESS=Universitair Sportcentrum (Gent) Watersportlaan 3 Gent Oost-Vlaanderen 9000 België;X-APPLE-RADIUS=500;X-TITLE=Watersportlaan 3:geo:3.7026469,51.0475487
END:VEVENT
END:VCALENDAR