BEGIN:VCALENDAR
VERSION:2.0
PRODID:-//Shinbu Gent - ECPv6.15.18//NONSGML v1.0//EN
CALSCALE:GREGORIAN
METHOD:PUBLISH
X-ORIGINAL-URL:https://www.shinbugent.be
X-WR-CALDESC:Evenementen voor Shinbu Gent
REFRESH-INTERVAL;VALUE=DURATION:PT1H
X-Robots-Tag:noindex
X-PUBLISHED-TTL:PT1H
BEGIN:VTIMEZONE
TZID:Europe/Brussels
BEGIN:DAYLIGHT
TZOFFSETFROM:+0100
TZOFFSETTO:+0200
TZNAME:CEST
DTSTART:20230326T010000
END:DAYLIGHT
BEGIN:STANDARD
TZOFFSETFROM:+0200
TZOFFSETTO:+0100
TZNAME:CET
DTSTART:20231029T010000
END:STANDARD
BEGIN:DAYLIGHT
TZOFFSETFROM:+0100
TZOFFSETTO:+0200
TZNAME:CEST
DTSTART:20240331T010000
END:DAYLIGHT
BEGIN:STANDARD
TZOFFSETFROM:+0200
TZOFFSETTO:+0100
TZNAME:CET
DTSTART:20241027T010000
END:STANDARD
BEGIN:DAYLIGHT
TZOFFSETFROM:+0100
TZOFFSETTO:+0200
TZNAME:CEST
DTSTART:20250330T010000
END:DAYLIGHT
BEGIN:STANDARD
TZOFFSETFROM:+0200
TZOFFSETTO:+0100
TZNAME:CET
DTSTART:20251026T010000
END:STANDARD
END:VTIMEZONE
BEGIN:VEVENT
DTSTART;TZID=Europe/Brussels:20240127T100000
DTEND;TZID=Europe/Brussels:20240127T113000
DTSTAMP:20260420T092918
CREATED:20230814T113813Z
LAST-MODIFIED:20230814T113816Z
UID:20001316-1706349600-1706355000@www.shinbugent.be
SUMMARY:Clubtraining
DESCRIPTION:clubtraining voor de jeugdgroep en de groep van de volwassenen (+ 30 minuten vrije training na de clubtraining)
URL:https://www.shinbugent.be/event/clubtraining-50/2024-01-27/
LOCATION:Universitair Sportcentrum (Gent)\, Watersportlaan 3\, Gent\, Oost-Vlaanderen\, 9000\, België
GEO:51.0475487;3.7026469
X-APPLE-STRUCTURED-LOCATION;VALUE=URI;X-ADDRESS=Universitair Sportcentrum (Gent) Watersportlaan 3 Gent Oost-Vlaanderen 9000 België;X-APPLE-RADIUS=500;X-TITLE=Watersportlaan 3:geo:3.7026469,51.0475487
END:VEVENT
BEGIN:VEVENT
DTSTART;TZID=Europe/Brussels:20240128T100000
DTEND;TZID=Europe/Brussels:20240128T170000
DTSTAMP:20260420T092918
CREATED:20240116T170627Z
LAST-MODIFIED:20240116T170628Z
UID:20001385-1706436000-1706461200@www.shinbugent.be
SUMMARY:Oost-Vlaams JKA kampioenschap (jongeren & volw.)
DESCRIPTION:Provinciaal kampioenschap JKA jongeren (’s ochtends) en volwassenen (namiddag)
URL:https://www.shinbugent.be/event/oost-vlaams-jka-kampioenschap-jongeren-volw/
LOCATION:Sportcomplex De Ommegang (Lede)\, Ommeganglaan 60 A\, Lede\, Oost-Vlaanderen\, 9340\, België
GEO:50.9591145;3.9780411
X-APPLE-STRUCTURED-LOCATION;VALUE=URI;X-ADDRESS=Sportcomplex De Ommegang (Lede) Ommeganglaan 60 A Lede Oost-Vlaanderen 9340 België;X-APPLE-RADIUS=500;X-TITLE=Ommeganglaan 60 A:geo:3.9780411,50.9591145
END:VEVENT
BEGIN:VEVENT
DTSTART;TZID=Europe/Brussels:20240130T190000
DTEND;TZID=Europe/Brussels:20240130T200000
DTSTAMP:20260420T092918
CREATED:20230814T113115Z
LAST-MODIFIED:20230814T113119Z
UID:20001281-1706641200-1706644800@www.shinbugent.be
SUMMARY:Clubtraining jeugd
DESCRIPTION:clubtraining voor de jeugdgroep (vanaf 8 jaar en minstens 1 seizoen karate-ervaring)
URL:https://www.shinbugent.be/event/clubtraining-jeugd-4/2024-01-30/
LOCATION:Universitair Sportcentrum (Gent)\, Watersportlaan 3\, Gent\, Oost-Vlaanderen\, 9000\, België
GEO:51.0475487;3.7026469
X-APPLE-STRUCTURED-LOCATION;VALUE=URI;X-ADDRESS=Universitair Sportcentrum (Gent) Watersportlaan 3 Gent Oost-Vlaanderen 9000 België;X-APPLE-RADIUS=500;X-TITLE=Watersportlaan 3:geo:3.7026469,51.0475487
END:VEVENT
BEGIN:VEVENT
DTSTART;TZID=Europe/Brussels:20240130T190000
DTEND;TZID=Europe/Brussels:20240130T203000
DTSTAMP:20260420T092918
CREATED:20230816T103526Z
LAST-MODIFIED:20230816T103530Z
UID:20001293-1706641200-1706646600@www.shinbugent.be
SUMMARY:Clubtraining - Defence training
DESCRIPTION:clubtraining voor de groep van volwassenen (vanaf 13 jaar)
URL:https://www.shinbugent.be/event/clubtraining-60/
LOCATION:Universitair Sportcentrum (Gent)\, Watersportlaan 3\, Gent\, Oost-Vlaanderen\, 9000\, België
GEO:51.0475487;3.7026469
X-APPLE-STRUCTURED-LOCATION;VALUE=URI;X-ADDRESS=Universitair Sportcentrum (Gent) Watersportlaan 3 Gent Oost-Vlaanderen 9000 België;X-APPLE-RADIUS=500;X-TITLE=Watersportlaan 3:geo:3.7026469,51.0475487
END:VEVENT
BEGIN:VEVENT
DTSTART;TZID=Europe/Brussels:20240201T193000
DTEND;TZID=Europe/Brussels:20240201T210000
DTSTAMP:20260420T092918
CREATED:20230814T113518Z
LAST-MODIFIED:20230814T113522Z
UID:20001305-1706815800-1706821200@www.shinbugent.be
SUMMARY:Clubtraining
DESCRIPTION:clubtraining voor de groep van volwassenen (vanaf 13 jaar)
URL:https://www.shinbugent.be/event/clubtraining-49/2024-02-01/
LOCATION:Universitair Sportcentrum (Gent)\, Watersportlaan 3\, Gent\, Oost-Vlaanderen\, 9000\, België
GEO:51.0475487;3.7026469
X-APPLE-STRUCTURED-LOCATION;VALUE=URI;X-ADDRESS=Universitair Sportcentrum (Gent) Watersportlaan 3 Gent Oost-Vlaanderen 9000 België;X-APPLE-RADIUS=500;X-TITLE=Watersportlaan 3:geo:3.7026469,51.0475487
END:VEVENT
BEGIN:VEVENT
DTSTART;TZID=Europe/Brussels:20240203T100000
DTEND;TZID=Europe/Brussels:20240203T113000
DTSTAMP:20260420T092918
CREATED:20230814T113813Z
LAST-MODIFIED:20230814T113816Z
UID:20001317-1706954400-1706959800@www.shinbugent.be
SUMMARY:Clubtraining
DESCRIPTION:clubtraining voor de jeugdgroep en de groep van de volwassenen (+ 30 minuten vrije training na de clubtraining)
URL:https://www.shinbugent.be/event/clubtraining-50/2024-02-03/
LOCATION:Universitair Sportcentrum (Gent)\, Watersportlaan 3\, Gent\, Oost-Vlaanderen\, 9000\, België
GEO:51.0475487;3.7026469
X-APPLE-STRUCTURED-LOCATION;VALUE=URI;X-ADDRESS=Universitair Sportcentrum (Gent) Watersportlaan 3 Gent Oost-Vlaanderen 9000 België;X-APPLE-RADIUS=500;X-TITLE=Watersportlaan 3:geo:3.7026469,51.0475487
END:VEVENT
BEGIN:VEVENT
DTSTART;TZID=Europe/Brussels:20240203T140000
DTEND;TZID=Europe/Brussels:20240203T153000
DTSTAMP:20260420T092918
CREATED:20230814T102008Z
LAST-MODIFIED:20230814T102014Z
UID:20001244-1706968800-1706974200@www.shinbugent.be
SUMMARY:Nationale training
DESCRIPTION:Alle graden – minimum 14 jaar
URL:https://www.shinbugent.be/event/nationale-training-13/2024-02-03/
LOCATION:Complexe Gaston Reiff (Braine l’Alleud)\, Rue Ernest Laurent 210\, Braine l'Alleud\, 1420\, België
GEO:50.678249;4.3848448
X-APPLE-STRUCTURED-LOCATION;VALUE=URI;X-ADDRESS=Complexe Gaston Reiff (Braine l’Alleud) Rue Ernest Laurent 210 Braine l'Alleud 1420 België;X-APPLE-RADIUS=500;X-TITLE=Rue Ernest Laurent 210:geo:4.3848448,50.678249
END:VEVENT
BEGIN:VEVENT
DTSTART;TZID=Europe/Brussels:20240203T140000
DTEND;TZID=Europe/Brussels:20240203T153000
DTSTAMP:20260420T092918
CREATED:20230814T102420Z
LAST-MODIFIED:20230814T102426Z
UID:20001250-1706968800-1706974200@www.shinbugent.be
SUMMARY:Nationale training jongeren
DESCRIPTION:Vanaf 7 jaar en vanaf witte gordel
URL:https://www.shinbugent.be/event/nationale-training-jongeren-2/2024-02-03/
LOCATION:Complexe Gaston Reiff (Braine l’Alleud)\, Rue Ernest Laurent 210\, Braine l'Alleud\, 1420\, België
GEO:50.678249;4.3848448
X-APPLE-STRUCTURED-LOCATION;VALUE=URI;X-ADDRESS=Complexe Gaston Reiff (Braine l’Alleud) Rue Ernest Laurent 210 Braine l'Alleud 1420 België;X-APPLE-RADIUS=500;X-TITLE=Rue Ernest Laurent 210:geo:4.3848448,50.678249
END:VEVENT
BEGIN:VEVENT
DTSTART;TZID=Europe/Brussels:20240206T190000
DTEND;TZID=Europe/Brussels:20240206T200000
DTSTAMP:20260420T092918
CREATED:20230814T113115Z
LAST-MODIFIED:20230814T113119Z
UID:20001282-1707246000-1707249600@www.shinbugent.be
SUMMARY:Clubtraining jeugd
DESCRIPTION:clubtraining voor de jeugdgroep (vanaf 8 jaar en minstens 1 seizoen karate-ervaring)
URL:https://www.shinbugent.be/event/clubtraining-jeugd-4/2024-02-06/
LOCATION:Universitair Sportcentrum (Gent)\, Watersportlaan 3\, Gent\, Oost-Vlaanderen\, 9000\, België
GEO:51.0475487;3.7026469
X-APPLE-STRUCTURED-LOCATION;VALUE=URI;X-ADDRESS=Universitair Sportcentrum (Gent) Watersportlaan 3 Gent Oost-Vlaanderen 9000 België;X-APPLE-RADIUS=500;X-TITLE=Watersportlaan 3:geo:3.7026469,51.0475487
END:VEVENT
BEGIN:VEVENT
DTSTART;TZID=Europe/Brussels:20240206T190000
DTEND;TZID=Europe/Brussels:20240206T203000
DTSTAMP:20260420T092918
CREATED:20230814T113322Z
LAST-MODIFIED:20230814T113327Z
UID:20001294-1707246000-1707251400@www.shinbugent.be
SUMMARY:Clubtraining
DESCRIPTION:clubtraining voor de groep van volwassenen (vanaf 13 jaar)
URL:https://www.shinbugent.be/event/clubtraining-48/2024-02-06/
LOCATION:Universitair Sportcentrum (Gent)\, Watersportlaan 3\, Gent\, Oost-Vlaanderen\, 9000\, België
GEO:51.0475487;3.7026469
X-APPLE-STRUCTURED-LOCATION;VALUE=URI;X-ADDRESS=Universitair Sportcentrum (Gent) Watersportlaan 3 Gent Oost-Vlaanderen 9000 België;X-APPLE-RADIUS=500;X-TITLE=Watersportlaan 3:geo:3.7026469,51.0475487
END:VEVENT
BEGIN:VEVENT
DTSTART;TZID=Europe/Brussels:20240208T193000
DTEND;TZID=Europe/Brussels:20240208T210000
DTSTAMP:20260420T092918
CREATED:20230814T113518Z
LAST-MODIFIED:20230814T113522Z
UID:20001306-1707420600-1707426000@www.shinbugent.be
SUMMARY:Clubtraining
DESCRIPTION:clubtraining voor de groep van volwassenen (vanaf 13 jaar)
URL:https://www.shinbugent.be/event/clubtraining-49/2024-02-08/
LOCATION:Universitair Sportcentrum (Gent)\, Watersportlaan 3\, Gent\, Oost-Vlaanderen\, 9000\, België
GEO:51.0475487;3.7026469
X-APPLE-STRUCTURED-LOCATION;VALUE=URI;X-ADDRESS=Universitair Sportcentrum (Gent) Watersportlaan 3 Gent Oost-Vlaanderen 9000 België;X-APPLE-RADIUS=500;X-TITLE=Watersportlaan 3:geo:3.7026469,51.0475487
END:VEVENT
BEGIN:VEVENT
DTSTART;TZID=Europe/Brussels:20240208T193000
DTEND;TZID=Europe/Brussels:20240208T210000
DTSTAMP:20260420T092918
CREATED:20230816T104622Z
LAST-MODIFIED:20230816T104626Z
UID:20001376-1707420600-1707426000@www.shinbugent.be
SUMMARY:Competitietraining Shinbu
DESCRIPTION:handschoenen + springtouw meenemen
URL:https://www.shinbugent.be/event/competitietraining-shinbu-3/2024-02-08/
LOCATION:Universitair Sportcentrum (Gent)\, Watersportlaan 3\, Gent\, Oost-Vlaanderen\, 9000\, België
GEO:51.0475487;3.7026469
X-APPLE-STRUCTURED-LOCATION;VALUE=URI;X-ADDRESS=Universitair Sportcentrum (Gent) Watersportlaan 3 Gent Oost-Vlaanderen 9000 België;X-APPLE-RADIUS=500;X-TITLE=Watersportlaan 3:geo:3.7026469,51.0475487
END:VEVENT
BEGIN:VEVENT
DTSTART;TZID=Europe/Brussels:20240210T100000
DTEND;TZID=Europe/Brussels:20240210T113000
DTSTAMP:20260420T092918
CREATED:20230814T113813Z
LAST-MODIFIED:20230814T113816Z
UID:20001318-1707559200-1707564600@www.shinbugent.be
SUMMARY:Clubtraining
DESCRIPTION:clubtraining voor de jeugdgroep en de groep van de volwassenen (+ 30 minuten vrije training na de clubtraining)
URL:https://www.shinbugent.be/event/clubtraining-50/2024-02-10/
LOCATION:Universitair Sportcentrum (Gent)\, Watersportlaan 3\, Gent\, Oost-Vlaanderen\, 9000\, België
GEO:51.0475487;3.7026469
X-APPLE-STRUCTURED-LOCATION;VALUE=URI;X-ADDRESS=Universitair Sportcentrum (Gent) Watersportlaan 3 Gent Oost-Vlaanderen 9000 België;X-APPLE-RADIUS=500;X-TITLE=Watersportlaan 3:geo:3.7026469,51.0475487
END:VEVENT
BEGIN:VEVENT
DTSTART;TZID=Europe/Brussels:20240210T133000
DTEND;TZID=Europe/Brussels:20240210T170000
DTSTAMP:20260420T092918
CREATED:20231009T101326Z
LAST-MODIFIED:20231009T101329Z
UID:20001381-1707571800-1707584400@www.shinbugent.be
SUMMARY:JOW 7 - Deinze
DESCRIPTION:jeugdoefenwedstrijd (7/8)
URL:https://www.shinbugent.be/event/jow-7-deinze/
LOCATION:Sporthal Palaestra\, Kastanjelaan 35\, Deinze\, 9800\, België
END:VEVENT
BEGIN:VEVENT
DTSTART;TZID=Europe/Brussels:20240213T190000
DTEND;TZID=Europe/Brussels:20240213T200000
DTSTAMP:20260420T092918
CREATED:20230814T113115Z
LAST-MODIFIED:20230814T113119Z
UID:20001283-1707850800-1707854400@www.shinbugent.be
SUMMARY:Clubtraining jeugd
DESCRIPTION:clubtraining voor de jeugdgroep (vanaf 8 jaar en minstens 1 seizoen karate-ervaring)
URL:https://www.shinbugent.be/event/clubtraining-jeugd-4/2024-02-13/
LOCATION:Universitair Sportcentrum (Gent)\, Watersportlaan 3\, Gent\, Oost-Vlaanderen\, 9000\, België
GEO:51.0475487;3.7026469
X-APPLE-STRUCTURED-LOCATION;VALUE=URI;X-ADDRESS=Universitair Sportcentrum (Gent) Watersportlaan 3 Gent Oost-Vlaanderen 9000 België;X-APPLE-RADIUS=500;X-TITLE=Watersportlaan 3:geo:3.7026469,51.0475487
END:VEVENT
BEGIN:VEVENT
DTSTART;TZID=Europe/Brussels:20240213T190000
DTEND;TZID=Europe/Brussels:20240213T203000
DTSTAMP:20260420T092918
CREATED:20230814T113322Z
LAST-MODIFIED:20230814T113327Z
UID:20001295-1707850800-1707856200@www.shinbugent.be
SUMMARY:Clubtraining
DESCRIPTION:clubtraining voor de groep van volwassenen (vanaf 13 jaar)
URL:https://www.shinbugent.be/event/clubtraining-48/2024-02-13/
LOCATION:Universitair Sportcentrum (Gent)\, Watersportlaan 3\, Gent\, Oost-Vlaanderen\, 9000\, België
GEO:51.0475487;3.7026469
X-APPLE-STRUCTURED-LOCATION;VALUE=URI;X-ADDRESS=Universitair Sportcentrum (Gent) Watersportlaan 3 Gent Oost-Vlaanderen 9000 België;X-APPLE-RADIUS=500;X-TITLE=Watersportlaan 3:geo:3.7026469,51.0475487
END:VEVENT
BEGIN:VEVENT
DTSTART;TZID=Europe/Brussels:20240215T193000
DTEND;TZID=Europe/Brussels:20240215T210000
DTSTAMP:20260420T092918
CREATED:20230814T113518Z
LAST-MODIFIED:20230814T113522Z
UID:20001307-1708025400-1708030800@www.shinbugent.be
SUMMARY:Clubtraining
DESCRIPTION:clubtraining voor de groep van volwassenen (vanaf 13 jaar)
URL:https://www.shinbugent.be/event/clubtraining-49/2024-02-15/
LOCATION:Universitair Sportcentrum (Gent)\, Watersportlaan 3\, Gent\, Oost-Vlaanderen\, 9000\, België
GEO:51.0475487;3.7026469
X-APPLE-STRUCTURED-LOCATION;VALUE=URI;X-ADDRESS=Universitair Sportcentrum (Gent) Watersportlaan 3 Gent Oost-Vlaanderen 9000 België;X-APPLE-RADIUS=500;X-TITLE=Watersportlaan 3:geo:3.7026469,51.0475487
END:VEVENT
BEGIN:VEVENT
DTSTART;TZID=Europe/Brussels:20240217T100000
DTEND;TZID=Europe/Brussels:20240217T113000
DTSTAMP:20260420T092918
CREATED:20230814T113813Z
LAST-MODIFIED:20230814T113816Z
UID:20001319-1708164000-1708169400@www.shinbugent.be
SUMMARY:Clubtraining
DESCRIPTION:clubtraining voor de jeugdgroep en de groep van de volwassenen (+ 30 minuten vrije training na de clubtraining)
URL:https://www.shinbugent.be/event/clubtraining-50/2024-02-17/
LOCATION:Universitair Sportcentrum (Gent)\, Watersportlaan 3\, Gent\, Oost-Vlaanderen\, 9000\, België
GEO:51.0475487;3.7026469
X-APPLE-STRUCTURED-LOCATION;VALUE=URI;X-ADDRESS=Universitair Sportcentrum (Gent) Watersportlaan 3 Gent Oost-Vlaanderen 9000 België;X-APPLE-RADIUS=500;X-TITLE=Watersportlaan 3:geo:3.7026469,51.0475487
END:VEVENT
BEGIN:VEVENT
DTSTART;TZID=Europe/Brussels:20240220T190000
DTEND;TZID=Europe/Brussels:20240220T200000
DTSTAMP:20260420T092918
CREATED:20230814T113115Z
LAST-MODIFIED:20230814T113119Z
UID:20001284-1708455600-1708459200@www.shinbugent.be
SUMMARY:Clubtraining jeugd
DESCRIPTION:clubtraining voor de jeugdgroep (vanaf 8 jaar en minstens 1 seizoen karate-ervaring)
URL:https://www.shinbugent.be/event/clubtraining-jeugd-4/2024-02-20/
LOCATION:Universitair Sportcentrum (Gent)\, Watersportlaan 3\, Gent\, Oost-Vlaanderen\, 9000\, België
GEO:51.0475487;3.7026469
X-APPLE-STRUCTURED-LOCATION;VALUE=URI;X-ADDRESS=Universitair Sportcentrum (Gent) Watersportlaan 3 Gent Oost-Vlaanderen 9000 België;X-APPLE-RADIUS=500;X-TITLE=Watersportlaan 3:geo:3.7026469,51.0475487
END:VEVENT
BEGIN:VEVENT
DTSTART;TZID=Europe/Brussels:20240220T190000
DTEND;TZID=Europe/Brussels:20240220T203000
DTSTAMP:20260420T092918
CREATED:20230814T113322Z
LAST-MODIFIED:20230814T113327Z
UID:20001296-1708455600-1708461000@www.shinbugent.be
SUMMARY:Clubtraining
DESCRIPTION:clubtraining voor de groep van volwassenen (vanaf 13 jaar)
URL:https://www.shinbugent.be/event/clubtraining-48/2024-02-20/
LOCATION:Universitair Sportcentrum (Gent)\, Watersportlaan 3\, Gent\, Oost-Vlaanderen\, 9000\, België
GEO:51.0475487;3.7026469
X-APPLE-STRUCTURED-LOCATION;VALUE=URI;X-ADDRESS=Universitair Sportcentrum (Gent) Watersportlaan 3 Gent Oost-Vlaanderen 9000 België;X-APPLE-RADIUS=500;X-TITLE=Watersportlaan 3:geo:3.7026469,51.0475487
END:VEVENT
BEGIN:VEVENT
DTSTART;TZID=Europe/Brussels:20240220T190000
DTEND;TZID=Europe/Brussels:20240220T203000
DTSTAMP:20260420T092918
CREATED:20230816T104622Z
LAST-MODIFIED:20230816T104626Z
UID:20001377-1708455600-1708461000@www.shinbugent.be
SUMMARY:Competitietraining Shinbu
DESCRIPTION:handschoenen + springtouw meenemen
URL:https://www.shinbugent.be/event/competitietraining-shinbu-3/2024-02-20/
LOCATION:Universitair Sportcentrum (Gent)\, Watersportlaan 3\, Gent\, Oost-Vlaanderen\, 9000\, België
GEO:51.0475487;3.7026469
X-APPLE-STRUCTURED-LOCATION;VALUE=URI;X-ADDRESS=Universitair Sportcentrum (Gent) Watersportlaan 3 Gent Oost-Vlaanderen 9000 België;X-APPLE-RADIUS=500;X-TITLE=Watersportlaan 3:geo:3.7026469,51.0475487
END:VEVENT
BEGIN:VEVENT
DTSTART;TZID=Europe/Brussels:20240222T193000
DTEND;TZID=Europe/Brussels:20240222T210000
DTSTAMP:20260420T092918
CREATED:20230814T103514Z
LAST-MODIFIED:20230814T103518Z
UID:20001258-1708630200-1708635600@www.shinbugent.be
SUMMARY:Provinciale training
DESCRIPTION:
URL:https://www.shinbugent.be/event/provinciale-training-15/
LOCATION:Universitair Sportcentrum (Gent)\, Watersportlaan 3\, Gent\, Oost-Vlaanderen\, 9000\, België
GEO:51.0475487;3.7026469
X-APPLE-STRUCTURED-LOCATION;VALUE=URI;X-ADDRESS=Universitair Sportcentrum (Gent) Watersportlaan 3 Gent Oost-Vlaanderen 9000 België;X-APPLE-RADIUS=500;X-TITLE=Watersportlaan 3:geo:3.7026469,51.0475487
END:VEVENT
BEGIN:VEVENT
DTSTART;TZID=Europe/Brussels:20240222T193000
DTEND;TZID=Europe/Brussels:20240222T210000
DTSTAMP:20260420T092918
CREATED:20230814T113518Z
LAST-MODIFIED:20230814T113522Z
UID:20001308-1708630200-1708635600@www.shinbugent.be
SUMMARY:Clubtraining
DESCRIPTION:clubtraining voor de groep van volwassenen (vanaf 13 jaar)
URL:https://www.shinbugent.be/event/clubtraining-49/2024-02-22/
LOCATION:Universitair Sportcentrum (Gent)\, Watersportlaan 3\, Gent\, Oost-Vlaanderen\, 9000\, België
GEO:51.0475487;3.7026469
X-APPLE-STRUCTURED-LOCATION;VALUE=URI;X-ADDRESS=Universitair Sportcentrum (Gent) Watersportlaan 3 Gent Oost-Vlaanderen 9000 België;X-APPLE-RADIUS=500;X-TITLE=Watersportlaan 3:geo:3.7026469,51.0475487
END:VEVENT
BEGIN:VEVENT
DTSTART;TZID=Europe/Brussels:20240224T100000
DTEND;TZID=Europe/Brussels:20240224T113000
DTSTAMP:20260420T092918
CREATED:20230814T113813Z
LAST-MODIFIED:20230814T113816Z
UID:20001320-1708768800-1708774200@www.shinbugent.be
SUMMARY:Clubtraining
DESCRIPTION:clubtraining voor de jeugdgroep en de groep van de volwassenen (+ 30 minuten vrije training na de clubtraining)
URL:https://www.shinbugent.be/event/clubtraining-50/2024-02-24/
LOCATION:Universitair Sportcentrum (Gent)\, Watersportlaan 3\, Gent\, Oost-Vlaanderen\, 9000\, België
GEO:51.0475487;3.7026469
X-APPLE-STRUCTURED-LOCATION;VALUE=URI;X-ADDRESS=Universitair Sportcentrum (Gent) Watersportlaan 3 Gent Oost-Vlaanderen 9000 België;X-APPLE-RADIUS=500;X-TITLE=Watersportlaan 3:geo:3.7026469,51.0475487
END:VEVENT
BEGIN:VEVENT
DTSTART;TZID=Europe/Brussels:20240224T140000
DTEND;TZID=Europe/Brussels:20240224T200000
DTSTAMP:20260420T092918
CREATED:20230814T103729Z
LAST-MODIFIED:20230814T103732Z
UID:20001259-1708783200-1708804800@www.shinbugent.be
SUMMARY:JOW 8  + receptie - Landegem
DESCRIPTION:jeugdoefenwedstrijd (8/8)
URL:https://www.shinbugent.be/event/jow-8-receptie-landegem/
LOCATION:Sporthal Oostbroek (Nevele)\, Zeistraat 41\, Nevele\, Oost-Vlaanderen\, 9850\, België
GEO:51.0332204;3.5553656
X-APPLE-STRUCTURED-LOCATION;VALUE=URI;X-ADDRESS=Sporthal Oostbroek (Nevele) Zeistraat 41 Nevele Oost-Vlaanderen 9850 België;X-APPLE-RADIUS=500;X-TITLE=Zeistraat 41:geo:3.5553656,51.0332204
END:VEVENT
BEGIN:VEVENT
DTSTART;TZID=Europe/Brussels:20240225T100000
DTEND;TZID=Europe/Brussels:20240225T170000
DTSTAMP:20260420T092918
CREATED:20231009T101632Z
LAST-MODIFIED:20231009T101635Z
UID:20001382-1708855200-1708880400@www.shinbugent.be
SUMMARY:Vlaams Kampioenschap Ippon
DESCRIPTION:Meer precieze info over uur en locatie volgt nog
URL:https://www.shinbugent.be/event/vlaams-kampioenschap-ippon-2/
LOCATION:Universitair Sportcentrum (Gent)\, Watersportlaan 3\, Gent\, Oost-Vlaanderen\, 9000\, België
GEO:51.0475487;3.7026469
X-APPLE-STRUCTURED-LOCATION;VALUE=URI;X-ADDRESS=Universitair Sportcentrum (Gent) Watersportlaan 3 Gent Oost-Vlaanderen 9000 België;X-APPLE-RADIUS=500;X-TITLE=Watersportlaan 3:geo:3.7026469,51.0475487
END:VEVENT
BEGIN:VEVENT
DTSTART;TZID=Europe/Brussels:20240227T190000
DTEND;TZID=Europe/Brussels:20240227T200000
DTSTAMP:20260420T092918
CREATED:20230814T113115Z
LAST-MODIFIED:20230814T113119Z
UID:20001285-1709060400-1709064000@www.shinbugent.be
SUMMARY:Clubtraining jeugd
DESCRIPTION:clubtraining voor de jeugdgroep (vanaf 8 jaar en minstens 1 seizoen karate-ervaring)
URL:https://www.shinbugent.be/event/clubtraining-jeugd-4/2024-02-27/
LOCATION:Universitair Sportcentrum (Gent)\, Watersportlaan 3\, Gent\, Oost-Vlaanderen\, 9000\, België
GEO:51.0475487;3.7026469
X-APPLE-STRUCTURED-LOCATION;VALUE=URI;X-ADDRESS=Universitair Sportcentrum (Gent) Watersportlaan 3 Gent Oost-Vlaanderen 9000 België;X-APPLE-RADIUS=500;X-TITLE=Watersportlaan 3:geo:3.7026469,51.0475487
END:VEVENT
BEGIN:VEVENT
DTSTART;TZID=Europe/Brussels:20240227T190000
DTEND;TZID=Europe/Brussels:20240227T203000
DTSTAMP:20260420T092918
CREATED:20230814T113322Z
LAST-MODIFIED:20230814T113327Z
UID:20001297-1709060400-1709065800@www.shinbugent.be
SUMMARY:Clubtraining
DESCRIPTION:clubtraining voor de groep van volwassenen (vanaf 13 jaar)
URL:https://www.shinbugent.be/event/clubtraining-48/2024-02-27/
LOCATION:Universitair Sportcentrum (Gent)\, Watersportlaan 3\, Gent\, Oost-Vlaanderen\, 9000\, België
GEO:51.0475487;3.7026469
X-APPLE-STRUCTURED-LOCATION;VALUE=URI;X-ADDRESS=Universitair Sportcentrum (Gent) Watersportlaan 3 Gent Oost-Vlaanderen 9000 België;X-APPLE-RADIUS=500;X-TITLE=Watersportlaan 3:geo:3.7026469,51.0475487
END:VEVENT
BEGIN:VEVENT
DTSTART;TZID=Europe/Brussels:20240229T193000
DTEND;TZID=Europe/Brussels:20240229T210000
DTSTAMP:20260420T092918
CREATED:20230814T113518Z
LAST-MODIFIED:20230814T113522Z
UID:20001309-1709235000-1709240400@www.shinbugent.be
SUMMARY:Clubtraining
DESCRIPTION:clubtraining voor de groep van volwassenen (vanaf 13 jaar)
URL:https://www.shinbugent.be/event/clubtraining-49/2024-02-29/
LOCATION:Universitair Sportcentrum (Gent)\, Watersportlaan 3\, Gent\, Oost-Vlaanderen\, 9000\, België
GEO:51.0475487;3.7026469
X-APPLE-STRUCTURED-LOCATION;VALUE=URI;X-ADDRESS=Universitair Sportcentrum (Gent) Watersportlaan 3 Gent Oost-Vlaanderen 9000 België;X-APPLE-RADIUS=500;X-TITLE=Watersportlaan 3:geo:3.7026469,51.0475487
END:VEVENT
BEGIN:VEVENT
DTSTART;TZID=Europe/Brussels:20240229T193000
DTEND;TZID=Europe/Brussels:20240229T210000
DTSTAMP:20260420T092918
CREATED:20230816T104831Z
LAST-MODIFIED:20230816T104834Z
UID:20001378-1709235000-1709240400@www.shinbugent.be
SUMMARY:Competitietraining Shinbu
DESCRIPTION:handschoenen + springtouw meenemen
URL:https://www.shinbugent.be/event/competitietraining-shinbu-4/
LOCATION:Universitair Sportcentrum (Gent)\, Watersportlaan 3\, Gent\, Oost-Vlaanderen\, 9000\, België
GEO:51.0475487;3.7026469
X-APPLE-STRUCTURED-LOCATION;VALUE=URI;X-ADDRESS=Universitair Sportcentrum (Gent) Watersportlaan 3 Gent Oost-Vlaanderen 9000 België;X-APPLE-RADIUS=500;X-TITLE=Watersportlaan 3:geo:3.7026469,51.0475487
END:VEVENT
END:VCALENDAR