BEGIN:VCALENDAR
VERSION:2.0
PRODID:-//Shinbu Gent - ECPv6.15.18//NONSGML v1.0//EN
CALSCALE:GREGORIAN
METHOD:PUBLISH
X-WR-CALNAME:Shinbu Gent
X-ORIGINAL-URL:https://www.shinbugent.be
X-WR-CALDESC:Evenementen voor Shinbu Gent
REFRESH-INTERVAL;VALUE=DURATION:PT1H
X-Robots-Tag:noindex
X-PUBLISHED-TTL:PT1H
BEGIN:VTIMEZONE
TZID:Europe/Brussels
BEGIN:DAYLIGHT
TZOFFSETFROM:+0100
TZOFFSETTO:+0200
TZNAME:CEST
DTSTART:20210328T010000
END:DAYLIGHT
BEGIN:STANDARD
TZOFFSETFROM:+0200
TZOFFSETTO:+0100
TZNAME:CET
DTSTART:20211031T010000
END:STANDARD
BEGIN:DAYLIGHT
TZOFFSETFROM:+0100
TZOFFSETTO:+0200
TZNAME:CEST
DTSTART:20220327T010000
END:DAYLIGHT
BEGIN:STANDARD
TZOFFSETFROM:+0200
TZOFFSETTO:+0100
TZNAME:CET
DTSTART:20221030T010000
END:STANDARD
BEGIN:DAYLIGHT
TZOFFSETFROM:+0100
TZOFFSETTO:+0200
TZNAME:CEST
DTSTART:20230326T010000
END:DAYLIGHT
BEGIN:STANDARD
TZOFFSETFROM:+0200
TZOFFSETTO:+0100
TZNAME:CET
DTSTART:20231029T010000
END:STANDARD
END:VTIMEZONE
BEGIN:VEVENT
DTSTART;TZID=Europe/Brussels:20221201T193000
DTEND;TZID=Europe/Brussels:20221201T210000
DTSTAMP:20260420T154950
CREATED:20211112T164348Z
LAST-MODIFIED:20211112T164350Z
UID:20000882-1669923000-1669928400@www.shinbugent.be
SUMMARY:Provinciale training
DESCRIPTION:
URL:https://www.shinbugent.be/event/provinciale-training-7/
LOCATION:Universitair Sportcentrum (Gent)\, Watersportlaan 3\, Gent\, Oost-Vlaanderen\, 9000\, België
GEO:51.0475487;3.7026469
X-APPLE-STRUCTURED-LOCATION;VALUE=URI;X-ADDRESS=Universitair Sportcentrum (Gent) Watersportlaan 3 Gent Oost-Vlaanderen 9000 België;X-APPLE-RADIUS=500;X-TITLE=Watersportlaan 3:geo:3.7026469,51.0475487
END:VEVENT
BEGIN:VEVENT
DTSTART;TZID=Europe/Brussels:20221129T190000
DTEND;TZID=Europe/Brussels:20221129T203000
DTSTAMP:20260420T154950
CREATED:20221115T104916Z
LAST-MODIFIED:20221115T104918Z
UID:20001096-1669748400-1669753800@www.shinbugent.be
SUMMARY:Graadexamen volwassenen
DESCRIPTION:
URL:https://www.shinbugent.be/event/graadexamen-volwassenen/
LOCATION:Universitair Sportcentrum (Gent)\, Watersportlaan 3\, Gent\, Oost-Vlaanderen\, 9000\, België
GEO:51.0475487;3.7026469
X-APPLE-STRUCTURED-LOCATION;VALUE=URI;X-ADDRESS=Universitair Sportcentrum (Gent) Watersportlaan 3 Gent Oost-Vlaanderen 9000 België;X-APPLE-RADIUS=500;X-TITLE=Watersportlaan 3:geo:3.7026469,51.0475487
END:VEVENT
BEGIN:VEVENT
DTSTART;TZID=Europe/Brussels:20221129T190000
DTEND;TZID=Europe/Brussels:20221129T203000
DTSTAMP:20260420T154950
CREATED:20220929T060116Z
LAST-MODIFIED:20220929T060116Z
UID:20000952-1669748400-1669753800@www.shinbugent.be
SUMMARY:Clubtraining
DESCRIPTION:
URL:https://www.shinbugent.be/event/clubtraining/2022-11-29/
LOCATION:Universitair Sportcentrum (Gent)\, Watersportlaan 3\, Gent\, Oost-Vlaanderen\, 9000\, België
GEO:51.0475487;3.7026469
X-APPLE-STRUCTURED-LOCATION;VALUE=URI;X-ADDRESS=Universitair Sportcentrum (Gent) Watersportlaan 3 Gent Oost-Vlaanderen 9000 België;X-APPLE-RADIUS=500;X-TITLE=Watersportlaan 3:geo:3.7026469,51.0475487
END:VEVENT
BEGIN:VEVENT
DTSTART;TZID=Europe/Brussels:20221126T133000
DTEND;TZID=Europe/Brussels:20221126T173000
DTSTAMP:20260420T154950
CREATED:20220802T111450Z
LAST-MODIFIED:20220802T111451Z
UID:20000982-1669469400-1669483800@www.shinbugent.be
SUMMARY:JOW 3 - Wachtebeke
DESCRIPTION:
URL:https://www.shinbugent.be/event/jow-3-wachtebeke/
LOCATION:Sporthal Puyenbroeck (Wachtebeke)\, Puidonkdreef 1\, Lochristi\, Oost-Vlaanderen\, 9185\, België
GEO:51.152695;3.8637784
X-APPLE-STRUCTURED-LOCATION;VALUE=URI;X-ADDRESS=Sporthal Puyenbroeck (Wachtebeke) Puidonkdreef 1 Lochristi Oost-Vlaanderen 9185 België;X-APPLE-RADIUS=500;X-TITLE=Puidonkdreef 1:geo:3.8637784,51.152695
END:VEVENT
BEGIN:VEVENT
DTSTART;TZID=Europe/Brussels:20221126T113000
DTEND;TZID=Europe/Brussels:20221126T120000
DTSTAMP:20260420T154950
CREATED:20221115T104530Z
LAST-MODIFIED:20221115T104532Z
UID:20001095-1669462200-1669464000@www.shinbugent.be
SUMMARY:Tussengraadexamen jeugd
DESCRIPTION:Deelname aan het tussengraadexamen kan enkel en alleen wanneer er een mail tot uitnodiging werd ontvangen. Geen mail betekent geen deelname aan het tussengraadexamen.
URL:https://www.shinbugent.be/event/tussengraadexamen-jeugd/
LOCATION:Universitair Sportcentrum (Gent)\, Watersportlaan 3\, Gent\, Oost-Vlaanderen\, 9000\, België
GEO:51.0475487;3.7026469
X-APPLE-STRUCTURED-LOCATION;VALUE=URI;X-ADDRESS=Universitair Sportcentrum (Gent) Watersportlaan 3 Gent Oost-Vlaanderen 9000 België;X-APPLE-RADIUS=500;X-TITLE=Watersportlaan 3:geo:3.7026469,51.0475487
END:VEVENT
BEGIN:VEVENT
DTSTART;TZID=Europe/Brussels:20221126T100000
DTEND;TZID=Europe/Brussels:20221126T113000
DTSTAMP:20260420T154950
CREATED:20220711T170912Z
LAST-MODIFIED:20220711T170914Z
UID:20000936-1669456800-1669462200@www.shinbugent.be
SUMMARY:Clubtraining
DESCRIPTION:
URL:https://www.shinbugent.be/event/clubtraining/2022-11-26/
LOCATION:Universitair Sportcentrum (Gent)\, Watersportlaan 3\, Gent\, Oost-Vlaanderen\, 9000\, België
GEO:51.0475487;3.7026469
X-APPLE-STRUCTURED-LOCATION;VALUE=URI;X-ADDRESS=Universitair Sportcentrum (Gent) Watersportlaan 3 Gent Oost-Vlaanderen 9000 België;X-APPLE-RADIUS=500;X-TITLE=Watersportlaan 3:geo:3.7026469,51.0475487
END:VEVENT
BEGIN:VEVENT
DTSTART;TZID=Europe/Brussels:20221124T193000
DTEND;TZID=Europe/Brussels:20221124T210000
DTSTAMP:20260420T154950
CREATED:20220929T060116Z
LAST-MODIFIED:20220929T060116Z
UID:20000967-1669318200-1669323600@www.shinbugent.be
SUMMARY:Clubtraining
DESCRIPTION:
URL:https://www.shinbugent.be/event/clubtraining/2022-11-24/
LOCATION:Universitair Sportcentrum (Gent)\, Watersportlaan 3\, Gent\, Oost-Vlaanderen\, 9000\, België
GEO:51.0475487;3.7026469
X-APPLE-STRUCTURED-LOCATION;VALUE=URI;X-ADDRESS=Universitair Sportcentrum (Gent) Watersportlaan 3 Gent Oost-Vlaanderen 9000 België;X-APPLE-RADIUS=500;X-TITLE=Watersportlaan 3:geo:3.7026469,51.0475487
END:VEVENT
BEGIN:VEVENT
DTSTART;TZID=Europe/Brussels:20221124T193000
DTEND;TZID=Europe/Brussels:20221124T210000
DTSTAMP:20260420T154950
CREATED:20211112T170829Z
LAST-MODIFIED:20220819T135602Z
UID:20000891-1669318200-1669323600@www.shinbugent.be
SUMMARY:Ippon competitietraining
DESCRIPTION:
URL:https://www.shinbugent.be/event/provinciale-competitietraining-11/
LOCATION:Universitair Sportcentrum (Gent)\, Watersportlaan 3\, Gent\, Oost-Vlaanderen\, 9000\, België
GEO:51.0475487;3.7026469
X-APPLE-STRUCTURED-LOCATION;VALUE=URI;X-ADDRESS=Universitair Sportcentrum (Gent) Watersportlaan 3 Gent Oost-Vlaanderen 9000 België;X-APPLE-RADIUS=500;X-TITLE=Watersportlaan 3:geo:3.7026469,51.0475487
END:VEVENT
BEGIN:VEVENT
DTSTART;TZID=Europe/Brussels:20221122T190000
DTEND;TZID=Europe/Brussels:20221122T203000
DTSTAMP:20260420T154950
CREATED:20220929T060116Z
LAST-MODIFIED:20220929T060116Z
UID:20000951-1669143600-1669149000@www.shinbugent.be
SUMMARY:Clubtraining
DESCRIPTION:
URL:https://www.shinbugent.be/event/clubtraining/2022-11-22/
LOCATION:Universitair Sportcentrum (Gent)\, Watersportlaan 3\, Gent\, Oost-Vlaanderen\, 9000\, België
GEO:51.0475487;3.7026469
X-APPLE-STRUCTURED-LOCATION;VALUE=URI;X-ADDRESS=Universitair Sportcentrum (Gent) Watersportlaan 3 Gent Oost-Vlaanderen 9000 België;X-APPLE-RADIUS=500;X-TITLE=Watersportlaan 3:geo:3.7026469,51.0475487
END:VEVENT
BEGIN:VEVENT
DTSTART;TZID=Europe/Brussels:20221119T100000
DTEND;TZID=Europe/Brussels:20221119T113000
DTSTAMP:20260420T154950
CREATED:20220711T170912Z
LAST-MODIFIED:20220711T170914Z
UID:20000935-1668852000-1668857400@www.shinbugent.be
SUMMARY:Clubtraining
DESCRIPTION:
URL:https://www.shinbugent.be/event/clubtraining/2022-11-19/
LOCATION:Universitair Sportcentrum (Gent)\, Watersportlaan 3\, Gent\, Oost-Vlaanderen\, 9000\, België
GEO:51.0475487;3.7026469
X-APPLE-STRUCTURED-LOCATION;VALUE=URI;X-ADDRESS=Universitair Sportcentrum (Gent) Watersportlaan 3 Gent Oost-Vlaanderen 9000 België;X-APPLE-RADIUS=500;X-TITLE=Watersportlaan 3:geo:3.7026469,51.0475487
END:VEVENT
BEGIN:VEVENT
DTSTART;TZID=Europe/Brussels:20221117T193000
DTEND;TZID=Europe/Brussels:20221117T210000
DTSTAMP:20260420T154950
CREATED:20221110T143043Z
LAST-MODIFIED:20221110T143045Z
UID:20000966-1668713400-1668718800@www.shinbugent.be
SUMMARY:Clubtraining - gastles sensei S. Wille
DESCRIPTION:
URL:https://www.shinbugent.be/event/clubtraining-20/
LOCATION:Universitair Sportcentrum (Gent)\, Watersportlaan 3\, Gent\, Oost-Vlaanderen\, 9000\, België
GEO:51.0475487;3.7026469
X-APPLE-STRUCTURED-LOCATION;VALUE=URI;X-ADDRESS=Universitair Sportcentrum (Gent) Watersportlaan 3 Gent Oost-Vlaanderen 9000 België;X-APPLE-RADIUS=500;X-TITLE=Watersportlaan 3:geo:3.7026469,51.0475487
END:VEVENT
BEGIN:VEVENT
DTSTART;TZID=Europe/Brussels:20221117T193000
DTEND;TZID=Europe/Brussels:20221117T210000
DTSTAMP:20260420T154950
CREATED:20220929T060116Z
LAST-MODIFIED:20220929T060116Z
UID:20001094-1668713400-1668718800@www.shinbugent.be
SUMMARY:Clubtraining
DESCRIPTION:
URL:https://www.shinbugent.be/event/clubtraining/2022-11-17/
LOCATION:Universitair Sportcentrum (Gent)\, Watersportlaan 3\, Gent\, Oost-Vlaanderen\, 9000\, België
GEO:51.0475487;3.7026469
X-APPLE-STRUCTURED-LOCATION;VALUE=URI;X-ADDRESS=Universitair Sportcentrum (Gent) Watersportlaan 3 Gent Oost-Vlaanderen 9000 België;X-APPLE-RADIUS=500;X-TITLE=Watersportlaan 3:geo:3.7026469,51.0475487
END:VEVENT
BEGIN:VEVENT
DTSTART;TZID=Europe/Brussels:20221115T190000
DTEND;TZID=Europe/Brussels:20221115T203000
DTSTAMP:20260420T154950
CREATED:20220929T060116Z
LAST-MODIFIED:20220929T060116Z
UID:20000950-1668538800-1668544200@www.shinbugent.be
SUMMARY:Clubtraining
DESCRIPTION:
URL:https://www.shinbugent.be/event/clubtraining/2022-11-15/
LOCATION:Universitair Sportcentrum (Gent)\, Watersportlaan 3\, Gent\, Oost-Vlaanderen\, 9000\, België
GEO:51.0475487;3.7026469
X-APPLE-STRUCTURED-LOCATION;VALUE=URI;X-ADDRESS=Universitair Sportcentrum (Gent) Watersportlaan 3 Gent Oost-Vlaanderen 9000 België;X-APPLE-RADIUS=500;X-TITLE=Watersportlaan 3:geo:3.7026469,51.0475487
END:VEVENT
BEGIN:VEVENT
DTSTART;TZID=Europe/Brussels:20221113T100000
DTEND;TZID=Europe/Brussels:20221113T140000
DTSTAMP:20260420T154950
CREATED:20220802T105026Z
LAST-MODIFIED:20220901T133134Z
UID:20000978-1668333600-1668348000@www.shinbugent.be
SUMMARY:JOW 2 - Nevele (Landegem)
DESCRIPTION:
URL:https://www.shinbugent.be/event/jow-2-nog-te-bepalen/
LOCATION:Sporthal Oostbroek (Nevele)\, Zeistraat 41\, Nevele\, Oost-Vlaanderen\, 9850\, België
GEO:51.0332204;3.5553656
X-APPLE-STRUCTURED-LOCATION;VALUE=URI;X-ADDRESS=Sporthal Oostbroek (Nevele) Zeistraat 41 Nevele Oost-Vlaanderen 9850 België;X-APPLE-RADIUS=500;X-TITLE=Zeistraat 41:geo:3.5553656,51.0332204
END:VEVENT
BEGIN:VEVENT
DTSTART;TZID=Europe/Brussels:20221112T100000
DTEND;TZID=Europe/Brussels:20221112T113000
DTSTAMP:20260420T154950
CREATED:20220711T170912Z
LAST-MODIFIED:20220711T170914Z
UID:20000934-1668247200-1668252600@www.shinbugent.be
SUMMARY:Clubtraining
DESCRIPTION:
URL:https://www.shinbugent.be/event/clubtraining/2022-11-12/
LOCATION:Universitair Sportcentrum (Gent)\, Watersportlaan 3\, Gent\, Oost-Vlaanderen\, 9000\, België
GEO:51.0475487;3.7026469
X-APPLE-STRUCTURED-LOCATION;VALUE=URI;X-ADDRESS=Universitair Sportcentrum (Gent) Watersportlaan 3 Gent Oost-Vlaanderen 9000 België;X-APPLE-RADIUS=500;X-TITLE=Watersportlaan 3:geo:3.7026469,51.0475487
END:VEVENT
BEGIN:VEVENT
DTSTART;TZID=Europe/Brussels:20221112T090000
DTEND;TZID=Europe/Brussels:20221112T170000
DTSTAMP:20260420T154950
CREATED:20220802T111207Z
LAST-MODIFIED:20220802T111207Z
UID:20000981-1668243600-1668272400@www.shinbugent.be
SUMMARY:JKA stage Brussels
DESCRIPTION:
URL:https://www.shinbugent.be/event/jka-stage-brussels/
LOCATION:Sportcomplex VUB (Elsene) via toegang 8\, Triomflaan\, Elsene\, 1050\, België
GEO:50.8248666;4.3960629
X-APPLE-STRUCTURED-LOCATION;VALUE=URI;X-ADDRESS=Sportcomplex VUB (Elsene) via toegang 8 Triomflaan Elsene 1050 België;X-APPLE-RADIUS=500;X-TITLE=Triomflaan:geo:4.3960629,50.8248666
END:VEVENT
BEGIN:VEVENT
DTSTART;TZID=Europe/Brussels:20221110T193000
DTEND;TZID=Europe/Brussels:20221110T210000
DTSTAMP:20260420T154950
CREATED:20220929T060116Z
LAST-MODIFIED:20220929T060116Z
UID:20000965-1668108600-1668114000@www.shinbugent.be
SUMMARY:Clubtraining
DESCRIPTION:
URL:https://www.shinbugent.be/event/clubtraining/2022-11-10/
LOCATION:Universitair Sportcentrum (Gent)\, Watersportlaan 3\, Gent\, Oost-Vlaanderen\, 9000\, België
GEO:51.0475487;3.7026469
X-APPLE-STRUCTURED-LOCATION;VALUE=URI;X-ADDRESS=Universitair Sportcentrum (Gent) Watersportlaan 3 Gent Oost-Vlaanderen 9000 België;X-APPLE-RADIUS=500;X-TITLE=Watersportlaan 3:geo:3.7026469,51.0475487
END:VEVENT
BEGIN:VEVENT
DTSTART;TZID=Europe/Brussels:20221108T190000
DTEND;TZID=Europe/Brussels:20221108T203000
DTSTAMP:20260420T154950
CREATED:20220929T060116Z
LAST-MODIFIED:20220929T060116Z
UID:20000949-1667934000-1667939400@www.shinbugent.be
SUMMARY:Clubtraining
DESCRIPTION:
URL:https://www.shinbugent.be/event/clubtraining/2022-11-08/
LOCATION:Universitair Sportcentrum (Gent)\, Watersportlaan 3\, Gent\, Oost-Vlaanderen\, 9000\, België
GEO:51.0475487;3.7026469
X-APPLE-STRUCTURED-LOCATION;VALUE=URI;X-ADDRESS=Universitair Sportcentrum (Gent) Watersportlaan 3 Gent Oost-Vlaanderen 9000 België;X-APPLE-RADIUS=500;X-TITLE=Watersportlaan 3:geo:3.7026469,51.0475487
END:VEVENT
BEGIN:VEVENT
DTSTART;TZID=Europe/Brussels:20221108T190000
DTEND;TZID=Europe/Brussels:20221108T203000
DTSTAMP:20260420T154950
CREATED:20211112T164247Z
LAST-MODIFIED:20211112T164249Z
UID:20000881-1667934000-1667939400@www.shinbugent.be
SUMMARY:Provinciale instructietraining (PIT)
DESCRIPTION:
URL:https://www.shinbugent.be/event/provinciale-instructietraining-pit-4/
LOCATION:Universitair Sportcentrum (Gent)\, Watersportlaan 3\, Gent\, Oost-Vlaanderen\, 9000\, België
GEO:51.0475487;3.7026469
X-APPLE-STRUCTURED-LOCATION;VALUE=URI;X-ADDRESS=Universitair Sportcentrum (Gent) Watersportlaan 3 Gent Oost-Vlaanderen 9000 België;X-APPLE-RADIUS=500;X-TITLE=Watersportlaan 3:geo:3.7026469,51.0475487
END:VEVENT
BEGIN:VEVENT
DTSTART;TZID=Europe/Brussels:20221105T140000
DTEND;TZID=Europe/Brussels:20221105T153000
DTSTAMP:20260420T154950
CREATED:20220802T110553Z
LAST-MODIFIED:20220802T110553Z
UID:20000980-1667656800-1667662200@www.shinbugent.be
SUMMARY:Nationale training
DESCRIPTION:
URL:https://www.shinbugent.be/event/nationale-training-6/
LOCATION:Complexe Gaston Reiff (Braine l’Alleud)\, Rue Ernest Laurent 210\, Braine l'Alleud\, 1420\, België
GEO:50.678249;4.3848448
X-APPLE-STRUCTURED-LOCATION;VALUE=URI;X-ADDRESS=Complexe Gaston Reiff (Braine l’Alleud) Rue Ernest Laurent 210 Braine l'Alleud 1420 België;X-APPLE-RADIUS=500;X-TITLE=Rue Ernest Laurent 210:geo:4.3848448,50.678249
END:VEVENT
BEGIN:VEVENT
DTSTART;TZID=Europe/Brussels:20221105T100000
DTEND;TZID=Europe/Brussels:20221105T113000
DTSTAMP:20260420T154950
CREATED:20220711T170912Z
LAST-MODIFIED:20220711T170914Z
UID:20000933-1667642400-1667647800@www.shinbugent.be
SUMMARY:Clubtraining
DESCRIPTION:
URL:https://www.shinbugent.be/event/clubtraining/2022-11-05/
LOCATION:Universitair Sportcentrum (Gent)\, Watersportlaan 3\, Gent\, Oost-Vlaanderen\, 9000\, België
GEO:51.0475487;3.7026469
X-APPLE-STRUCTURED-LOCATION;VALUE=URI;X-ADDRESS=Universitair Sportcentrum (Gent) Watersportlaan 3 Gent Oost-Vlaanderen 9000 België;X-APPLE-RADIUS=500;X-TITLE=Watersportlaan 3:geo:3.7026469,51.0475487
END:VEVENT
BEGIN:VEVENT
DTSTART;TZID=Europe/Brussels:20221103T193000
DTEND;TZID=Europe/Brussels:20221103T210000
DTSTAMP:20260420T154950
CREATED:20220929T060116Z
LAST-MODIFIED:20220929T060116Z
UID:20000964-1667503800-1667509200@www.shinbugent.be
SUMMARY:Clubtraining
DESCRIPTION:
URL:https://www.shinbugent.be/event/clubtraining/2022-11-03/
LOCATION:Universitair Sportcentrum (Gent)\, Watersportlaan 3\, Gent\, Oost-Vlaanderen\, 9000\, België
GEO:51.0475487;3.7026469
X-APPLE-STRUCTURED-LOCATION;VALUE=URI;X-ADDRESS=Universitair Sportcentrum (Gent) Watersportlaan 3 Gent Oost-Vlaanderen 9000 België;X-APPLE-RADIUS=500;X-TITLE=Watersportlaan 3:geo:3.7026469,51.0475487
END:VEVENT
BEGIN:VEVENT
DTSTART;TZID=Europe/Brussels:20221103T193000
DTEND;TZID=Europe/Brussels:20221103T210000
DTSTAMP:20260420T154950
CREATED:20211112T170724Z
LAST-MODIFIED:20220802T110221Z
UID:20000890-1667503800-1667509200@www.shinbugent.be
SUMMARY:Ippon competitietraining
DESCRIPTION:
URL:https://www.shinbugent.be/event/provinciale-competitietraining-10/
LOCATION:Universitair Sportcentrum (Gent)\, Watersportlaan 3\, Gent\, Oost-Vlaanderen\, 9000\, België
GEO:51.0475487;3.7026469
X-APPLE-STRUCTURED-LOCATION;VALUE=URI;X-ADDRESS=Universitair Sportcentrum (Gent) Watersportlaan 3 Gent Oost-Vlaanderen 9000 België;X-APPLE-RADIUS=500;X-TITLE=Watersportlaan 3:geo:3.7026469,51.0475487
END:VEVENT
BEGIN:VEVENT
DTSTART;TZID=Europe/Brussels:20221101T190000
DTEND;TZID=Europe/Brussels:20221101T203000
DTSTAMP:20260420T154950
CREATED:20220711T170912Z
LAST-MODIFIED:20220802T110317Z
UID:20000973-1667329200-1667334600@www.shinbugent.be
SUMMARY:Geen clubtraining - Allerheiligen
DESCRIPTION:
URL:https://www.shinbugent.be/event/clubtraining-2022-11-01/
LOCATION:Universitair Sportcentrum (Gent)\, Watersportlaan 3\, Gent\, Oost-Vlaanderen\, 9000\, België
GEO:51.0475487;3.7026469
X-APPLE-STRUCTURED-LOCATION;VALUE=URI;X-ADDRESS=Universitair Sportcentrum (Gent) Watersportlaan 3 Gent Oost-Vlaanderen 9000 België;X-APPLE-RADIUS=500;X-TITLE=Watersportlaan 3:geo:3.7026469,51.0475487
END:VEVENT
BEGIN:VEVENT
DTSTART;TZID=Europe/Brussels:20221030T090000
DTEND;TZID=Europe/Brussels:20221030T180000
DTSTAMP:20260420T154950
CREATED:20220802T110116Z
LAST-MODIFIED:20220802T110116Z
UID:20000979-1667120400-1667152800@www.shinbugent.be
SUMMARY:The Dynamic Karate Cup XII
DESCRIPTION:
URL:https://www.shinbugent.be/event/the-dynamic-karate-cup-xii/
LOCATION:Sporthal Hernekouter  (Herne)\, Hernekouter 1 \, Herne\, 1540
GEO:50.7263407;4.0171807
X-APPLE-STRUCTURED-LOCATION;VALUE=URI;X-ADDRESS=Sporthal Hernekouter  (Herne) Hernekouter 1  Herne 1540;X-APPLE-RADIUS=500;X-TITLE=Hernekouter 1:geo:4.0171807,50.7263407
END:VEVENT
BEGIN:VEVENT
DTSTART;TZID=Europe/Brussels:20221029T100000
DTEND;TZID=Europe/Brussels:20221029T113000
DTSTAMP:20260420T154950
CREATED:20220711T170912Z
LAST-MODIFIED:20220711T170914Z
UID:20000932-1667037600-1667043000@www.shinbugent.be
SUMMARY:Clubtraining
DESCRIPTION:
URL:https://www.shinbugent.be/event/clubtraining/2022-10-29/
LOCATION:Universitair Sportcentrum (Gent)\, Watersportlaan 3\, Gent\, Oost-Vlaanderen\, 9000\, België
GEO:51.0475487;3.7026469
X-APPLE-STRUCTURED-LOCATION;VALUE=URI;X-ADDRESS=Universitair Sportcentrum (Gent) Watersportlaan 3 Gent Oost-Vlaanderen 9000 België;X-APPLE-RADIUS=500;X-TITLE=Watersportlaan 3:geo:3.7026469,51.0475487
END:VEVENT
BEGIN:VEVENT
DTSTART;TZID=Europe/Brussels:20221027T193000
DTEND;TZID=Europe/Brussels:20221027T210000
DTSTAMP:20260420T154950
CREATED:20220929T060116Z
LAST-MODIFIED:20220929T060116Z
UID:20000963-1666899000-1666904400@www.shinbugent.be
SUMMARY:Clubtraining
DESCRIPTION:
URL:https://www.shinbugent.be/event/clubtraining/2022-10-27/
LOCATION:Universitair Sportcentrum (Gent)\, Watersportlaan 3\, Gent\, Oost-Vlaanderen\, 9000\, België
GEO:51.0475487;3.7026469
X-APPLE-STRUCTURED-LOCATION;VALUE=URI;X-ADDRESS=Universitair Sportcentrum (Gent) Watersportlaan 3 Gent Oost-Vlaanderen 9000 België;X-APPLE-RADIUS=500;X-TITLE=Watersportlaan 3:geo:3.7026469,51.0475487
END:VEVENT
BEGIN:VEVENT
DTSTART;TZID=Europe/Brussels:20221027T193000
DTEND;TZID=Europe/Brussels:20221027T210000
DTSTAMP:20260420T154950
CREATED:20220824T221725Z
LAST-MODIFIED:20220824T221726Z
UID:20001090-1666899000-1666904400@www.shinbugent.be
SUMMARY:Club-competitietraining
DESCRIPTION:
URL:https://www.shinbugent.be/event/club-competitietraining-6/
LOCATION:Universitair Sportcentrum (Gent)\, Watersportlaan 3\, Gent\, Oost-Vlaanderen\, 9000\, België
GEO:51.0475487;3.7026469
X-APPLE-STRUCTURED-LOCATION;VALUE=URI;X-ADDRESS=Universitair Sportcentrum (Gent) Watersportlaan 3 Gent Oost-Vlaanderen 9000 België;X-APPLE-RADIUS=500;X-TITLE=Watersportlaan 3:geo:3.7026469,51.0475487
END:VEVENT
BEGIN:VEVENT
DTSTART;TZID=Europe/Brussels:20221025T190000
DTEND;TZID=Europe/Brussels:20221025T203000
DTSTAMP:20260420T154950
CREATED:20220929T060116Z
LAST-MODIFIED:20220929T060116Z
UID:20000948-1666724400-1666729800@www.shinbugent.be
SUMMARY:Clubtraining
DESCRIPTION:
URL:https://www.shinbugent.be/event/clubtraining/2022-10-25/
LOCATION:Universitair Sportcentrum (Gent)\, Watersportlaan 3\, Gent\, Oost-Vlaanderen\, 9000\, België
GEO:51.0475487;3.7026469
X-APPLE-STRUCTURED-LOCATION;VALUE=URI;X-ADDRESS=Universitair Sportcentrum (Gent) Watersportlaan 3 Gent Oost-Vlaanderen 9000 België;X-APPLE-RADIUS=500;X-TITLE=Watersportlaan 3:geo:3.7026469,51.0475487
END:VEVENT
BEGIN:VEVENT
DTSTART;TZID=Europe/Brussels:20221022T100000
DTEND;TZID=Europe/Brussels:20221022T113000
DTSTAMP:20260420T154950
CREATED:20220711T170912Z
LAST-MODIFIED:20220711T170914Z
UID:20000931-1666432800-1666438200@www.shinbugent.be
SUMMARY:Clubtraining
DESCRIPTION:
URL:https://www.shinbugent.be/event/clubtraining/2022-10-22/
LOCATION:Universitair Sportcentrum (Gent)\, Watersportlaan 3\, Gent\, Oost-Vlaanderen\, 9000\, België
GEO:51.0475487;3.7026469
X-APPLE-STRUCTURED-LOCATION;VALUE=URI;X-ADDRESS=Universitair Sportcentrum (Gent) Watersportlaan 3 Gent Oost-Vlaanderen 9000 België;X-APPLE-RADIUS=500;X-TITLE=Watersportlaan 3:geo:3.7026469,51.0475487
END:VEVENT
END:VCALENDAR