BEGIN:VCALENDAR
VERSION:2.0
PRODID:-//Shinbu Gent - ECPv6.15.18//NONSGML v1.0//EN
CALSCALE:GREGORIAN
METHOD:PUBLISH
X-WR-CALNAME:Shinbu Gent
X-ORIGINAL-URL:https://www.shinbugent.be
X-WR-CALDESC:Evenementen voor Shinbu Gent
REFRESH-INTERVAL;VALUE=DURATION:PT1H
X-Robots-Tag:noindex
X-PUBLISHED-TTL:PT1H
BEGIN:VTIMEZONE
TZID:Europe/Brussels
BEGIN:DAYLIGHT
TZOFFSETFROM:+0100
TZOFFSETTO:+0200
TZNAME:CEST
DTSTART:20230326T010000
END:DAYLIGHT
BEGIN:STANDARD
TZOFFSETFROM:+0200
TZOFFSETTO:+0100
TZNAME:CET
DTSTART:20231029T010000
END:STANDARD
BEGIN:DAYLIGHT
TZOFFSETFROM:+0100
TZOFFSETTO:+0200
TZNAME:CEST
DTSTART:20240331T010000
END:DAYLIGHT
BEGIN:STANDARD
TZOFFSETFROM:+0200
TZOFFSETTO:+0100
TZNAME:CET
DTSTART:20241027T010000
END:STANDARD
BEGIN:DAYLIGHT
TZOFFSETFROM:+0100
TZOFFSETTO:+0200
TZNAME:CEST
DTSTART:20250330T010000
END:DAYLIGHT
BEGIN:STANDARD
TZOFFSETFROM:+0200
TZOFFSETTO:+0100
TZNAME:CET
DTSTART:20251026T010000
END:STANDARD
END:VTIMEZONE
BEGIN:VEVENT
DTSTART;TZID=Europe/Brussels:20240307T193000
DTEND;TZID=Europe/Brussels:20240307T210000
DTSTAMP:20260420T152827
CREATED:20240303T173243Z
LAST-MODIFIED:20240303T173246Z
UID:20001379-1709839800-1709845200@www.shinbugent.be
SUMMARY:Competitietraining Shinbu
DESCRIPTION:handschoenen + springtouw meenemen
URL:https://www.shinbugent.be/event/competitietraining-shinbu-5/
LOCATION:Universitair Sportcentrum (Gent)\, Watersportlaan 3\, Gent\, Oost-Vlaanderen\, 9000\, België
GEO:51.0475487;3.7026469
X-APPLE-STRUCTURED-LOCATION;VALUE=URI;X-ADDRESS=Universitair Sportcentrum (Gent) Watersportlaan 3 Gent Oost-Vlaanderen 9000 België;X-APPLE-RADIUS=500;X-TITLE=Watersportlaan 3:geo:3.7026469,51.0475487
END:VEVENT
BEGIN:VEVENT
DTSTART;TZID=Europe/Brussels:20240309T100000
DTEND;TZID=Europe/Brussels:20240309T113000
DTSTAMP:20260420T152827
CREATED:20230814T113813Z
LAST-MODIFIED:20230814T113816Z
UID:20001322-1709978400-1709983800@www.shinbugent.be
SUMMARY:Clubtraining
DESCRIPTION:clubtraining voor de jeugdgroep en de groep van de volwassenen (+ 30 minuten vrije training na de clubtraining)
URL:https://www.shinbugent.be/event/clubtraining-50/2024-03-09/
LOCATION:Universitair Sportcentrum (Gent)\, Watersportlaan 3\, Gent\, Oost-Vlaanderen\, 9000\, België
GEO:51.0475487;3.7026469
X-APPLE-STRUCTURED-LOCATION;VALUE=URI;X-ADDRESS=Universitair Sportcentrum (Gent) Watersportlaan 3 Gent Oost-Vlaanderen 9000 België;X-APPLE-RADIUS=500;X-TITLE=Watersportlaan 3:geo:3.7026469,51.0475487
END:VEVENT
BEGIN:VEVENT
DTSTART;TZID=Europe/Brussels:20240309T100000
DTEND;TZID=Europe/Brussels:20240309T113000
DTSTAMP:20260420T152827
CREATED:20240218T161912Z
LAST-MODIFIED:20240218T161913Z
UID:20001387-1709978400-1709983800@www.shinbugent.be
SUMMARY:clubtraining jeugd : gastles
DESCRIPTION:Gastlesgever voor de jeugd tijdens de training
URL:https://www.shinbugent.be/event/clubtraining-jeugd-gastles/
LOCATION:Universitair Sportcentrum (Gent)\, Watersportlaan 3\, Gent\, Oost-Vlaanderen\, 9000\, België
GEO:51.0475487;3.7026469
X-APPLE-STRUCTURED-LOCATION;VALUE=URI;X-ADDRESS=Universitair Sportcentrum (Gent) Watersportlaan 3 Gent Oost-Vlaanderen 9000 België;X-APPLE-RADIUS=500;X-TITLE=Watersportlaan 3:geo:3.7026469,51.0475487
END:VEVENT
BEGIN:VEVENT
DTSTART;TZID=Europe/Brussels:20240309T100000
DTEND;TZID=Europe/Brussels:20240309T170000
DTSTAMP:20260420T152827
CREATED:20230814T104050Z
LAST-MODIFIED:20230814T104054Z
UID:20001261-1709978400-1710003600@www.shinbugent.be
SUMMARY:Trainingsdag Zottegem
DESCRIPTION:
URL:https://www.shinbugent.be/event/trainingsdag-zottegem/
LOCATION:Stedelijke Sporthal “Bevegemse Vijvers” (Zottegem)\, Bevegemsevijvers 1\, Zottegem\, 9620\, België
GEO:50.8683915;3.8284737
X-APPLE-STRUCTURED-LOCATION;VALUE=URI;X-ADDRESS=Stedelijke Sporthal “Bevegemse Vijvers” (Zottegem) Bevegemsevijvers 1 Zottegem 9620 België;X-APPLE-RADIUS=500;X-TITLE=Bevegemsevijvers 1:geo:3.8284737,50.8683915
END:VEVENT
BEGIN:VEVENT
DTSTART;TZID=Europe/Brussels:20240310T100000
DTEND;TZID=Europe/Brussels:20240310T170000
DTSTAMP:20260420T152827
CREATED:20230814T104248Z
LAST-MODIFIED:20230814T104254Z
UID:20001262-1710064800-1710090000@www.shinbugent.be
SUMMARY:JKA Vlaams kampioenschap jongeren
DESCRIPTION:wedstrijd op basis van selectie
URL:https://www.shinbugent.be/event/jka-vlaams-kampioenschap-jongeren/
LOCATION:Sporthal De Stormmeeuw (Knokke)\, Edward Verheyestraat 14\, Knokke\, 8300
GEO:51.3398289;3.2906249
X-APPLE-STRUCTURED-LOCATION;VALUE=URI;X-ADDRESS=Sporthal De Stormmeeuw (Knokke) Edward Verheyestraat 14 Knokke 8300;X-APPLE-RADIUS=500;X-TITLE=Edward Verheyestraat 14:geo:3.2906249,51.3398289
END:VEVENT
BEGIN:VEVENT
DTSTART;TZID=Europe/Brussels:20240312T190000
DTEND;TZID=Europe/Brussels:20240312T200000
DTSTAMP:20260420T152827
CREATED:20230814T113115Z
LAST-MODIFIED:20230814T113119Z
UID:20001287-1710270000-1710273600@www.shinbugent.be
SUMMARY:Clubtraining jeugd
DESCRIPTION:clubtraining voor de jeugdgroep (vanaf 8 jaar en minstens 1 seizoen karate-ervaring)
URL:https://www.shinbugent.be/event/clubtraining-jeugd-4/2024-03-12/
LOCATION:Universitair Sportcentrum (Gent)\, Watersportlaan 3\, Gent\, Oost-Vlaanderen\, 9000\, België
GEO:51.0475487;3.7026469
X-APPLE-STRUCTURED-LOCATION;VALUE=URI;X-ADDRESS=Universitair Sportcentrum (Gent) Watersportlaan 3 Gent Oost-Vlaanderen 9000 België;X-APPLE-RADIUS=500;X-TITLE=Watersportlaan 3:geo:3.7026469,51.0475487
END:VEVENT
BEGIN:VEVENT
DTSTART;TZID=Europe/Brussels:20240312T190000
DTEND;TZID=Europe/Brussels:20240312T203000
DTSTAMP:20260420T152827
CREATED:20230814T113322Z
LAST-MODIFIED:20230814T113327Z
UID:20001299-1710270000-1710275400@www.shinbugent.be
SUMMARY:Clubtraining
DESCRIPTION:clubtraining voor de groep van volwassenen (vanaf 13 jaar)
URL:https://www.shinbugent.be/event/clubtraining-48/2024-03-12/
LOCATION:Universitair Sportcentrum (Gent)\, Watersportlaan 3\, Gent\, Oost-Vlaanderen\, 9000\, België
GEO:51.0475487;3.7026469
X-APPLE-STRUCTURED-LOCATION;VALUE=URI;X-ADDRESS=Universitair Sportcentrum (Gent) Watersportlaan 3 Gent Oost-Vlaanderen 9000 België;X-APPLE-RADIUS=500;X-TITLE=Watersportlaan 3:geo:3.7026469,51.0475487
END:VEVENT
BEGIN:VEVENT
DTSTART;TZID=Europe/Brussels:20240314T193000
DTEND;TZID=Europe/Brussels:20240314T210000
DTSTAMP:20260420T152827
CREATED:20230814T113518Z
LAST-MODIFIED:20230814T113522Z
UID:20001311-1710444600-1710450000@www.shinbugent.be
SUMMARY:Clubtraining
DESCRIPTION:clubtraining voor de groep van volwassenen (vanaf 13 jaar)
URL:https://www.shinbugent.be/event/clubtraining-49/2024-03-14/
LOCATION:Universitair Sportcentrum (Gent)\, Watersportlaan 3\, Gent\, Oost-Vlaanderen\, 9000\, België
GEO:51.0475487;3.7026469
X-APPLE-STRUCTURED-LOCATION;VALUE=URI;X-ADDRESS=Universitair Sportcentrum (Gent) Watersportlaan 3 Gent Oost-Vlaanderen 9000 België;X-APPLE-RADIUS=500;X-TITLE=Watersportlaan 3:geo:3.7026469,51.0475487
END:VEVENT
BEGIN:VEVENT
DTSTART;TZID=Europe/Brussels:20240314T193000
DTEND;TZID=Europe/Brussels:20240314T210000
DTSTAMP:20260420T152827
CREATED:20240303T181150Z
LAST-MODIFIED:20240303T181151Z
UID:20001389-1710444600-1710450000@www.shinbugent.be
SUMMARY:Competitietraining Shinbu
DESCRIPTION:handschoenen + springtouw meenemen
URL:https://www.shinbugent.be/event/competitietraining-shinbu-6/
LOCATION:Universitair Sportcentrum (Gent)\, Watersportlaan 3\, Gent\, Oost-Vlaanderen\, 9000\, België
GEO:51.0475487;3.7026469
X-APPLE-STRUCTURED-LOCATION;VALUE=URI;X-ADDRESS=Universitair Sportcentrum (Gent) Watersportlaan 3 Gent Oost-Vlaanderen 9000 België;X-APPLE-RADIUS=500;X-TITLE=Watersportlaan 3:geo:3.7026469,51.0475487
END:VEVENT
BEGIN:VEVENT
DTSTART;TZID=Europe/Brussels:20240316T100000
DTEND;TZID=Europe/Brussels:20240316T113000
DTSTAMP:20260420T152827
CREATED:20240303T173924Z
LAST-MODIFIED:20240303T173925Z
UID:20001388-1710583200-1710588600@www.shinbugent.be
SUMMARY:Clubtraining
DESCRIPTION:clubtraining voor de jeugdgroep en de groep van de volwassenen (+ 30 minuten vrije training na de clubtraining)
URL:https://www.shinbugent.be/event/clubtraining-65/
LOCATION:Universitair Sportcentrum (Gent)\, Watersportlaan 3\, Gent\, Oost-Vlaanderen\, 9000\, België
GEO:51.0475487;3.7026469
X-APPLE-STRUCTURED-LOCATION;VALUE=URI;X-ADDRESS=Universitair Sportcentrum (Gent) Watersportlaan 3 Gent Oost-Vlaanderen 9000 België;X-APPLE-RADIUS=500;X-TITLE=Watersportlaan 3:geo:3.7026469,51.0475487
END:VEVENT
BEGIN:VEVENT
DTSTART;TZID=Europe/Brussels:20240317T100000
DTEND;TZID=Europe/Brussels:20240317T170000
DTSTAMP:20260420T152827
CREATED:20230814T104438Z
LAST-MODIFIED:20230814T104443Z
UID:20001263-1710669600-1710694800@www.shinbugent.be
SUMMARY:Kazoku Cup - ploegentornooi
DESCRIPTION:
URL:https://www.shinbugent.be/event/kazoku-cup-ploegentornooi-2/
LOCATION:Gemeentelijke Sporthal (Assenede)\, Kapelledreef 4\, Assenede\, Oost-Vlaanderen\, 9960\, België
GEO:51.2303427;3.7493673
X-APPLE-STRUCTURED-LOCATION;VALUE=URI;X-ADDRESS=Gemeentelijke Sporthal (Assenede) Kapelledreef 4 Assenede Oost-Vlaanderen 9960 België;X-APPLE-RADIUS=500;X-TITLE=Kapelledreef 4:geo:3.7493673,51.2303427
END:VEVENT
BEGIN:VEVENT
DTSTART;TZID=Europe/Brussels:20240319T190000
DTEND;TZID=Europe/Brussels:20240319T200000
DTSTAMP:20260420T152827
CREATED:20230814T113115Z
LAST-MODIFIED:20230814T113119Z
UID:20001288-1710874800-1710878400@www.shinbugent.be
SUMMARY:Clubtraining jeugd
DESCRIPTION:clubtraining voor de jeugdgroep (vanaf 8 jaar en minstens 1 seizoen karate-ervaring)
URL:https://www.shinbugent.be/event/clubtraining-jeugd-4/2024-03-19/
LOCATION:Universitair Sportcentrum (Gent)\, Watersportlaan 3\, Gent\, Oost-Vlaanderen\, 9000\, België
GEO:51.0475487;3.7026469
X-APPLE-STRUCTURED-LOCATION;VALUE=URI;X-ADDRESS=Universitair Sportcentrum (Gent) Watersportlaan 3 Gent Oost-Vlaanderen 9000 België;X-APPLE-RADIUS=500;X-TITLE=Watersportlaan 3:geo:3.7026469,51.0475487
END:VEVENT
BEGIN:VEVENT
DTSTART;TZID=Europe/Brussels:20240319T190000
DTEND;TZID=Europe/Brussels:20240319T203000
DTSTAMP:20260420T152827
CREATED:20230814T113322Z
LAST-MODIFIED:20230814T113327Z
UID:20001300-1710874800-1710880200@www.shinbugent.be
SUMMARY:Clubtraining
DESCRIPTION:clubtraining voor de groep van volwassenen (vanaf 13 jaar)
URL:https://www.shinbugent.be/event/clubtraining-48/2024-03-19/
LOCATION:Universitair Sportcentrum (Gent)\, Watersportlaan 3\, Gent\, Oost-Vlaanderen\, 9000\, België
GEO:51.0475487;3.7026469
X-APPLE-STRUCTURED-LOCATION;VALUE=URI;X-ADDRESS=Universitair Sportcentrum (Gent) Watersportlaan 3 Gent Oost-Vlaanderen 9000 België;X-APPLE-RADIUS=500;X-TITLE=Watersportlaan 3:geo:3.7026469,51.0475487
END:VEVENT
BEGIN:VEVENT
DTSTART;TZID=Europe/Brussels:20240321T193000
DTEND;TZID=Europe/Brussels:20240321T210000
DTSTAMP:20260420T152827
CREATED:20230814T104733Z
LAST-MODIFIED:20230814T104738Z
UID:20001264-1711049400-1711054800@www.shinbugent.be
SUMMARY:Provinciale training
DESCRIPTION:
URL:https://www.shinbugent.be/event/provinciale-training-16/2024-03-21/
LOCATION:Universitair Sportcentrum (Gent)\, Watersportlaan 3\, Gent\, Oost-Vlaanderen\, 9000\, België
GEO:51.0475487;3.7026469
X-APPLE-STRUCTURED-LOCATION;VALUE=URI;X-ADDRESS=Universitair Sportcentrum (Gent) Watersportlaan 3 Gent Oost-Vlaanderen 9000 België;X-APPLE-RADIUS=500;X-TITLE=Watersportlaan 3:geo:3.7026469,51.0475487
END:VEVENT
BEGIN:VEVENT
DTSTART;TZID=Europe/Brussels:20240321T193000
DTEND;TZID=Europe/Brussels:20240321T210000
DTSTAMP:20260420T152827
CREATED:20230814T113518Z
LAST-MODIFIED:20230814T113522Z
UID:20001312-1711049400-1711054800@www.shinbugent.be
SUMMARY:Clubtraining
DESCRIPTION:clubtraining voor de groep van volwassenen (vanaf 13 jaar)
URL:https://www.shinbugent.be/event/clubtraining-49/2024-03-21/
LOCATION:Universitair Sportcentrum (Gent)\, Watersportlaan 3\, Gent\, Oost-Vlaanderen\, 9000\, België
GEO:51.0475487;3.7026469
X-APPLE-STRUCTURED-LOCATION;VALUE=URI;X-ADDRESS=Universitair Sportcentrum (Gent) Watersportlaan 3 Gent Oost-Vlaanderen 9000 België;X-APPLE-RADIUS=500;X-TITLE=Watersportlaan 3:geo:3.7026469,51.0475487
END:VEVENT
BEGIN:VEVENT
DTSTART;TZID=Europe/Brussels:20240323T100000
DTEND;TZID=Europe/Brussels:20240323T113000
DTSTAMP:20260420T152827
CREATED:20230814T113813Z
LAST-MODIFIED:20230814T113816Z
UID:20001324-1711188000-1711193400@www.shinbugent.be
SUMMARY:Clubtraining
DESCRIPTION:clubtraining voor de jeugdgroep en de groep van de volwassenen (+ 30 minuten vrije training na de clubtraining)
URL:https://www.shinbugent.be/event/clubtraining-50/2024-03-23/
LOCATION:Universitair Sportcentrum (Gent)\, Watersportlaan 3\, Gent\, Oost-Vlaanderen\, 9000\, België
GEO:51.0475487;3.7026469
X-APPLE-STRUCTURED-LOCATION;VALUE=URI;X-ADDRESS=Universitair Sportcentrum (Gent) Watersportlaan 3 Gent Oost-Vlaanderen 9000 België;X-APPLE-RADIUS=500;X-TITLE=Watersportlaan 3:geo:3.7026469,51.0475487
END:VEVENT
BEGIN:VEVENT
DTSTART;TZID=Europe/Brussels:20240324T083000
DTEND;TZID=Europe/Brussels:20240324T200000
DTSTAMP:20260420T152827
CREATED:20231009T102010Z
LAST-MODIFIED:20231009T102013Z
UID:20001383-1711269000-1711310400@www.shinbugent.be
SUMMARY:Maitoshi Kachi Trophy
DESCRIPTION:wedstrijd WKF – alle stijlen
URL:https://www.shinbugent.be/event/maitoshi-kachi-trophy/
LOCATION:sporthal De Veldmuis\, Felicien Cauwelstraat 39\, Geraardsbergen\, 9500\, België
END:VEVENT
BEGIN:VEVENT
DTSTART;TZID=Europe/Brussels:20240326T190000
DTEND;TZID=Europe/Brussels:20240326T200000
DTSTAMP:20260420T152827
CREATED:20230814T113115Z
LAST-MODIFIED:20230814T113119Z
UID:20001289-1711479600-1711483200@www.shinbugent.be
SUMMARY:Clubtraining jeugd
DESCRIPTION:clubtraining voor de jeugdgroep (vanaf 8 jaar en minstens 1 seizoen karate-ervaring)
URL:https://www.shinbugent.be/event/clubtraining-jeugd-4/2024-03-26/
LOCATION:Universitair Sportcentrum (Gent)\, Watersportlaan 3\, Gent\, Oost-Vlaanderen\, 9000\, België
GEO:51.0475487;3.7026469
X-APPLE-STRUCTURED-LOCATION;VALUE=URI;X-ADDRESS=Universitair Sportcentrum (Gent) Watersportlaan 3 Gent Oost-Vlaanderen 9000 België;X-APPLE-RADIUS=500;X-TITLE=Watersportlaan 3:geo:3.7026469,51.0475487
END:VEVENT
BEGIN:VEVENT
DTSTART;TZID=Europe/Brussels:20240326T190000
DTEND;TZID=Europe/Brussels:20240326T203000
DTSTAMP:20260420T152827
CREATED:20230816T103732Z
LAST-MODIFIED:20240303T173457Z
UID:20001323-1711479600-1711485000@www.shinbugent.be
SUMMARY:Clubtraining - Defence training
DESCRIPTION:
URL:https://www.shinbugent.be/event/clubtraining-61/
LOCATION:Universitair Sportcentrum (Gent)\, Watersportlaan 3\, Gent\, Oost-Vlaanderen\, 9000\, België
GEO:51.0475487;3.7026469
X-APPLE-STRUCTURED-LOCATION;VALUE=URI;X-ADDRESS=Universitair Sportcentrum (Gent) Watersportlaan 3 Gent Oost-Vlaanderen 9000 België;X-APPLE-RADIUS=500;X-TITLE=Watersportlaan 3:geo:3.7026469,51.0475487
END:VEVENT
BEGIN:VEVENT
DTSTART;TZID=Europe/Brussels:20240328T193000
DTEND;TZID=Europe/Brussels:20240328T210000
DTSTAMP:20260420T152827
CREATED:20230814T113518Z
LAST-MODIFIED:20230814T113522Z
UID:20001313-1711654200-1711659600@www.shinbugent.be
SUMMARY:Clubtraining
DESCRIPTION:clubtraining voor de groep van volwassenen (vanaf 13 jaar)
URL:https://www.shinbugent.be/event/clubtraining-49/2024-03-28/
LOCATION:Universitair Sportcentrum (Gent)\, Watersportlaan 3\, Gent\, Oost-Vlaanderen\, 9000\, België
GEO:51.0475487;3.7026469
X-APPLE-STRUCTURED-LOCATION;VALUE=URI;X-ADDRESS=Universitair Sportcentrum (Gent) Watersportlaan 3 Gent Oost-Vlaanderen 9000 België;X-APPLE-RADIUS=500;X-TITLE=Watersportlaan 3:geo:3.7026469,51.0475487
END:VEVENT
BEGIN:VEVENT
DTSTART;TZID=Europe/Brussels:20240330T100000
DTEND;TZID=Europe/Brussels:20240330T113000
DTSTAMP:20260420T152827
CREATED:20230814T111904Z
LAST-MODIFIED:20230814T111908Z
UID:20001274-1711792800-1711798200@www.shinbugent.be
SUMMARY:Geen clubtraining - GUSB gesloten
DESCRIPTION:Geen clubtraining voor de jeugdgroep\, noch de groep van de volwassenen -> Pasen
URL:https://www.shinbugent.be/event/geen-clubtraining-gusb-gesloten/
LOCATION:Universitair Sportcentrum (Gent)\, Watersportlaan 3\, Gent\, Oost-Vlaanderen\, 9000\, België
GEO:51.0475487;3.7026469
X-APPLE-STRUCTURED-LOCATION;VALUE=URI;X-ADDRESS=Universitair Sportcentrum (Gent) Watersportlaan 3 Gent Oost-Vlaanderen 9000 België;X-APPLE-RADIUS=500;X-TITLE=Watersportlaan 3:geo:3.7026469,51.0475487
END:VEVENT
BEGIN:VEVENT
DTSTART;TZID=Europe/Brussels:20240330T100000
DTEND;TZID=Europe/Brussels:20240401T170000
DTSTAMP:20260420T152827
CREATED:20230814T105408Z
LAST-MODIFIED:20230814T105411Z
UID:20001268-1711792800-1711990800@www.shinbugent.be
SUMMARY:Stage JKA Francophone
DESCRIPTION:meerdaagse JKA-stage Louvain-La-Neuve
URL:https://www.shinbugent.be/event/stage-jka-francophone-2/
LOCATION:Oost-Vlaanderen
END:VEVENT
BEGIN:VEVENT
DTSTART;TZID=Europe/Brussels:20240402T190000
DTEND;TZID=Europe/Brussels:20240402T200000
DTSTAMP:20260420T152827
CREATED:20230814T114620Z
LAST-MODIFIED:20230814T114625Z
UID:20001337-1712084400-1712088000@www.shinbugent.be
SUMMARY:Clubtraining jeugd
DESCRIPTION:clubtraining voor de jeugdgroep (vanaf 8 jaar en minstens 1 seizoen karate-ervaring)
URL:https://www.shinbugent.be/event/clubtraining-jeugd-5/2024-04-02/
LOCATION:Universitair Sportcentrum (Gent)\, Watersportlaan 3\, Gent\, Oost-Vlaanderen\, 9000\, België
GEO:51.0475487;3.7026469
X-APPLE-STRUCTURED-LOCATION;VALUE=URI;X-ADDRESS=Universitair Sportcentrum (Gent) Watersportlaan 3 Gent Oost-Vlaanderen 9000 België;X-APPLE-RADIUS=500;X-TITLE=Watersportlaan 3:geo:3.7026469,51.0475487
END:VEVENT
BEGIN:VEVENT
DTSTART;TZID=Europe/Brussels:20240402T190000
DTEND;TZID=Europe/Brussels:20240402T203000
DTSTAMP:20260420T152827
CREATED:20230814T114315Z
LAST-MODIFIED:20230814T114320Z
UID:20001325-1712084400-1712089800@www.shinbugent.be
SUMMARY:Clubtraining
DESCRIPTION:clubtraining voor de groep van volwassenen (vanaf 13 jaar)
URL:https://www.shinbugent.be/event/clubtraining-51/2024-04-02/
LOCATION:Universitair Sportcentrum (Gent)\, Watersportlaan 3\, Gent\, Oost-Vlaanderen\, 9000\, België
GEO:51.0475487;3.7026469
X-APPLE-STRUCTURED-LOCATION;VALUE=URI;X-ADDRESS=Universitair Sportcentrum (Gent) Watersportlaan 3 Gent Oost-Vlaanderen 9000 België;X-APPLE-RADIUS=500;X-TITLE=Watersportlaan 3:geo:3.7026469,51.0475487
END:VEVENT
BEGIN:VEVENT
DTSTART;TZID=Europe/Brussels:20240404T193000
DTEND;TZID=Europe/Brussels:20240404T210000
DTSTAMP:20260420T152827
CREATED:20230814T115758Z
LAST-MODIFIED:20230814T115802Z
UID:20001349-1712259000-1712264400@www.shinbugent.be
SUMMARY:Clubtraining
DESCRIPTION:clubtraining voor de groep van volwassenen (vanaf 13 jaar)
URL:https://www.shinbugent.be/event/clubtraining-52/2024-04-04/
LOCATION:Universitair Sportcentrum (Gent)\, Watersportlaan 3\, Gent\, Oost-Vlaanderen\, 9000\, België
GEO:51.0475487;3.7026469
X-APPLE-STRUCTURED-LOCATION;VALUE=URI;X-ADDRESS=Universitair Sportcentrum (Gent) Watersportlaan 3 Gent Oost-Vlaanderen 9000 België;X-APPLE-RADIUS=500;X-TITLE=Watersportlaan 3:geo:3.7026469,51.0475487
END:VEVENT
BEGIN:VEVENT
DTSTART;TZID=Europe/Brussels:20240406T090000
DTEND;TZID=Europe/Brussels:20240406T200000
DTSTAMP:20260420T152827
CREATED:20240202T074512Z
LAST-MODIFIED:20240202T074513Z
UID:20001386-1712394000-1712433600@www.shinbugent.be
SUMMARY:JKA Europe Cup 2024
DESCRIPTION:
URL:https://www.shinbugent.be/event/jka-europe-cup-2024/
LOCATION:Sportzaal Sport Vlaanderen Gent\, Zuiderlaan 14\, Gent\, 9000\, België
END:VEVENT
BEGIN:VEVENT
DTSTART;TZID=Europe/Brussels:20240406T100000
DTEND;TZID=Europe/Brussels:20240406T113000
DTSTAMP:20260420T152827
CREATED:20240202T073905Z
LAST-MODIFIED:20240202T073907Z
UID:20001360-1712397600-1712403000@www.shinbugent.be
SUMMARY:GEEN clubtraining (nav JKA Europe Cup)
DESCRIPTION:clubtraining voor de jeugdgroep en de groep van de volwassenen (+ 30 minuten vrije training na de clubtraining)
URL:https://www.shinbugent.be/event/clubtraining-63/
LOCATION:Universitair Sportcentrum (Gent)\, Watersportlaan 3\, Gent\, Oost-Vlaanderen\, 9000\, België
GEO:51.0475487;3.7026469
X-APPLE-STRUCTURED-LOCATION;VALUE=URI;X-ADDRESS=Universitair Sportcentrum (Gent) Watersportlaan 3 Gent Oost-Vlaanderen 9000 België;X-APPLE-RADIUS=500;X-TITLE=Watersportlaan 3:geo:3.7026469,51.0475487
END:VEVENT
BEGIN:VEVENT
DTSTART;TZID=Europe/Brussels:20240406T150000
DTEND;TZID=Europe/Brussels:20240406T163000
DTSTAMP:20260420T152827
CREATED:20240202T073951Z
LAST-MODIFIED:20240202T073953Z
UID:20001246-1712415600-1712421000@www.shinbugent.be
SUMMARY:GEEN nationale training (nav JKA Europe Cup)
DESCRIPTION:Alle graden – minimum 14 jaar
URL:https://www.shinbugent.be/event/nationale-training-15/
LOCATION:Complexe Gaston Reiff (Braine l’Alleud)\, Rue Ernest Laurent 210\, Braine l'Alleud\, 1420\, België
GEO:50.678249;4.3848448
X-APPLE-STRUCTURED-LOCATION;VALUE=URI;X-ADDRESS=Complexe Gaston Reiff (Braine l’Alleud) Rue Ernest Laurent 210 Braine l'Alleud 1420 België;X-APPLE-RADIUS=500;X-TITLE=Rue Ernest Laurent 210:geo:4.3848448,50.678249
END:VEVENT
BEGIN:VEVENT
DTSTART;TZID=Europe/Brussels:20240406T150000
DTEND;TZID=Europe/Brussels:20240406T163000
DTSTAMP:20260420T152827
CREATED:20240202T074044Z
LAST-MODIFIED:20240202T074046Z
UID:20001252-1712415600-1712421000@www.shinbugent.be
SUMMARY:GEEN nationale training jongeren
DESCRIPTION:Vanaf 7 jaar en vanaf witte gordel
URL:https://www.shinbugent.be/event/nationale-training-jongeren-4/
LOCATION:Complexe Gaston Reiff (Braine l’Alleud)\, Rue Ernest Laurent 210\, Braine l'Alleud\, 1420\, België
GEO:50.678249;4.3848448
X-APPLE-STRUCTURED-LOCATION;VALUE=URI;X-ADDRESS=Complexe Gaston Reiff (Braine l’Alleud) Rue Ernest Laurent 210 Braine l'Alleud 1420 België;X-APPLE-RADIUS=500;X-TITLE=Rue Ernest Laurent 210:geo:4.3848448,50.678249
END:VEVENT
BEGIN:VEVENT
DTSTART;TZID=Europe/Brussels:20240409T190000
DTEND;TZID=Europe/Brussels:20240409T200000
DTSTAMP:20260420T152827
CREATED:20230814T114620Z
LAST-MODIFIED:20230814T114625Z
UID:20001338-1712689200-1712692800@www.shinbugent.be
SUMMARY:Clubtraining jeugd
DESCRIPTION:clubtraining voor de jeugdgroep (vanaf 8 jaar en minstens 1 seizoen karate-ervaring)
URL:https://www.shinbugent.be/event/clubtraining-jeugd-5/2024-04-09/
LOCATION:Universitair Sportcentrum (Gent)\, Watersportlaan 3\, Gent\, Oost-Vlaanderen\, 9000\, België
GEO:51.0475487;3.7026469
X-APPLE-STRUCTURED-LOCATION;VALUE=URI;X-ADDRESS=Universitair Sportcentrum (Gent) Watersportlaan 3 Gent Oost-Vlaanderen 9000 België;X-APPLE-RADIUS=500;X-TITLE=Watersportlaan 3:geo:3.7026469,51.0475487
END:VEVENT
END:VCALENDAR