BEGIN:VCALENDAR
VERSION:2.0
PRODID:-//Shinbu Gent - ECPv6.15.18//NONSGML v1.0//EN
CALSCALE:GREGORIAN
METHOD:PUBLISH
X-WR-CALNAME:Shinbu Gent
X-ORIGINAL-URL:https://www.shinbugent.be
X-WR-CALDESC:Evenementen voor Shinbu Gent
REFRESH-INTERVAL;VALUE=DURATION:PT1H
X-Robots-Tag:noindex
X-PUBLISHED-TTL:PT1H
BEGIN:VTIMEZONE
TZID:Europe/Brussels
BEGIN:DAYLIGHT
TZOFFSETFROM:+0100
TZOFFSETTO:+0200
TZNAME:CEST
DTSTART:20210328T010000
END:DAYLIGHT
BEGIN:STANDARD
TZOFFSETFROM:+0200
TZOFFSETTO:+0100
TZNAME:CET
DTSTART:20211031T010000
END:STANDARD
BEGIN:DAYLIGHT
TZOFFSETFROM:+0100
TZOFFSETTO:+0200
TZNAME:CEST
DTSTART:20220327T010000
END:DAYLIGHT
BEGIN:STANDARD
TZOFFSETFROM:+0200
TZOFFSETTO:+0100
TZNAME:CET
DTSTART:20221030T010000
END:STANDARD
BEGIN:DAYLIGHT
TZOFFSETFROM:+0100
TZOFFSETTO:+0200
TZNAME:CEST
DTSTART:20230326T010000
END:DAYLIGHT
BEGIN:STANDARD
TZOFFSETFROM:+0200
TZOFFSETTO:+0100
TZNAME:CET
DTSTART:20231029T010000
END:STANDARD
END:VTIMEZONE
BEGIN:VEVENT
DTSTART;TZID=Europe/Brussels:20221015T100000
DTEND;TZID=Europe/Brussels:20221015T113000
DTSTAMP:20260420T215221
CREATED:20220711T170912Z
LAST-MODIFIED:20220711T170914Z
UID:20000930-1665828000-1665833400@www.shinbugent.be
SUMMARY:Clubtraining
DESCRIPTION:
URL:https://www.shinbugent.be/event/clubtraining/2022-10-15/
LOCATION:Universitair Sportcentrum (Gent)\, Watersportlaan 3\, Gent\, Oost-Vlaanderen\, 9000\, België
GEO:51.0475487;3.7026469
X-APPLE-STRUCTURED-LOCATION;VALUE=URI;X-ADDRESS=Universitair Sportcentrum (Gent) Watersportlaan 3 Gent Oost-Vlaanderen 9000 België;X-APPLE-RADIUS=500;X-TITLE=Watersportlaan 3:geo:3.7026469,51.0475487
END:VEVENT
BEGIN:VEVENT
DTSTART;TZID=Europe/Brussels:20221013T193000
DTEND;TZID=Europe/Brussels:20221013T210000
DTSTAMP:20260420T215221
CREATED:20220929T060116Z
LAST-MODIFIED:20220929T060116Z
UID:20000961-1665689400-1665694800@www.shinbugent.be
SUMMARY:Clubtraining
DESCRIPTION:
URL:https://www.shinbugent.be/event/clubtraining/2022-10-13/
LOCATION:Universitair Sportcentrum (Gent)\, Watersportlaan 3\, Gent\, Oost-Vlaanderen\, 9000\, België
GEO:51.0475487;3.7026469
X-APPLE-STRUCTURED-LOCATION;VALUE=URI;X-ADDRESS=Universitair Sportcentrum (Gent) Watersportlaan 3 Gent Oost-Vlaanderen 9000 België;X-APPLE-RADIUS=500;X-TITLE=Watersportlaan 3:geo:3.7026469,51.0475487
END:VEVENT
BEGIN:VEVENT
DTSTART;TZID=Europe/Brussels:20221013T193000
DTEND;TZID=Europe/Brussels:20221013T210000
DTSTAMP:20260420T215221
CREATED:20211112T164130Z
LAST-MODIFIED:20211112T164132Z
UID:20000880-1665689400-1665694800@www.shinbugent.be
SUMMARY:Provinciale training
DESCRIPTION:
URL:https://www.shinbugent.be/event/provinciale-training-6/
LOCATION:Universitair Sportcentrum (Gent)\, Watersportlaan 3\, Gent\, Oost-Vlaanderen\, 9000\, België
GEO:51.0475487;3.7026469
X-APPLE-STRUCTURED-LOCATION;VALUE=URI;X-ADDRESS=Universitair Sportcentrum (Gent) Watersportlaan 3 Gent Oost-Vlaanderen 9000 België;X-APPLE-RADIUS=500;X-TITLE=Watersportlaan 3:geo:3.7026469,51.0475487
END:VEVENT
BEGIN:VEVENT
DTSTART;TZID=Europe/Brussels:20221011T190000
DTEND;TZID=Europe/Brussels:20221011T203000
DTSTAMP:20260420T215221
CREATED:20220929T060116Z
LAST-MODIFIED:20220929T060116Z
UID:20000946-1665514800-1665520200@www.shinbugent.be
SUMMARY:Clubtraining
DESCRIPTION:
URL:https://www.shinbugent.be/event/clubtraining/2022-10-11/
LOCATION:Universitair Sportcentrum (Gent)\, Watersportlaan 3\, Gent\, Oost-Vlaanderen\, 9000\, België
GEO:51.0475487;3.7026469
X-APPLE-STRUCTURED-LOCATION;VALUE=URI;X-ADDRESS=Universitair Sportcentrum (Gent) Watersportlaan 3 Gent Oost-Vlaanderen 9000 België;X-APPLE-RADIUS=500;X-TITLE=Watersportlaan 3:geo:3.7026469,51.0475487
END:VEVENT
BEGIN:VEVENT
DTSTART;TZID=Europe/Brussels:20221008T133000
DTEND;TZID=Europe/Brussels:20221008T173000
DTSTAMP:20260420T215221
CREATED:20220802T104532Z
LAST-MODIFIED:20220802T104533Z
UID:20000976-1665235800-1665250200@www.shinbugent.be
SUMMARY:JOW 1 - Lede
DESCRIPTION:
URL:https://www.shinbugent.be/event/jow-1-lede/
LOCATION:Sportcomplex De Ommegang (Lede)\, Ommeganglaan 60 A\, Lede\, Oost-Vlaanderen\, 9340\, België
GEO:50.9591145;3.9780411
X-APPLE-STRUCTURED-LOCATION;VALUE=URI;X-ADDRESS=Sportcomplex De Ommegang (Lede) Ommeganglaan 60 A Lede Oost-Vlaanderen 9340 België;X-APPLE-RADIUS=500;X-TITLE=Ommeganglaan 60 A:geo:3.9780411,50.9591145
END:VEVENT
BEGIN:VEVENT
DTSTART;TZID=Europe/Brussels:20221008T100000
DTEND;TZID=Europe/Brussels:20221008T113000
DTSTAMP:20260420T215221
CREATED:20220711T170912Z
LAST-MODIFIED:20220711T170914Z
UID:20000929-1665223200-1665228600@www.shinbugent.be
SUMMARY:Clubtraining
DESCRIPTION:
URL:https://www.shinbugent.be/event/clubtraining/2022-10-08/
LOCATION:Universitair Sportcentrum (Gent)\, Watersportlaan 3\, Gent\, Oost-Vlaanderen\, 9000\, België
GEO:51.0475487;3.7026469
X-APPLE-STRUCTURED-LOCATION;VALUE=URI;X-ADDRESS=Universitair Sportcentrum (Gent) Watersportlaan 3 Gent Oost-Vlaanderen 9000 België;X-APPLE-RADIUS=500;X-TITLE=Watersportlaan 3:geo:3.7026469,51.0475487
END:VEVENT
BEGIN:VEVENT
DTSTART;TZID=Europe/Brussels:20221006T193000
DTEND;TZID=Europe/Brussels:20221006T210000
DTSTAMP:20260420T215221
CREATED:20220929T060116Z
LAST-MODIFIED:20220929T060116Z
UID:20000960-1665084600-1665090000@www.shinbugent.be
SUMMARY:Clubtraining
DESCRIPTION:
URL:https://www.shinbugent.be/event/clubtraining/2022-10-06/
LOCATION:Universitair Sportcentrum (Gent)\, Watersportlaan 3\, Gent\, Oost-Vlaanderen\, 9000\, België
GEO:51.0475487;3.7026469
X-APPLE-STRUCTURED-LOCATION;VALUE=URI;X-ADDRESS=Universitair Sportcentrum (Gent) Watersportlaan 3 Gent Oost-Vlaanderen 9000 België;X-APPLE-RADIUS=500;X-TITLE=Watersportlaan 3:geo:3.7026469,51.0475487
END:VEVENT
BEGIN:VEVENT
DTSTART;TZID=Europe/Brussels:20221006T193000
DTEND;TZID=Europe/Brussels:20221006T210000
DTSTAMP:20260420T215221
CREATED:20220824T172921Z
LAST-MODIFIED:20220824T172922Z
UID:20001088-1665084600-1665090000@www.shinbugent.be
SUMMARY:Club-competitietraining
DESCRIPTION:
URL:https://www.shinbugent.be/event/club-competitietraining-4/
LOCATION:Universitair Sportcentrum (Gent)\, Watersportlaan 3\, Gent\, Oost-Vlaanderen\, 9000\, België
GEO:51.0475487;3.7026469
X-APPLE-STRUCTURED-LOCATION;VALUE=URI;X-ADDRESS=Universitair Sportcentrum (Gent) Watersportlaan 3 Gent Oost-Vlaanderen 9000 België;X-APPLE-RADIUS=500;X-TITLE=Watersportlaan 3:geo:3.7026469,51.0475487
END:VEVENT
BEGIN:VEVENT
DTSTART;TZID=Europe/Brussels:20221004T190000
DTEND;TZID=Europe/Brussels:20221004T203000
DTSTAMP:20260420T215221
CREATED:20220929T060116Z
LAST-MODIFIED:20220929T060116Z
UID:20000945-1664910000-1664915400@www.shinbugent.be
SUMMARY:Clubtraining
DESCRIPTION:
URL:https://www.shinbugent.be/event/clubtraining/2022-10-04/
LOCATION:Universitair Sportcentrum (Gent)\, Watersportlaan 3\, Gent\, Oost-Vlaanderen\, 9000\, België
GEO:51.0475487;3.7026469
X-APPLE-STRUCTURED-LOCATION;VALUE=URI;X-ADDRESS=Universitair Sportcentrum (Gent) Watersportlaan 3 Gent Oost-Vlaanderen 9000 België;X-APPLE-RADIUS=500;X-TITLE=Watersportlaan 3:geo:3.7026469,51.0475487
END:VEVENT
BEGIN:VEVENT
DTSTART;TZID=Europe/Brussels:20221002T090000
DTEND;TZID=Europe/Brussels:20221002T180000
DTSTAMP:20260420T215221
CREATED:20220819T135437Z
LAST-MODIFIED:20220819T135438Z
UID:20000994-1664701200-1664733600@www.shinbugent.be
SUMMARY:Vlaams kampioenschap (vanaf kadet)
DESCRIPTION:
URL:https://www.shinbugent.be/event/vlaams-kampioenschap-vanaf-kadet/
LOCATION:Sporthal Lange Munte (Kortrijk)\, Bad Godesberglaan 22\, Kortrijk\, 8500\, België
GEO:50.8062078;3.3005745
X-APPLE-STRUCTURED-LOCATION;VALUE=URI;X-ADDRESS=Sporthal Lange Munte (Kortrijk) Bad Godesberglaan 22 Kortrijk 8500 België;X-APPLE-RADIUS=500;X-TITLE=Bad Godesberglaan 22:geo:3.3005745,50.8062078
END:VEVENT
BEGIN:VEVENT
DTSTART;TZID=Europe/Brussels:20221001T140000
DTEND;TZID=Europe/Brussels:20221001T153000
DTSTAMP:20260420T215221
CREATED:20220802T104120Z
LAST-MODIFIED:20220802T104126Z
UID:20000975-1664632800-1664638200@www.shinbugent.be
SUMMARY:Nationale training
DESCRIPTION:
URL:https://www.shinbugent.be/event/nationale-training-5/
LOCATION:Complexe Gaston Reiff (Braine l’Alleud)\, Rue Ernest Laurent 210\, Braine l'Alleud\, 1420\, België
GEO:50.678249;4.3848448
X-APPLE-STRUCTURED-LOCATION;VALUE=URI;X-ADDRESS=Complexe Gaston Reiff (Braine l’Alleud) Rue Ernest Laurent 210 Braine l'Alleud 1420 België;X-APPLE-RADIUS=500;X-TITLE=Rue Ernest Laurent 210:geo:4.3848448,50.678249
END:VEVENT
BEGIN:VEVENT
DTSTART;TZID=Europe/Brussels:20221001T100000
DTEND;TZID=Europe/Brussels:20221001T113000
DTSTAMP:20260420T215221
CREATED:20220711T170912Z
LAST-MODIFIED:20220711T170914Z
UID:20000928-1664618400-1664623800@www.shinbugent.be
SUMMARY:Clubtraining
DESCRIPTION:
URL:https://www.shinbugent.be/event/clubtraining/2022-10-01/
LOCATION:Universitair Sportcentrum (Gent)\, Watersportlaan 3\, Gent\, Oost-Vlaanderen\, 9000\, België
GEO:51.0475487;3.7026469
X-APPLE-STRUCTURED-LOCATION;VALUE=URI;X-ADDRESS=Universitair Sportcentrum (Gent) Watersportlaan 3 Gent Oost-Vlaanderen 9000 België;X-APPLE-RADIUS=500;X-TITLE=Watersportlaan 3:geo:3.7026469,51.0475487
END:VEVENT
BEGIN:VEVENT
DTSTART;TZID=Europe/Brussels:20220929T193000
DTEND;TZID=Europe/Brussels:20220929T210000
DTSTAMP:20260420T215221
CREATED:20220929T060116Z
LAST-MODIFIED:20220929T060116Z
UID:20000959-1664479800-1664485200@www.shinbugent.be
SUMMARY:Clubtraining
DESCRIPTION:
URL:https://www.shinbugent.be/event/clubtraining/2022-09-29/
LOCATION:Universitair Sportcentrum (Gent)\, Watersportlaan 3\, Gent\, Oost-Vlaanderen\, 9000\, België
GEO:51.0475487;3.7026469
X-APPLE-STRUCTURED-LOCATION;VALUE=URI;X-ADDRESS=Universitair Sportcentrum (Gent) Watersportlaan 3 Gent Oost-Vlaanderen 9000 België;X-APPLE-RADIUS=500;X-TITLE=Watersportlaan 3:geo:3.7026469,51.0475487
END:VEVENT
BEGIN:VEVENT
DTSTART;TZID=Europe/Brussels:20220929T193000
DTEND;TZID=Europe/Brussels:20220929T210000
DTSTAMP:20260420T215221
CREATED:20220824T172752Z
LAST-MODIFIED:20220824T172753Z
UID:20001087-1664479800-1664485200@www.shinbugent.be
SUMMARY:Club-competitietraining
DESCRIPTION:
URL:https://www.shinbugent.be/event/club-competitietraining-3/
LOCATION:Universitair Sportcentrum (Gent)\, Watersportlaan 3\, Gent\, Oost-Vlaanderen\, 9000\, België
GEO:51.0475487;3.7026469
X-APPLE-STRUCTURED-LOCATION;VALUE=URI;X-ADDRESS=Universitair Sportcentrum (Gent) Watersportlaan 3 Gent Oost-Vlaanderen 9000 België;X-APPLE-RADIUS=500;X-TITLE=Watersportlaan 3:geo:3.7026469,51.0475487
END:VEVENT
BEGIN:VEVENT
DTSTART;TZID=Europe/Brussels:20220927T190000
DTEND;TZID=Europe/Brussels:20220927T203000
DTSTAMP:20260420T215221
CREATED:20220929T060116Z
LAST-MODIFIED:20220929T060116Z
UID:20000944-1664305200-1664310600@www.shinbugent.be
SUMMARY:Clubtraining
DESCRIPTION:
URL:https://www.shinbugent.be/event/clubtraining/2022-09-27/
LOCATION:Universitair Sportcentrum (Gent)\, Watersportlaan 3\, Gent\, Oost-Vlaanderen\, 9000\, België
GEO:51.0475487;3.7026469
X-APPLE-STRUCTURED-LOCATION;VALUE=URI;X-ADDRESS=Universitair Sportcentrum (Gent) Watersportlaan 3 Gent Oost-Vlaanderen 9000 België;X-APPLE-RADIUS=500;X-TITLE=Watersportlaan 3:geo:3.7026469,51.0475487
END:VEVENT
BEGIN:VEVENT
DTSTART;TZID=Europe/Brussels:20220925T100000
DTEND;TZID=Europe/Brussels:20220925T173000
DTSTAMP:20260420T215221
CREATED:20220711T155802Z
LAST-MODIFIED:20220711T155805Z
UID:20000922-1664100000-1664127000@www.shinbugent.be
SUMMARY:Tornooi van Eeklo
DESCRIPTION:
URL:https://www.shinbugent.be/event/tornooi-van-eeklo/
LOCATION:Stedelijke Sporthal Eeklo\, Burg. Lionel Pussemierstraat 157\, Eeklo\, Oost-Vlaanderen\, 9900\, België
ATTACH;FMTTYPE=image/jpeg:https://www.shinbugent.be/wp-content/uploads/2022/07/20220711-tornooi-van-eeklo.jpg
GEO:51.1824004;3.5777537
X-APPLE-STRUCTURED-LOCATION;VALUE=URI;X-ADDRESS=Stedelijke Sporthal Eeklo Burg. Lionel Pussemierstraat 157 Eeklo Oost-Vlaanderen 9900 België;X-APPLE-RADIUS=500;X-TITLE=Burg. Lionel Pussemierstraat 157:geo:3.5777537,51.1824004
END:VEVENT
BEGIN:VEVENT
DTSTART;TZID=Europe/Brussels:20220924T100000
DTEND;TZID=Europe/Brussels:20220924T113000
DTSTAMP:20260420T215221
CREATED:20220711T170912Z
LAST-MODIFIED:20220711T170914Z
UID:20000927-1664013600-1664019000@www.shinbugent.be
SUMMARY:Clubtraining
DESCRIPTION:
URL:https://www.shinbugent.be/event/clubtraining/2022-09-24/
LOCATION:Universitair Sportcentrum (Gent)\, Watersportlaan 3\, Gent\, Oost-Vlaanderen\, 9000\, België
GEO:51.0475487;3.7026469
X-APPLE-STRUCTURED-LOCATION;VALUE=URI;X-ADDRESS=Universitair Sportcentrum (Gent) Watersportlaan 3 Gent Oost-Vlaanderen 9000 België;X-APPLE-RADIUS=500;X-TITLE=Watersportlaan 3:geo:3.7026469,51.0475487
END:VEVENT
BEGIN:VEVENT
DTSTART;TZID=Europe/Brussels:20220922T193000
DTEND;TZID=Europe/Brussels:20220922T210000
DTSTAMP:20260420T215221
CREATED:20220929T060116Z
LAST-MODIFIED:20220929T060116Z
UID:20000958-1663875000-1663880400@www.shinbugent.be
SUMMARY:Clubtraining
DESCRIPTION:
URL:https://www.shinbugent.be/event/clubtraining/2022-09-22/
LOCATION:Universitair Sportcentrum (Gent)\, Watersportlaan 3\, Gent\, Oost-Vlaanderen\, 9000\, België
GEO:51.0475487;3.7026469
X-APPLE-STRUCTURED-LOCATION;VALUE=URI;X-ADDRESS=Universitair Sportcentrum (Gent) Watersportlaan 3 Gent Oost-Vlaanderen 9000 België;X-APPLE-RADIUS=500;X-TITLE=Watersportlaan 3:geo:3.7026469,51.0475487
END:VEVENT
BEGIN:VEVENT
DTSTART;TZID=Europe/Brussels:20220922T193000
DTEND;TZID=Europe/Brussels:20220922T210000
DTSTAMP:20260420T215221
CREATED:20220830T071416Z
LAST-MODIFIED:20220830T071417Z
UID:20001091-1663875000-1663880400@www.shinbugent.be
SUMMARY:Club-competitietraining
DESCRIPTION:
URL:https://www.shinbugent.be/event/club-competitietraining-7/
LOCATION:Universitair Sportcentrum (Gent)\, Watersportlaan 3\, Gent\, Oost-Vlaanderen\, 9000\, België
GEO:51.0475487;3.7026469
X-APPLE-STRUCTURED-LOCATION;VALUE=URI;X-ADDRESS=Universitair Sportcentrum (Gent) Watersportlaan 3 Gent Oost-Vlaanderen 9000 België;X-APPLE-RADIUS=500;X-TITLE=Watersportlaan 3:geo:3.7026469,51.0475487
END:VEVENT
BEGIN:VEVENT
DTSTART;TZID=Europe/Brussels:20220922T193000
DTEND;TZID=Europe/Brussels:20220922T210000
DTSTAMP:20260420T215221
CREATED:20220711T170912Z
LAST-MODIFIED:20220830T071241Z
UID:20000971-1663875000-1663880400@www.shinbugent.be
SUMMARY:Clubtraining
DESCRIPTION:
URL:https://www.shinbugent.be/event/clubtraining-2022-09-22/
LOCATION:Universitair Sportcentrum (Gent)\, Watersportlaan 3\, Gent\, Oost-Vlaanderen\, 9000\, België
GEO:51.0475487;3.7026469
X-APPLE-STRUCTURED-LOCATION;VALUE=URI;X-ADDRESS=Universitair Sportcentrum (Gent) Watersportlaan 3 Gent Oost-Vlaanderen 9000 België;X-APPLE-RADIUS=500;X-TITLE=Watersportlaan 3:geo:3.7026469,51.0475487
END:VEVENT
BEGIN:VEVENT
DTSTART;TZID=Europe/Brussels:20220920T190000
DTEND;TZID=Europe/Brussels:20220920T203000
DTSTAMP:20260420T215221
CREATED:20220929T060116Z
LAST-MODIFIED:20220929T060116Z
UID:20000943-1663700400-1663705800@www.shinbugent.be
SUMMARY:Clubtraining
DESCRIPTION:
URL:https://www.shinbugent.be/event/clubtraining/2022-09-20/
LOCATION:Universitair Sportcentrum (Gent)\, Watersportlaan 3\, Gent\, Oost-Vlaanderen\, 9000\, België
GEO:51.0475487;3.7026469
X-APPLE-STRUCTURED-LOCATION;VALUE=URI;X-ADDRESS=Universitair Sportcentrum (Gent) Watersportlaan 3 Gent Oost-Vlaanderen 9000 België;X-APPLE-RADIUS=500;X-TITLE=Watersportlaan 3:geo:3.7026469,51.0475487
END:VEVENT
BEGIN:VEVENT
DTSTART;TZID=Europe/Brussels:20220918T103000
DTEND;TZID=Europe/Brussels:20220918T143000
DTSTAMP:20260420T215221
CREATED:20220711T154748Z
LAST-MODIFIED:20220711T160037Z
UID:20000921-1663497000-1663511400@www.shinbugent.be
SUMMARY:Trainingsdag 'The way of the warrior' te Ieper
DESCRIPTION:
URL:https://www.shinbugent.be/event/trainingsdag-the-way-of-the-warrior-te-ieper/
LOCATION:Sporthal 1 (Ieper)\,  Leopold III-laan\, Ieper\, 8900\, België
ATTACH;FMTTYPE=image/jpeg:https://www.shinbugent.be/wp-content/uploads/2022/07/20220711-stage-Ieper-1.jpg
GEO:50.8466147;2.8935223
X-APPLE-STRUCTURED-LOCATION;VALUE=URI;X-ADDRESS=Sporthal 1 (Ieper)  Leopold III-laan Ieper 8900 België;X-APPLE-RADIUS=500;X-TITLE=Leopold III-laan:geo:2.8935223,50.8466147
END:VEVENT
BEGIN:VEVENT
DTSTART;TZID=Europe/Brussels:20220917T100000
DTEND;TZID=Europe/Brussels:20220917T113000
DTSTAMP:20260420T215221
CREATED:20220711T170912Z
LAST-MODIFIED:20220711T170914Z
UID:20000926-1663408800-1663414200@www.shinbugent.be
SUMMARY:Clubtraining
DESCRIPTION:
URL:https://www.shinbugent.be/event/clubtraining/2022-09-17/
LOCATION:Universitair Sportcentrum (Gent)\, Watersportlaan 3\, Gent\, Oost-Vlaanderen\, 9000\, België
GEO:51.0475487;3.7026469
X-APPLE-STRUCTURED-LOCATION;VALUE=URI;X-ADDRESS=Universitair Sportcentrum (Gent) Watersportlaan 3 Gent Oost-Vlaanderen 9000 België;X-APPLE-RADIUS=500;X-TITLE=Watersportlaan 3:geo:3.7026469,51.0475487
END:VEVENT
BEGIN:VEVENT
DTSTART;TZID=Europe/Brussels:20220915T193000
DTEND;TZID=Europe/Brussels:20220915T210000
DTSTAMP:20260420T215221
CREATED:20220929T060116Z
LAST-MODIFIED:20220929T060116Z
UID:20000957-1663270200-1663275600@www.shinbugent.be
SUMMARY:Clubtraining
DESCRIPTION:
URL:https://www.shinbugent.be/event/clubtraining/2022-09-15/
LOCATION:Universitair Sportcentrum (Gent)\, Watersportlaan 3\, Gent\, Oost-Vlaanderen\, 9000\, België
GEO:51.0475487;3.7026469
X-APPLE-STRUCTURED-LOCATION;VALUE=URI;X-ADDRESS=Universitair Sportcentrum (Gent) Watersportlaan 3 Gent Oost-Vlaanderen 9000 België;X-APPLE-RADIUS=500;X-TITLE=Watersportlaan 3:geo:3.7026469,51.0475487
END:VEVENT
BEGIN:VEVENT
DTSTART;TZID=Europe/Brussels:20220915T193000
DTEND;TZID=Europe/Brussels:20220915T210000
DTSTAMP:20260420T215221
CREATED:20211112T164034Z
LAST-MODIFIED:20211112T164036Z
UID:20000879-1663270200-1663275600@www.shinbugent.be
SUMMARY:Provinciale training
DESCRIPTION:
URL:https://www.shinbugent.be/event/provinciale-training-5/
LOCATION:Universitair Sportcentrum (Gent)\, Watersportlaan 3\, Gent\, Oost-Vlaanderen\, 9000\, België
GEO:51.0475487;3.7026469
X-APPLE-STRUCTURED-LOCATION;VALUE=URI;X-ADDRESS=Universitair Sportcentrum (Gent) Watersportlaan 3 Gent Oost-Vlaanderen 9000 België;X-APPLE-RADIUS=500;X-TITLE=Watersportlaan 3:geo:3.7026469,51.0475487
END:VEVENT
BEGIN:VEVENT
DTSTART;TZID=Europe/Brussels:20220913T190000
DTEND;TZID=Europe/Brussels:20220913T203000
DTSTAMP:20260420T215221
CREATED:20220929T060116Z
LAST-MODIFIED:20220929T060116Z
UID:20000942-1663095600-1663101000@www.shinbugent.be
SUMMARY:Clubtraining
DESCRIPTION:
URL:https://www.shinbugent.be/event/clubtraining/2022-09-13/
LOCATION:Universitair Sportcentrum (Gent)\, Watersportlaan 3\, Gent\, Oost-Vlaanderen\, 9000\, België
GEO:51.0475487;3.7026469
X-APPLE-STRUCTURED-LOCATION;VALUE=URI;X-ADDRESS=Universitair Sportcentrum (Gent) Watersportlaan 3 Gent Oost-Vlaanderen 9000 België;X-APPLE-RADIUS=500;X-TITLE=Watersportlaan 3:geo:3.7026469,51.0475487
END:VEVENT
BEGIN:VEVENT
DTSTART;TZID=Europe/Brussels:20220913T190000
DTEND;TZID=Europe/Brussels:20220913T203000
DTSTAMP:20260420T215221
CREATED:20220824T172626Z
LAST-MODIFIED:20220824T172627Z
UID:20001086-1663095600-1663101000@www.shinbugent.be
SUMMARY:Club-competitietraining
DESCRIPTION:
URL:https://www.shinbugent.be/event/club-competitietraining-2/
LOCATION:Universitair Sportcentrum (Gent)\, Watersportlaan 3\, Gent\, Oost-Vlaanderen\, 9000\, België
GEO:51.0475487;3.7026469
X-APPLE-STRUCTURED-LOCATION;VALUE=URI;X-ADDRESS=Universitair Sportcentrum (Gent) Watersportlaan 3 Gent Oost-Vlaanderen 9000 België;X-APPLE-RADIUS=500;X-TITLE=Watersportlaan 3:geo:3.7026469,51.0475487
END:VEVENT
BEGIN:VEVENT
DTSTART;TZID=Europe/Brussels:20220910T100000
DTEND;TZID=Europe/Brussels:20220910T113000
DTSTAMP:20260420T215221
CREATED:20220711T170912Z
LAST-MODIFIED:20220711T170914Z
UID:20000925-1662804000-1662809400@www.shinbugent.be
SUMMARY:Clubtraining
DESCRIPTION:
URL:https://www.shinbugent.be/event/clubtraining/2022-09-10/
LOCATION:Universitair Sportcentrum (Gent)\, Watersportlaan 3\, Gent\, Oost-Vlaanderen\, 9000\, België
GEO:51.0475487;3.7026469
X-APPLE-STRUCTURED-LOCATION;VALUE=URI;X-ADDRESS=Universitair Sportcentrum (Gent) Watersportlaan 3 Gent Oost-Vlaanderen 9000 België;X-APPLE-RADIUS=500;X-TITLE=Watersportlaan 3:geo:3.7026469,51.0475487
END:VEVENT
BEGIN:VEVENT
DTSTART;TZID=Europe/Brussels:20220908T193000
DTEND;TZID=Europe/Brussels:20220908T210000
DTSTAMP:20260420T215221
CREATED:20220929T060116Z
LAST-MODIFIED:20220929T060116Z
UID:20000956-1662665400-1662670800@www.shinbugent.be
SUMMARY:Clubtraining
DESCRIPTION:
URL:https://www.shinbugent.be/event/clubtraining/2022-09-08/
LOCATION:Universitair Sportcentrum (Gent)\, Watersportlaan 3\, Gent\, Oost-Vlaanderen\, 9000\, België
GEO:51.0475487;3.7026469
X-APPLE-STRUCTURED-LOCATION;VALUE=URI;X-ADDRESS=Universitair Sportcentrum (Gent) Watersportlaan 3 Gent Oost-Vlaanderen 9000 België;X-APPLE-RADIUS=500;X-TITLE=Watersportlaan 3:geo:3.7026469,51.0475487
END:VEVENT
BEGIN:VEVENT
DTSTART;TZID=Europe/Brussels:20220906T190000
DTEND;TZID=Europe/Brussels:20220906T203000
DTSTAMP:20260420T215221
CREATED:20220929T060116Z
LAST-MODIFIED:20220929T060116Z
UID:20000941-1662490800-1662496200@www.shinbugent.be
SUMMARY:Clubtraining
DESCRIPTION:
URL:https://www.shinbugent.be/event/clubtraining/2022-09-06/
LOCATION:Universitair Sportcentrum (Gent)\, Watersportlaan 3\, Gent\, Oost-Vlaanderen\, 9000\, België
GEO:51.0475487;3.7026469
X-APPLE-STRUCTURED-LOCATION;VALUE=URI;X-ADDRESS=Universitair Sportcentrum (Gent) Watersportlaan 3 Gent Oost-Vlaanderen 9000 België;X-APPLE-RADIUS=500;X-TITLE=Watersportlaan 3:geo:3.7026469,51.0475487
END:VEVENT
END:VCALENDAR