BEGIN:VCALENDAR
VERSION:2.0
PRODID:-//Shinbu Gent - ECPv6.15.18//NONSGML v1.0//EN
CALSCALE:GREGORIAN
METHOD:PUBLISH
X-ORIGINAL-URL:https://www.shinbugent.be
X-WR-CALDESC:Evenementen voor Shinbu Gent
REFRESH-INTERVAL;VALUE=DURATION:PT1H
X-Robots-Tag:noindex
X-PUBLISHED-TTL:PT1H
BEGIN:VTIMEZONE
TZID:Europe/Brussels
BEGIN:DAYLIGHT
TZOFFSETFROM:+0100
TZOFFSETTO:+0200
TZNAME:CEST
DTSTART:20220327T010000
END:DAYLIGHT
BEGIN:STANDARD
TZOFFSETFROM:+0200
TZOFFSETTO:+0100
TZNAME:CET
DTSTART:20221030T010000
END:STANDARD
BEGIN:DAYLIGHT
TZOFFSETFROM:+0100
TZOFFSETTO:+0200
TZNAME:CEST
DTSTART:20230326T010000
END:DAYLIGHT
BEGIN:STANDARD
TZOFFSETFROM:+0200
TZOFFSETTO:+0100
TZNAME:CET
DTSTART:20231029T010000
END:STANDARD
BEGIN:DAYLIGHT
TZOFFSETFROM:+0100
TZOFFSETTO:+0200
TZNAME:CEST
DTSTART:20240331T010000
END:DAYLIGHT
BEGIN:STANDARD
TZOFFSETFROM:+0200
TZOFFSETTO:+0100
TZNAME:CET
DTSTART:20241027T010000
END:STANDARD
END:VTIMEZONE
BEGIN:VEVENT
DTSTART;TZID=Europe/Brussels:20230916T100000
DTEND;TZID=Europe/Brussels:20230916T113000
DTSTAMP:20260419T154533
CREATED:20230813T144711Z
LAST-MODIFIED:20230813T144713Z
UID:20001164-1694858400-1694863800@www.shinbugent.be
SUMMARY:Clubtraining
DESCRIPTION:clubtraining voor de jeugdgroep en de groep van de volwassenen
URL:https://www.shinbugent.be/event/clubtraining-44/2023-09-16/
LOCATION:Gents Universitair sportcentrum\, Watersportlaan 3\, Gent\, 9000\, België
END:VEVENT
BEGIN:VEVENT
DTSTART;TZID=Europe/Brussels:20230917T103000
DTEND;TZID=Europe/Brussels:20230917T143000
DTSTAMP:20260419T154533
CREATED:20230813T183518Z
LAST-MODIFIED:20230813T183520Z
UID:20001234-1694946600-1694961000@www.shinbugent.be
SUMMARY:Trainingsdag 'The way of the warrior' te Ieper
DESCRIPTION:trainingsdag (kumite)lessen: om 10u30 tot 12u & om 13u tot 14u30– €18 volledige dag volwassenen of €12/ les– €14 volledige dag kinderen of €10/ les
URL:https://www.shinbugent.be/event/trainingsdag-the-way-of-the-warrior-te-ieper-2/
LOCATION:Sporthal 1 (Ieper)\,  Leopold III-laan\, Ieper\, 8900\, België
GEO:50.8466147;2.8935223
X-APPLE-STRUCTURED-LOCATION;VALUE=URI;X-ADDRESS=Sporthal 1 (Ieper)  Leopold III-laan Ieper 8900 België;X-APPLE-RADIUS=500;X-TITLE=Leopold III-laan:geo:2.8935223,50.8466147
END:VEVENT
BEGIN:VEVENT
DTSTART;TZID=Europe/Brussels:20230919T190000
DTEND;TZID=Europe/Brussels:20230919T200000
DTSTAMP:20260419T154533
CREATED:20230813T151650Z
LAST-MODIFIED:20230813T151652Z
UID:20001169-1695150000-1695153600@www.shinbugent.be
SUMMARY:Clubtraining jeugd
DESCRIPTION:clubtraining voor de jeugdgroep (vanaf 8 jaar en minstens 1 seizoen karate-ervaring)
URL:https://www.shinbugent.be/event/clubtraining-jeugd-2/2023-09-19/
LOCATION:Universitair Sportcentrum (Gent)\, Watersportlaan 3\, Gent\, Oost-Vlaanderen\, 9000\, België
GEO:51.0475487;3.7026469
X-APPLE-STRUCTURED-LOCATION;VALUE=URI;X-ADDRESS=Universitair Sportcentrum (Gent) Watersportlaan 3 Gent Oost-Vlaanderen 9000 België;X-APPLE-RADIUS=500;X-TITLE=Watersportlaan 3:geo:3.7026469,51.0475487
END:VEVENT
BEGIN:VEVENT
DTSTART;TZID=Europe/Brussels:20230919T190000
DTEND;TZID=Europe/Brussels:20230919T203000
DTSTAMP:20260419T154533
CREATED:20230813T143816Z
LAST-MODIFIED:20230813T143818Z
UID:20001155-1695150000-1695155400@www.shinbugent.be
SUMMARY:Clubtraining
DESCRIPTION:clubtraining voor de groep van volwassenen (vanaf 13 jaar)
URL:https://www.shinbugent.be/event/clubtraining-42/2023-09-19/
LOCATION:Universitair Sportcentrum (Gent)\, Watersportlaan 3\, Gent\, Oost-Vlaanderen\, 9000\, België
GEO:51.0475487;3.7026469
X-APPLE-STRUCTURED-LOCATION;VALUE=URI;X-ADDRESS=Universitair Sportcentrum (Gent) Watersportlaan 3 Gent Oost-Vlaanderen 9000 België;X-APPLE-RADIUS=500;X-TITLE=Watersportlaan 3:geo:3.7026469,51.0475487
END:VEVENT
BEGIN:VEVENT
DTSTART;TZID=Europe/Brussels:20230919T190000
DTEND;TZID=Europe/Brussels:20230919T203000
DTSTAMP:20260419T154533
CREATED:20230813T153755Z
LAST-MODIFIED:20230814T100907Z
UID:20001220-1695150000-1695155400@www.shinbugent.be
SUMMARY:competitietraining Shinbu
DESCRIPTION:handschoenen + springtouw meenemen
URL:https://www.shinbugent.be/event/competitietraining-shinbu/2023-09-19/
LOCATION:Universitair Sportcentrum (Gent)\, Watersportlaan 3\, Gent\, Oost-Vlaanderen\, 9000\, België
GEO:51.0475487;3.7026469
X-APPLE-STRUCTURED-LOCATION;VALUE=URI;X-ADDRESS=Universitair Sportcentrum (Gent) Watersportlaan 3 Gent Oost-Vlaanderen 9000 België;X-APPLE-RADIUS=500;X-TITLE=Watersportlaan 3:geo:3.7026469,51.0475487
END:VEVENT
BEGIN:VEVENT
DTSTART;TZID=Europe/Brussels:20230921T193000
DTEND;TZID=Europe/Brussels:20230921T210000
DTSTAMP:20260419T154533
CREATED:20221128T124931Z
LAST-MODIFIED:20221128T124932Z
UID:20001108-1695324600-1695330000@www.shinbugent.be
SUMMARY:Provinciale training
DESCRIPTION:
URL:https://www.shinbugent.be/event/provinciale-training-12/
LOCATION:Universitair Sportcentrum (Gent)\, Watersportlaan 3\, Gent\, Oost-Vlaanderen\, 9000\, België
GEO:51.0475487;3.7026469
X-APPLE-STRUCTURED-LOCATION;VALUE=URI;X-ADDRESS=Universitair Sportcentrum (Gent) Watersportlaan 3 Gent Oost-Vlaanderen 9000 België;X-APPLE-RADIUS=500;X-TITLE=Watersportlaan 3:geo:3.7026469,51.0475487
END:VEVENT
BEGIN:VEVENT
DTSTART;TZID=Europe/Brussels:20230921T193000
DTEND;TZID=Europe/Brussels:20230921T210000
DTSTAMP:20260419T154533
CREATED:20230813T144333Z
LAST-MODIFIED:20230813T144335Z
UID:20001160-1695324600-1695330000@www.shinbugent.be
SUMMARY:Clubtraining
DESCRIPTION:clubtraining voor de groep van volwassenen (vanaf 13 jaar)
URL:https://www.shinbugent.be/event/clubtraining-43/2023-09-21/
LOCATION:Universitair Sportcentrum (Gent)\, Watersportlaan 3\, Gent\, Oost-Vlaanderen\, 9000\, België
GEO:51.0475487;3.7026469
X-APPLE-STRUCTURED-LOCATION;VALUE=URI;X-ADDRESS=Universitair Sportcentrum (Gent) Watersportlaan 3 Gent Oost-Vlaanderen 9000 België;X-APPLE-RADIUS=500;X-TITLE=Watersportlaan 3:geo:3.7026469,51.0475487
END:VEVENT
BEGIN:VEVENT
DTSTART;TZID=Europe/Brussels:20230923T100000
DTEND;TZID=Europe/Brussels:20230923T113000
DTSTAMP:20260419T154533
CREATED:20230813T144711Z
LAST-MODIFIED:20230813T144713Z
UID:20001165-1695463200-1695468600@www.shinbugent.be
SUMMARY:Clubtraining
DESCRIPTION:clubtraining voor de jeugdgroep en de groep van de volwassenen
URL:https://www.shinbugent.be/event/clubtraining-44/2023-09-23/
LOCATION:Gents Universitair sportcentrum\, Watersportlaan 3\, Gent\, 9000\, België
END:VEVENT
BEGIN:VEVENT
DTSTART;TZID=Europe/Brussels:20230924T090000
DTEND;TZID=Europe/Brussels:20230924T170000
DTSTAMP:20260419T154533
CREATED:20221130T175558Z
LAST-MODIFIED:20221130T175559Z
UID:20001119-1695546000-1695574800@www.shinbugent.be
SUMMARY:Tornooi van Eeklo
DESCRIPTION:
URL:https://www.shinbugent.be/event/tornooi-van-eeklo-2/
LOCATION:Stedelijke Sporthal Eeklo\, Burg. Lionel Pussemierstraat 157\, Eeklo\, Oost-Vlaanderen\, 9900\, België
GEO:51.1824004;3.5777537
X-APPLE-STRUCTURED-LOCATION;VALUE=URI;X-ADDRESS=Stedelijke Sporthal Eeklo Burg. Lionel Pussemierstraat 157 Eeklo Oost-Vlaanderen 9900 België;X-APPLE-RADIUS=500;X-TITLE=Burg. Lionel Pussemierstraat 157:geo:3.5777537,51.1824004
END:VEVENT
BEGIN:VEVENT
DTSTART;TZID=Europe/Brussels:20230926T190000
DTEND;TZID=Europe/Brussels:20230926T200000
DTSTAMP:20260419T154533
CREATED:20230813T151650Z
LAST-MODIFIED:20230813T151652Z
UID:20001170-1695754800-1695758400@www.shinbugent.be
SUMMARY:Clubtraining jeugd
DESCRIPTION:clubtraining voor de jeugdgroep (vanaf 8 jaar en minstens 1 seizoen karate-ervaring)
URL:https://www.shinbugent.be/event/clubtraining-jeugd-2/2023-09-26/
LOCATION:Universitair Sportcentrum (Gent)\, Watersportlaan 3\, Gent\, Oost-Vlaanderen\, 9000\, België
GEO:51.0475487;3.7026469
X-APPLE-STRUCTURED-LOCATION;VALUE=URI;X-ADDRESS=Universitair Sportcentrum (Gent) Watersportlaan 3 Gent Oost-Vlaanderen 9000 België;X-APPLE-RADIUS=500;X-TITLE=Watersportlaan 3:geo:3.7026469,51.0475487
END:VEVENT
BEGIN:VEVENT
DTSTART;TZID=Europe/Brussels:20230926T190000
DTEND;TZID=Europe/Brussels:20230926T203000
DTSTAMP:20260419T154533
CREATED:20230816T103049Z
LAST-MODIFIED:20230816T103111Z
UID:20001156-1695754800-1695760200@www.shinbugent.be
SUMMARY:Clubtraining - Defence training
DESCRIPTION:clubtraining voor de groep van volwassenen (vanaf 13 jaar)
URL:https://www.shinbugent.be/event/clubtraining-58/
LOCATION:Universitair Sportcentrum (Gent)\, Watersportlaan 3\, Gent\, Oost-Vlaanderen\, 9000\, België
GEO:51.0475487;3.7026469
X-APPLE-STRUCTURED-LOCATION;VALUE=URI;X-ADDRESS=Universitair Sportcentrum (Gent) Watersportlaan 3 Gent Oost-Vlaanderen 9000 België;X-APPLE-RADIUS=500;X-TITLE=Watersportlaan 3:geo:3.7026469,51.0475487
END:VEVENT
BEGIN:VEVENT
DTSTART;TZID=Europe/Brussels:20230928T193000
DTEND;TZID=Europe/Brussels:20230928T210000
DTSTAMP:20260419T154533
CREATED:20230813T144333Z
LAST-MODIFIED:20230813T144335Z
UID:20001161-1695929400-1695934800@www.shinbugent.be
SUMMARY:Clubtraining
DESCRIPTION:clubtraining voor de groep van volwassenen (vanaf 13 jaar)
URL:https://www.shinbugent.be/event/clubtraining-43/2023-09-28/
LOCATION:Universitair Sportcentrum (Gent)\, Watersportlaan 3\, Gent\, Oost-Vlaanderen\, 9000\, België
GEO:51.0475487;3.7026469
X-APPLE-STRUCTURED-LOCATION;VALUE=URI;X-ADDRESS=Universitair Sportcentrum (Gent) Watersportlaan 3 Gent Oost-Vlaanderen 9000 België;X-APPLE-RADIUS=500;X-TITLE=Watersportlaan 3:geo:3.7026469,51.0475487
END:VEVENT
BEGIN:VEVENT
DTSTART;TZID=Europe/Brussels:20230928T193000
DTEND;TZID=Europe/Brussels:20230928T210000
DTSTAMP:20260419T154533
CREATED:20230813T153755Z
LAST-MODIFIED:20230814T100907Z
UID:20001221-1695929400-1695934800@www.shinbugent.be
SUMMARY:competitietraining Shinbu
DESCRIPTION:handschoenen + springtouw meenemen
URL:https://www.shinbugent.be/event/competitietraining-shinbu/2023-09-28/
LOCATION:Universitair Sportcentrum (Gent)\, Watersportlaan 3\, Gent\, Oost-Vlaanderen\, 9000\, België
GEO:51.0475487;3.7026469
X-APPLE-STRUCTURED-LOCATION;VALUE=URI;X-ADDRESS=Universitair Sportcentrum (Gent) Watersportlaan 3 Gent Oost-Vlaanderen 9000 België;X-APPLE-RADIUS=500;X-TITLE=Watersportlaan 3:geo:3.7026469,51.0475487
END:VEVENT
BEGIN:VEVENT
DTSTART;TZID=Europe/Brussels:20230930T100000
DTEND;TZID=Europe/Brussels:20230930T113000
DTSTAMP:20260419T154533
CREATED:20230813T144711Z
LAST-MODIFIED:20230813T144713Z
UID:20001166-1696068000-1696073400@www.shinbugent.be
SUMMARY:Clubtraining
DESCRIPTION:clubtraining voor de jeugdgroep en de groep van de volwassenen
URL:https://www.shinbugent.be/event/clubtraining-44/2023-09-30/
LOCATION:Gents Universitair sportcentrum\, Watersportlaan 3\, Gent\, 9000\, België
END:VEVENT
BEGIN:VEVENT
DTSTART;TZID=Europe/Brussels:20231001T100000
DTEND;TZID=Europe/Brussels:20231001T170000
DTSTAMP:20260419T154533
CREATED:20230813T182547Z
LAST-MODIFIED:20230813T182549Z
UID:20001233-1696154400-1696179600@www.shinbugent.be
SUMMARY:JKA Vlaams kampioenschap (vanaf kadet)
DESCRIPTION:
URL:https://www.shinbugent.be/event/jka-vlaams-kampioenschap-vanaf-kadet/
END:VEVENT
BEGIN:VEVENT
DTSTART;TZID=Europe/Brussels:20231003T190000
DTEND;TZID=Europe/Brussels:20231003T200000
DTSTAMP:20260419T154533
CREATED:20230813T152321Z
LAST-MODIFIED:20230813T152323Z
UID:20001183-1696359600-1696363200@www.shinbugent.be
SUMMARY:Clubtraining jeugd
DESCRIPTION:clubtraining voor de jeugdgroep (vanaf 8 jaar en minstens 1 seizoen karate-ervaring)
URL:https://www.shinbugent.be/event/clubtraining-jeugd-3/2023-10-03/
LOCATION:Universitair Sportcentrum (Gent)\, Watersportlaan 3\, Gent\, Oost-Vlaanderen\, 9000\, België
GEO:51.0475487;3.7026469
X-APPLE-STRUCTURED-LOCATION;VALUE=URI;X-ADDRESS=Universitair Sportcentrum (Gent) Watersportlaan 3 Gent Oost-Vlaanderen 9000 België;X-APPLE-RADIUS=500;X-TITLE=Watersportlaan 3:geo:3.7026469,51.0475487
END:VEVENT
BEGIN:VEVENT
DTSTART;TZID=Europe/Brussels:20231003T190000
DTEND;TZID=Europe/Brussels:20231003T203000
DTSTAMP:20260419T154533
CREATED:20230813T152004Z
LAST-MODIFIED:20230813T152008Z
UID:20001171-1696359600-1696365000@www.shinbugent.be
SUMMARY:Clubtraining
DESCRIPTION:clubtraining voor de groep van volwassenen (vanaf 13 jaar)
URL:https://www.shinbugent.be/event/clubtraining-45/2023-10-03/
LOCATION:Universitair Sportcentrum (Gent)\, Watersportlaan 3\, Gent\, Oost-Vlaanderen\, 9000\, België
GEO:51.0475487;3.7026469
X-APPLE-STRUCTURED-LOCATION;VALUE=URI;X-ADDRESS=Universitair Sportcentrum (Gent) Watersportlaan 3 Gent Oost-Vlaanderen 9000 België;X-APPLE-RADIUS=500;X-TITLE=Watersportlaan 3:geo:3.7026469,51.0475487
END:VEVENT
BEGIN:VEVENT
DTSTART;TZID=Europe/Brussels:20231005T193000
DTEND;TZID=Europe/Brussels:20231005T210000
DTSTAMP:20260419T154533
CREATED:20230813T152616Z
LAST-MODIFIED:20230813T152618Z
UID:20001195-1696534200-1696539600@www.shinbugent.be
SUMMARY:Clubtraining
DESCRIPTION:clubtraining voor de groep van volwassenen (vanaf 13 jaar)
URL:https://www.shinbugent.be/event/clubtraining-46/2023-10-05/
LOCATION:Universitair Sportcentrum (Gent)\, Watersportlaan 3\, Gent\, Oost-Vlaanderen\, 9000\, België
GEO:51.0475487;3.7026469
X-APPLE-STRUCTURED-LOCATION;VALUE=URI;X-ADDRESS=Universitair Sportcentrum (Gent) Watersportlaan 3 Gent Oost-Vlaanderen 9000 België;X-APPLE-RADIUS=500;X-TITLE=Watersportlaan 3:geo:3.7026469,51.0475487
END:VEVENT
BEGIN:VEVENT
DTSTART;TZID=Europe/Brussels:20231005T193000
DTEND;TZID=Europe/Brussels:20231005T210000
DTSTAMP:20260419T154533
CREATED:20230813T153755Z
LAST-MODIFIED:20230814T100907Z
UID:20001222-1696534200-1696539600@www.shinbugent.be
SUMMARY:competitietraining Shinbu
DESCRIPTION:handschoenen + springtouw meenemen
URL:https://www.shinbugent.be/event/competitietraining-shinbu/2023-10-05/
LOCATION:Universitair Sportcentrum (Gent)\, Watersportlaan 3\, Gent\, Oost-Vlaanderen\, 9000\, België
GEO:51.0475487;3.7026469
X-APPLE-STRUCTURED-LOCATION;VALUE=URI;X-ADDRESS=Universitair Sportcentrum (Gent) Watersportlaan 3 Gent Oost-Vlaanderen 9000 België;X-APPLE-RADIUS=500;X-TITLE=Watersportlaan 3:geo:3.7026469,51.0475487
END:VEVENT
BEGIN:VEVENT
DTSTART;TZID=Europe/Brussels:20231007T100000
DTEND;TZID=Europe/Brussels:20231007T113000
DTSTAMP:20260419T154533
CREATED:20230813T152954Z
LAST-MODIFIED:20230813T152956Z
UID:20001206-1696672800-1696678200@www.shinbugent.be
SUMMARY:Clubtraining
DESCRIPTION:clubtraining voor de jeugdgroep en de groep van de volwassenen (+ 30 minuten vrije training na de clubtraining)
URL:https://www.shinbugent.be/event/clubtraining-47/2023-10-07/
LOCATION:Universitair Sportcentrum (Gent)\, Watersportlaan 3\, Gent\, Oost-Vlaanderen\, 9000\, België
GEO:51.0475487;3.7026469
X-APPLE-STRUCTURED-LOCATION;VALUE=URI;X-ADDRESS=Universitair Sportcentrum (Gent) Watersportlaan 3 Gent Oost-Vlaanderen 9000 België;X-APPLE-RADIUS=500;X-TITLE=Watersportlaan 3:geo:3.7026469,51.0475487
END:VEVENT
BEGIN:VEVENT
DTSTART;TZID=Europe/Brussels:20231007T140000
DTEND;TZID=Europe/Brussels:20231007T153000
DTSTAMP:20260419T154533
CREATED:20230813T181857Z
LAST-MODIFIED:20230813T181859Z
UID:20001226-1696687200-1696692600@www.shinbugent.be
SUMMARY:Nationale training
DESCRIPTION:Alle graden – minimum 14 jaar
URL:https://www.shinbugent.be/event/nationale-training-10/2023-10-07/
LOCATION:Complexe Gaston Reiff (Braine l’Alleud)\, Rue Ernest Laurent 210\, Braine l'Alleud\, 1420\, België
GEO:50.678249;4.3848448
X-APPLE-STRUCTURED-LOCATION;VALUE=URI;X-ADDRESS=Complexe Gaston Reiff (Braine l’Alleud) Rue Ernest Laurent 210 Braine l'Alleud 1420 België;X-APPLE-RADIUS=500;X-TITLE=Rue Ernest Laurent 210:geo:4.3848448,50.678249
END:VEVENT
BEGIN:VEVENT
DTSTART;TZID=Europe/Brussels:20231007T140000
DTEND;TZID=Europe/Brussels:20231007T153000
DTSTAMP:20260419T154533
CREATED:20230813T182317Z
LAST-MODIFIED:20230813T182319Z
UID:20001230-1696687200-1696692600@www.shinbugent.be
SUMMARY:Nationale training jongeren
DESCRIPTION:Vanaf 7 jaar en vanaf witte gordel
URL:https://www.shinbugent.be/event/nationale-training-jongeren/2023-10-07/
LOCATION:Complexe Gaston Reiff (Braine l’Alleud)\, Rue Ernest Laurent 210\, Braine l'Alleud\, 1420\, België
GEO:50.678249;4.3848448
X-APPLE-STRUCTURED-LOCATION;VALUE=URI;X-ADDRESS=Complexe Gaston Reiff (Braine l’Alleud) Rue Ernest Laurent 210 Braine l'Alleud 1420 België;X-APPLE-RADIUS=500;X-TITLE=Rue Ernest Laurent 210:geo:4.3848448,50.678249
END:VEVENT
BEGIN:VEVENT
DTSTART;TZID=Europe/Brussels:20231010T190000
DTEND;TZID=Europe/Brussels:20231010T200000
DTSTAMP:20260419T154533
CREATED:20230813T152321Z
LAST-MODIFIED:20230813T152323Z
UID:20001184-1696964400-1696968000@www.shinbugent.be
SUMMARY:Clubtraining jeugd
DESCRIPTION:clubtraining voor de jeugdgroep (vanaf 8 jaar en minstens 1 seizoen karate-ervaring)
URL:https://www.shinbugent.be/event/clubtraining-jeugd-3/2023-10-10/
LOCATION:Universitair Sportcentrum (Gent)\, Watersportlaan 3\, Gent\, Oost-Vlaanderen\, 9000\, België
GEO:51.0475487;3.7026469
X-APPLE-STRUCTURED-LOCATION;VALUE=URI;X-ADDRESS=Universitair Sportcentrum (Gent) Watersportlaan 3 Gent Oost-Vlaanderen 9000 België;X-APPLE-RADIUS=500;X-TITLE=Watersportlaan 3:geo:3.7026469,51.0475487
END:VEVENT
BEGIN:VEVENT
DTSTART;TZID=Europe/Brussels:20231010T190000
DTEND;TZID=Europe/Brussels:20231010T203000
DTSTAMP:20260419T154533
CREATED:20230813T152004Z
LAST-MODIFIED:20230813T152008Z
UID:20001172-1696964400-1696969800@www.shinbugent.be
SUMMARY:Clubtraining
DESCRIPTION:clubtraining voor de groep van volwassenen (vanaf 13 jaar)
URL:https://www.shinbugent.be/event/clubtraining-45/2023-10-10/
LOCATION:Universitair Sportcentrum (Gent)\, Watersportlaan 3\, Gent\, Oost-Vlaanderen\, 9000\, België
GEO:51.0475487;3.7026469
X-APPLE-STRUCTURED-LOCATION;VALUE=URI;X-ADDRESS=Universitair Sportcentrum (Gent) Watersportlaan 3 Gent Oost-Vlaanderen 9000 België;X-APPLE-RADIUS=500;X-TITLE=Watersportlaan 3:geo:3.7026469,51.0475487
END:VEVENT
BEGIN:VEVENT
DTSTART;TZID=Europe/Brussels:20231012T193000
DTEND;TZID=Europe/Brussels:20231012T210000
DTSTAMP:20260419T154533
CREATED:20230813T152616Z
LAST-MODIFIED:20230813T152618Z
UID:20001196-1697139000-1697144400@www.shinbugent.be
SUMMARY:Clubtraining
DESCRIPTION:clubtraining voor de groep van volwassenen (vanaf 13 jaar)
URL:https://www.shinbugent.be/event/clubtraining-46/2023-10-12/
LOCATION:Universitair Sportcentrum (Gent)\, Watersportlaan 3\, Gent\, Oost-Vlaanderen\, 9000\, België
GEO:51.0475487;3.7026469
X-APPLE-STRUCTURED-LOCATION;VALUE=URI;X-ADDRESS=Universitair Sportcentrum (Gent) Watersportlaan 3 Gent Oost-Vlaanderen 9000 België;X-APPLE-RADIUS=500;X-TITLE=Watersportlaan 3:geo:3.7026469,51.0475487
END:VEVENT
BEGIN:VEVENT
DTSTART;TZID=Europe/Brussels:20231012T193000
DTEND;TZID=Europe/Brussels:20231012T210000
DTSTAMP:20260419T154533
CREATED:20230813T153755Z
LAST-MODIFIED:20230814T100907Z
UID:20001223-1697139000-1697144400@www.shinbugent.be
SUMMARY:competitietraining Shinbu
DESCRIPTION:handschoenen + springtouw meenemen
URL:https://www.shinbugent.be/event/competitietraining-shinbu/2023-10-12/
LOCATION:Universitair Sportcentrum (Gent)\, Watersportlaan 3\, Gent\, Oost-Vlaanderen\, 9000\, België
GEO:51.0475487;3.7026469
X-APPLE-STRUCTURED-LOCATION;VALUE=URI;X-ADDRESS=Universitair Sportcentrum (Gent) Watersportlaan 3 Gent Oost-Vlaanderen 9000 België;X-APPLE-RADIUS=500;X-TITLE=Watersportlaan 3:geo:3.7026469,51.0475487
END:VEVENT
BEGIN:VEVENT
DTSTART;TZID=Europe/Brussels:20231014T100000
DTEND;TZID=Europe/Brussels:20231014T113000
DTSTAMP:20260419T154533
CREATED:20230813T152954Z
LAST-MODIFIED:20230813T152956Z
UID:20001207-1697277600-1697283000@www.shinbugent.be
SUMMARY:Clubtraining
DESCRIPTION:clubtraining voor de jeugdgroep en de groep van de volwassenen (+ 30 minuten vrije training na de clubtraining)
URL:https://www.shinbugent.be/event/clubtraining-47/2023-10-14/
LOCATION:Universitair Sportcentrum (Gent)\, Watersportlaan 3\, Gent\, Oost-Vlaanderen\, 9000\, België
GEO:51.0475487;3.7026469
X-APPLE-STRUCTURED-LOCATION;VALUE=URI;X-ADDRESS=Universitair Sportcentrum (Gent) Watersportlaan 3 Gent Oost-Vlaanderen 9000 België;X-APPLE-RADIUS=500;X-TITLE=Watersportlaan 3:geo:3.7026469,51.0475487
END:VEVENT
BEGIN:VEVENT
DTSTART;TZID=Europe/Brussels:20231014T133000
DTEND;TZID=Europe/Brussels:20231014T173000
DTSTAMP:20260419T154533
CREATED:20230813T184102Z
LAST-MODIFIED:20230813T184104Z
UID:20001235-1697290200-1697304600@www.shinbugent.be
SUMMARY:JOW 1 - Lede
DESCRIPTION:Jeugdoefenwedstrijd (1/8)
URL:https://www.shinbugent.be/event/jow-1-lede-2/
LOCATION:Sportcomplex De Ommegang (Lede)\, Ommeganglaan 60 A\, Lede\, Oost-Vlaanderen\, 9340\, België
GEO:50.9591145;3.9780411
X-APPLE-STRUCTURED-LOCATION;VALUE=URI;X-ADDRESS=Sportcomplex De Ommegang (Lede) Ommeganglaan 60 A Lede Oost-Vlaanderen 9340 België;X-APPLE-RADIUS=500;X-TITLE=Ommeganglaan 60 A:geo:3.9780411,50.9591145
END:VEVENT
BEGIN:VEVENT
DTSTART;TZID=Europe/Brussels:20231015T100000
DTEND;TZID=Europe/Brussels:20231015T170000
DTSTAMP:20260419T154533
CREATED:20230813T184312Z
LAST-MODIFIED:20230813T184313Z
UID:20001236-1697364000-1697389200@www.shinbugent.be
SUMMARY:Belgisch kampioenschap JKA (vanaf kadet)
DESCRIPTION:wedstrijd op basis van selectie
URL:https://www.shinbugent.be/event/belgisch-kampioenschap-jka-vanaf-kadet/
LOCATION:Complexe Gaston Reiff (Braine l’Alleud)\, Rue Ernest Laurent 210\, Braine l'Alleud\, 1420\, België
GEO:50.678249;4.3848448
X-APPLE-STRUCTURED-LOCATION;VALUE=URI;X-ADDRESS=Complexe Gaston Reiff (Braine l’Alleud) Rue Ernest Laurent 210 Braine l'Alleud 1420 België;X-APPLE-RADIUS=500;X-TITLE=Rue Ernest Laurent 210:geo:4.3848448,50.678249
END:VEVENT
BEGIN:VEVENT
DTSTART;TZID=Europe/Brussels:20231017T190000
DTEND;TZID=Europe/Brussels:20231017T200000
DTSTAMP:20260419T154533
CREATED:20230813T152321Z
LAST-MODIFIED:20230813T152323Z
UID:20001185-1697569200-1697572800@www.shinbugent.be
SUMMARY:Clubtraining jeugd
DESCRIPTION:clubtraining voor de jeugdgroep (vanaf 8 jaar en minstens 1 seizoen karate-ervaring)
URL:https://www.shinbugent.be/event/clubtraining-jeugd-3/2023-10-17/
LOCATION:Universitair Sportcentrum (Gent)\, Watersportlaan 3\, Gent\, Oost-Vlaanderen\, 9000\, België
GEO:51.0475487;3.7026469
X-APPLE-STRUCTURED-LOCATION;VALUE=URI;X-ADDRESS=Universitair Sportcentrum (Gent) Watersportlaan 3 Gent Oost-Vlaanderen 9000 België;X-APPLE-RADIUS=500;X-TITLE=Watersportlaan 3:geo:3.7026469,51.0475487
END:VEVENT
END:VCALENDAR