BEGIN:VCALENDAR
VERSION:2.0
PRODID:-//Shinbu Gent - ECPv6.15.18//NONSGML v1.0//EN
CALSCALE:GREGORIAN
METHOD:PUBLISH
X-WR-CALNAME:Shinbu Gent
X-ORIGINAL-URL:https://www.shinbugent.be
X-WR-CALDESC:Evenementen voor Shinbu Gent
REFRESH-INTERVAL;VALUE=DURATION:PT1H
X-Robots-Tag:noindex
X-PUBLISHED-TTL:PT1H
BEGIN:VTIMEZONE
TZID:Europe/Brussels
BEGIN:DAYLIGHT
TZOFFSETFROM:+0100
TZOFFSETTO:+0200
TZNAME:CEST
DTSTART:20230326T010000
END:DAYLIGHT
BEGIN:STANDARD
TZOFFSETFROM:+0200
TZOFFSETTO:+0100
TZNAME:CET
DTSTART:20231029T010000
END:STANDARD
BEGIN:DAYLIGHT
TZOFFSETFROM:+0100
TZOFFSETTO:+0200
TZNAME:CEST
DTSTART:20240331T010000
END:DAYLIGHT
BEGIN:STANDARD
TZOFFSETFROM:+0200
TZOFFSETTO:+0100
TZNAME:CET
DTSTART:20241027T010000
END:STANDARD
BEGIN:DAYLIGHT
TZOFFSETFROM:+0100
TZOFFSETTO:+0200
TZNAME:CEST
DTSTART:20250330T010000
END:DAYLIGHT
BEGIN:STANDARD
TZOFFSETFROM:+0200
TZOFFSETTO:+0100
TZNAME:CET
DTSTART:20251026T010000
END:STANDARD
END:VTIMEZONE
BEGIN:VEVENT
DTSTART;TZID=Europe/Brussels:20240618T190000
DTEND;TZID=Europe/Brussels:20240618T200000
DTSTAMP:20260421T054955
CREATED:20230814T114620Z
LAST-MODIFIED:20230814T114625Z
UID:20001348-1718737200-1718740800@www.shinbugent.be
SUMMARY:Clubtraining jeugd
DESCRIPTION:clubtraining voor de jeugdgroep (vanaf 8 jaar en minstens 1 seizoen karate-ervaring)
URL:https://www.shinbugent.be/event/clubtraining-jeugd-5/2024-06-18/
LOCATION:Universitair Sportcentrum (Gent)\, Watersportlaan 3\, Gent\, Oost-Vlaanderen\, 9000\, België
GEO:51.0475487;3.7026469
X-APPLE-STRUCTURED-LOCATION;VALUE=URI;X-ADDRESS=Universitair Sportcentrum (Gent) Watersportlaan 3 Gent Oost-Vlaanderen 9000 België;X-APPLE-RADIUS=500;X-TITLE=Watersportlaan 3:geo:3.7026469,51.0475487
END:VEVENT
BEGIN:VEVENT
DTSTART;TZID=Europe/Brussels:20240618T190000
DTEND;TZID=Europe/Brussels:20240618T203000
DTSTAMP:20260421T054955
CREATED:20230814T114315Z
LAST-MODIFIED:20230814T114320Z
UID:20001336-1718737200-1718742600@www.shinbugent.be
SUMMARY:Clubtraining
DESCRIPTION:clubtraining voor de groep van volwassenen (vanaf 13 jaar)
URL:https://www.shinbugent.be/event/clubtraining-51/2024-06-18/
LOCATION:Universitair Sportcentrum (Gent)\, Watersportlaan 3\, Gent\, Oost-Vlaanderen\, 9000\, België
GEO:51.0475487;3.7026469
X-APPLE-STRUCTURED-LOCATION;VALUE=URI;X-ADDRESS=Universitair Sportcentrum (Gent) Watersportlaan 3 Gent Oost-Vlaanderen 9000 België;X-APPLE-RADIUS=500;X-TITLE=Watersportlaan 3:geo:3.7026469,51.0475487
END:VEVENT
BEGIN:VEVENT
DTSTART;TZID=Europe/Brussels:20240620T193000
DTEND;TZID=Europe/Brussels:20240620T210000
DTSTAMP:20260421T054955
CREATED:20230814T115941Z
LAST-MODIFIED:20230814T115946Z
UID:20001359-1718911800-1718917200@www.shinbugent.be
SUMMARY:Clubtraining
DESCRIPTION:clubtraining voor de groep van volwassenen (vanaf 13 jaar)
URL:https://www.shinbugent.be/event/clubtraining-53/2024-06-20/
LOCATION:Universitair Sportcentrum (Gent)\, Watersportlaan 3\, Gent\, Oost-Vlaanderen\, 9000\, België
GEO:51.0475487;3.7026469
X-APPLE-STRUCTURED-LOCATION;VALUE=URI;X-ADDRESS=Universitair Sportcentrum (Gent) Watersportlaan 3 Gent Oost-Vlaanderen 9000 België;X-APPLE-RADIUS=500;X-TITLE=Watersportlaan 3:geo:3.7026469,51.0475487
END:VEVENT
BEGIN:VEVENT
DTSTART;TZID=Europe/Brussels:20240622T100000
DTEND;TZID=Europe/Brussels:20240622T113000
DTSTAMP:20260421T054955
CREATED:20230814T111609Z
LAST-MODIFIED:20240605T145053Z
UID:20001273-1719050400-1719055800@www.shinbugent.be
SUMMARY:End of season 2023-2024: laatste clubtraining!
DESCRIPTION:Tijdelijke wijziging van de trainingslocatie naar de sporthal van de Artevelde Hogeschool.Clubtraining voor de jeugdgroep en de groep van de volwassenen (+ 30 minuten vrije training na de clubtraining)Laatste clubtraining voor de jeugdgroep en de groep van de volwassenen
URL:https://www.shinbugent.be/event/end-of-season-2023-2024-laatste-clubtraining/
LOCATION:Artevelde Hogeschool\, Watersportlaan 4\, Gent\, 9000\, België
ATTACH;FMTTYPE=image/jpeg:https://www.shinbugent.be/wp-content/uploads/2024/06/sportzaal-Arteveldehogeschool.jpg
END:VEVENT
BEGIN:VEVENT
DTSTART;TZID=Europe/Brussels:20240622T173000
DTEND;TZID=Europe/Brussels:20240622T233000
DTSTAMP:20260421T054955
CREATED:20240531T064111Z
LAST-MODIFIED:20240531T141049Z
UID:20001393-1719077400-1719099000@www.shinbugent.be
SUMMARY:Shinbu BBQ 2024
DESCRIPTION:Afsluiter van het Shinbu-seizoen \n\n\n\n\n	Bericht: JavaScript is vereist voor deze inhoud.
URL:https://www.shinbugent.be/event/shinbu-bbq-2024/
LOCATION:Universitair Sportcentrum (Gent)\, Watersportlaan 3\, Gent\, Oost-Vlaanderen\, 9000\, België
GEO:51.0475487;3.7026469
X-APPLE-STRUCTURED-LOCATION;VALUE=URI;X-ADDRESS=Universitair Sportcentrum (Gent) Watersportlaan 3 Gent Oost-Vlaanderen 9000 België;X-APPLE-RADIUS=500;X-TITLE=Watersportlaan 3:geo:3.7026469,51.0475487
END:VEVENT
BEGIN:VEVENT
DTSTART;TZID=Europe/Brussels:20240705T100000
DTEND;TZID=Europe/Brussels:20240707T170000
DTSTAMP:20260421T054955
CREATED:20230814T121914Z
LAST-MODIFIED:20230814T121919Z
UID:20001370-1720173600-1720371600@www.shinbugent.be
SUMMARY:Internationale Stage Gent
DESCRIPTION:
URL:https://www.shinbugent.be/event/internationale-stage-gent-2/
LOCATION:Universitair Sportcentrum (Gent)\, Watersportlaan 3\, Gent\, Oost-Vlaanderen\, 9000\, België
GEO:51.0475487;3.7026469
X-APPLE-STRUCTURED-LOCATION;VALUE=URI;X-ADDRESS=Universitair Sportcentrum (Gent) Watersportlaan 3 Gent Oost-Vlaanderen 9000 België;X-APPLE-RADIUS=500;X-TITLE=Watersportlaan 3:geo:3.7026469,51.0475487
END:VEVENT
BEGIN:VEVENT
DTSTART;TZID=Europe/Brussels:20240822T193000
DTEND;TZID=Europe/Brussels:20240822T210000
DTSTAMP:20260421T054955
CREATED:20240714T160100Z
LAST-MODIFIED:20240714T160101Z
UID:20001394-1724355000-1724360400@www.shinbugent.be
SUMMARY:1e clubtraining (volwassenen)
DESCRIPTION:
URL:https://www.shinbugent.be/event/1e-clubtraining-volwassenen-2/
LOCATION:Universitair Sportcentrum (Gent)\, Watersportlaan 3\, Gent\, Oost-Vlaanderen\, 9000\, België
GEO:51.0475487;3.7026469
X-APPLE-STRUCTURED-LOCATION;VALUE=URI;X-ADDRESS=Universitair Sportcentrum (Gent) Watersportlaan 3 Gent Oost-Vlaanderen 9000 België;X-APPLE-RADIUS=500;X-TITLE=Watersportlaan 3:geo:3.7026469,51.0475487
END:VEVENT
BEGIN:VEVENT
DTSTART;TZID=Europe/Brussels:20240824T100000
DTEND;TZID=Europe/Brussels:20240824T113000
DTSTAMP:20260421T054955
CREATED:20240819T145517Z
LAST-MODIFIED:20240819T145520Z
UID:20001491-1724493600-1724499000@www.shinbugent.be
SUMMARY:Clubtraining (volwassenen)
DESCRIPTION:
URL:https://www.shinbugent.be/event/clubtraining-volwassenen-6/
LOCATION:Universitair Sportcentrum (Gent)\, Watersportlaan 3\, Gent\, Oost-Vlaanderen\, 9000\, België
GEO:51.0475487;3.7026469
X-APPLE-STRUCTURED-LOCATION;VALUE=URI;X-ADDRESS=Universitair Sportcentrum (Gent) Watersportlaan 3 Gent Oost-Vlaanderen 9000 België;X-APPLE-RADIUS=500;X-TITLE=Watersportlaan 3:geo:3.7026469,51.0475487
END:VEVENT
BEGIN:VEVENT
DTSTART;TZID=Europe/Brussels:20240827T190000
DTEND;TZID=Europe/Brussels:20240827T203000
DTSTAMP:20260421T054955
CREATED:20240714T160305Z
LAST-MODIFIED:20240714T160306Z
UID:20001395-1724785200-1724790600@www.shinbugent.be
SUMMARY:Clubtraining (volwassenen)
DESCRIPTION:
URL:https://www.shinbugent.be/event/clubtraining-volwassenen-3/2024-08-27/
LOCATION:Universitair Sportcentrum (Gent)\, Watersportlaan 3\, Gent\, Oost-Vlaanderen\, 9000\, België
GEO:51.0475487;3.7026469
X-APPLE-STRUCTURED-LOCATION;VALUE=URI;X-ADDRESS=Universitair Sportcentrum (Gent) Watersportlaan 3 Gent Oost-Vlaanderen 9000 België;X-APPLE-RADIUS=500;X-TITLE=Watersportlaan 3:geo:3.7026469,51.0475487
END:VEVENT
BEGIN:VEVENT
DTSTART;TZID=Europe/Brussels:20240829T193000
DTEND;TZID=Europe/Brussels:20240829T210000
DTSTAMP:20260421T054955
CREATED:20240714T160305Z
LAST-MODIFIED:20240714T160306Z
UID:20001396-1724959800-1724965200@www.shinbugent.be
SUMMARY:Clubtraining (volwassenen)
DESCRIPTION:
URL:https://www.shinbugent.be/event/clubtraining-volwassenen-3/2024-08-29/
LOCATION:Universitair Sportcentrum (Gent)\, Watersportlaan 3\, Gent\, Oost-Vlaanderen\, 9000\, België
GEO:51.0475487;3.7026469
X-APPLE-STRUCTURED-LOCATION;VALUE=URI;X-ADDRESS=Universitair Sportcentrum (Gent) Watersportlaan 3 Gent Oost-Vlaanderen 9000 België;X-APPLE-RADIUS=500;X-TITLE=Watersportlaan 3:geo:3.7026469,51.0475487
END:VEVENT
BEGIN:VEVENT
DTSTART;TZID=Europe/Brussels:20240831T100000
DTEND;TZID=Europe/Brussels:20240831T113000
DTSTAMP:20260421T054955
CREATED:20240714T160506Z
LAST-MODIFIED:20240714T160509Z
UID:20001397-1725098400-1725103800@www.shinbugent.be
SUMMARY:1e clubtraining (jeugd)
DESCRIPTION:
URL:https://www.shinbugent.be/event/1e-clubtraining-jeugd/
LOCATION:Universitair Sportcentrum (Gent)\, Watersportlaan 3\, Gent\, Oost-Vlaanderen\, 9000\, België
GEO:51.0475487;3.7026469
X-APPLE-STRUCTURED-LOCATION;VALUE=URI;X-ADDRESS=Universitair Sportcentrum (Gent) Watersportlaan 3 Gent Oost-Vlaanderen 9000 België;X-APPLE-RADIUS=500;X-TITLE=Watersportlaan 3:geo:3.7026469,51.0475487
END:VEVENT
BEGIN:VEVENT
DTSTART;TZID=Europe/Brussels:20240831T100000
DTEND;TZID=Europe/Brussels:20240831T113000
DTSTAMP:20260421T054955
CREATED:20240714T160559Z
LAST-MODIFIED:20240714T160600Z
UID:20001398-1725098400-1725103800@www.shinbugent.be
SUMMARY:Clubtraining
DESCRIPTION:
URL:https://www.shinbugent.be/event/clubtraining-70/
LOCATION:Universitair Sportcentrum (Gent)\, Watersportlaan 3\, Gent\, Oost-Vlaanderen\, 9000\, België
GEO:51.0475487;3.7026469
X-APPLE-STRUCTURED-LOCATION;VALUE=URI;X-ADDRESS=Universitair Sportcentrum (Gent) Watersportlaan 3 Gent Oost-Vlaanderen 9000 België;X-APPLE-RADIUS=500;X-TITLE=Watersportlaan 3:geo:3.7026469,51.0475487
END:VEVENT
BEGIN:VEVENT
DTSTART;TZID=Europe/Brussels:20240903T190000
DTEND;TZID=Europe/Brussels:20240903T200000
DTSTAMP:20260421T054955
CREATED:20240714T172534Z
LAST-MODIFIED:20240714T172535Z
UID:20001445-1725390000-1725393600@www.shinbugent.be
SUMMARY:Clubtraining jeugd
DESCRIPTION:
URL:https://www.shinbugent.be/event/clubtraining-jeugd-7/2024-09-03/
LOCATION:Universitair Sportcentrum (Gent)\, Watersportlaan 3\, Gent\, Oost-Vlaanderen\, 9000\, België
GEO:51.0475487;3.7026469
X-APPLE-STRUCTURED-LOCATION;VALUE=URI;X-ADDRESS=Universitair Sportcentrum (Gent) Watersportlaan 3 Gent Oost-Vlaanderen 9000 België;X-APPLE-RADIUS=500;X-TITLE=Watersportlaan 3:geo:3.7026469,51.0475487
END:VEVENT
BEGIN:VEVENT
DTSTART;TZID=Europe/Brussels:20240903T190000
DTEND;TZID=Europe/Brussels:20240903T203000
DTSTAMP:20260421T054955
CREATED:20240714T172350Z
LAST-MODIFIED:20240714T172351Z
UID:20001429-1725390000-1725395400@www.shinbugent.be
SUMMARY:Clubtraining (volwassenen)
DESCRIPTION:clubtraining voor alle graden
URL:https://www.shinbugent.be/event/clubtraining-volwassenen-4/2024-09-03/
LOCATION:Universitair Sportcentrum (Gent)\, Watersportlaan 3\, Gent\, Oost-Vlaanderen\, 9000\, België
GEO:51.0475487;3.7026469
X-APPLE-STRUCTURED-LOCATION;VALUE=URI;X-ADDRESS=Universitair Sportcentrum (Gent) Watersportlaan 3 Gent Oost-Vlaanderen 9000 België;X-APPLE-RADIUS=500;X-TITLE=Watersportlaan 3:geo:3.7026469,51.0475487
END:VEVENT
BEGIN:VEVENT
DTSTART;TZID=Europe/Brussels:20240905T193000
DTEND;TZID=Europe/Brussels:20240905T210000
DTSTAMP:20260421T054955
CREATED:20240714T172824Z
LAST-MODIFIED:20240714T172825Z
UID:20001461-1725564600-1725570000@www.shinbugent.be
SUMMARY:Clubtraining (volwassenen)
DESCRIPTION:
URL:https://www.shinbugent.be/event/clubtraining-volwassenen-5/2024-09-05/
LOCATION:Universitair Sportcentrum (Gent)\, Watersportlaan 3\, Gent\, Oost-Vlaanderen\, 9000\, België
GEO:51.0475487;3.7026469
X-APPLE-STRUCTURED-LOCATION;VALUE=URI;X-ADDRESS=Universitair Sportcentrum (Gent) Watersportlaan 3 Gent Oost-Vlaanderen 9000 België;X-APPLE-RADIUS=500;X-TITLE=Watersportlaan 3:geo:3.7026469,51.0475487
END:VEVENT
BEGIN:VEVENT
DTSTART;TZID=Europe/Brussels:20240907T100000
DTEND;TZID=Europe/Brussels:20240907T113000
DTSTAMP:20260421T054955
CREATED:20240714T173337Z
LAST-MODIFIED:20240714T173338Z
UID:20001477-1725703200-1725708600@www.shinbugent.be
SUMMARY:Clubtraining (jeugd + volwassenen)
DESCRIPTION:+ na de training 30 minuten vrije training & voorbereiding jongeren deelnemend aan JOW
URL:https://www.shinbugent.be/event/clubtraining-jeugd-volwassenen-2/2024-09-07/
LOCATION:Universitair Sportcentrum (Gent)\, Watersportlaan 3\, Gent\, Oost-Vlaanderen\, 9000\, België
GEO:51.0475487;3.7026469
X-APPLE-STRUCTURED-LOCATION;VALUE=URI;X-ADDRESS=Universitair Sportcentrum (Gent) Watersportlaan 3 Gent Oost-Vlaanderen 9000 België;X-APPLE-RADIUS=500;X-TITLE=Watersportlaan 3:geo:3.7026469,51.0475487
END:VEVENT
BEGIN:VEVENT
DTSTART;TZID=Europe/Brussels:20240907T140000
DTEND;TZID=Europe/Brussels:20240907T153000
DTSTAMP:20260421T054955
CREATED:20240714T161712Z
LAST-MODIFIED:20240714T161713Z
UID:20001399-1725717600-1725723000@www.shinbugent.be
SUMMARY:Nationale training
DESCRIPTION:Alle graden – minimum 13 jaar
URL:https://www.shinbugent.be/event/nationale-training-16/2024-09-07/
LOCATION:Complexe Gaston Reiff (Braine l’Alleud)\, Rue Ernest Laurent 210\, Braine l'Alleud\, 1420\, België
GEO:50.678249;4.3848448
X-APPLE-STRUCTURED-LOCATION;VALUE=URI;X-ADDRESS=Complexe Gaston Reiff (Braine l’Alleud) Rue Ernest Laurent 210 Braine l'Alleud 1420 België;X-APPLE-RADIUS=500;X-TITLE=Rue Ernest Laurent 210:geo:4.3848448,50.678249
END:VEVENT
BEGIN:VEVENT
DTSTART;TZID=Europe/Brussels:20240907T140000
DTEND;TZID=Europe/Brussels:20240907T153000
DTSTAMP:20260421T054955
CREATED:20240714T161937Z
LAST-MODIFIED:20240820T082939Z
UID:20001403-1725717600-1725723000@www.shinbugent.be
SUMMARY:Nationale training jongeren
DESCRIPTION:Alle graden – 7 tot en met 12 jaar
URL:https://www.shinbugent.be/event/nationale-training-jongeren-5/2024-09-07/
LOCATION:Complexe Gaston Reiff (Braine l’Alleud)\, Rue Ernest Laurent 210\, Braine l'Alleud\, 1420\, België
ATTACH;FMTTYPE=image/jpeg:https://www.shinbugent.be/wp-content/uploads/2024/08/promo-kids-nat-trainingen.jpg
GEO:50.678249;4.3848448
X-APPLE-STRUCTURED-LOCATION;VALUE=URI;X-ADDRESS=Complexe Gaston Reiff (Braine l’Alleud) Rue Ernest Laurent 210 Braine l'Alleud 1420 België;X-APPLE-RADIUS=500;X-TITLE=Rue Ernest Laurent 210:geo:4.3848448,50.678249
END:VEVENT
BEGIN:VEVENT
DTSTART;TZID=Europe/Brussels:20240910T190000
DTEND;TZID=Europe/Brussels:20240910T200000
DTSTAMP:20260421T054955
CREATED:20240714T172534Z
LAST-MODIFIED:20240714T172535Z
UID:20001446-1725994800-1725998400@www.shinbugent.be
SUMMARY:Clubtraining jeugd
DESCRIPTION:
URL:https://www.shinbugent.be/event/clubtraining-jeugd-7/2024-09-10/
LOCATION:Universitair Sportcentrum (Gent)\, Watersportlaan 3\, Gent\, Oost-Vlaanderen\, 9000\, België
GEO:51.0475487;3.7026469
X-APPLE-STRUCTURED-LOCATION;VALUE=URI;X-ADDRESS=Universitair Sportcentrum (Gent) Watersportlaan 3 Gent Oost-Vlaanderen 9000 België;X-APPLE-RADIUS=500;X-TITLE=Watersportlaan 3:geo:3.7026469,51.0475487
END:VEVENT
BEGIN:VEVENT
DTSTART;TZID=Europe/Brussels:20240910T190000
DTEND;TZID=Europe/Brussels:20240910T203000
DTSTAMP:20260421T054955
CREATED:20240714T172350Z
LAST-MODIFIED:20240714T172351Z
UID:20001430-1725994800-1726000200@www.shinbugent.be
SUMMARY:Clubtraining (volwassenen)
DESCRIPTION:clubtraining voor alle graden
URL:https://www.shinbugent.be/event/clubtraining-volwassenen-4/2024-09-10/
LOCATION:Universitair Sportcentrum (Gent)\, Watersportlaan 3\, Gent\, Oost-Vlaanderen\, 9000\, België
GEO:51.0475487;3.7026469
X-APPLE-STRUCTURED-LOCATION;VALUE=URI;X-ADDRESS=Universitair Sportcentrum (Gent) Watersportlaan 3 Gent Oost-Vlaanderen 9000 België;X-APPLE-RADIUS=500;X-TITLE=Watersportlaan 3:geo:3.7026469,51.0475487
END:VEVENT
BEGIN:VEVENT
DTSTART;TZID=Europe/Brussels:20240910T190000
DTEND;TZID=Europe/Brussels:20240910T203000
DTSTAMP:20260421T054955
CREATED:20240822T134535Z
LAST-MODIFIED:20240822T134539Z
UID:20001628-1725994800-1726000200@www.shinbugent.be
SUMMARY:Shinbu Competitietraining
DESCRIPTION:springtouw en handschoenen mee te nemen
URL:https://www.shinbugent.be/event/shinbu-competitietraining-3/2024-09-10/
LOCATION:Universitair Sportcentrum (Gent)\, Watersportlaan 3\, Gent\, Oost-Vlaanderen\, 9000\, België
GEO:51.0475487;3.7026469
X-APPLE-STRUCTURED-LOCATION;VALUE=URI;X-ADDRESS=Universitair Sportcentrum (Gent) Watersportlaan 3 Gent Oost-Vlaanderen 9000 België;X-APPLE-RADIUS=500;X-TITLE=Watersportlaan 3:geo:3.7026469,51.0475487
END:VEVENT
BEGIN:VEVENT
DTSTART;TZID=Europe/Brussels:20240912T193000
DTEND;TZID=Europe/Brussels:20240912T210000
DTSTAMP:20260421T054955
CREATED:20240714T172824Z
LAST-MODIFIED:20240714T172825Z
UID:20001462-1726169400-1726174800@www.shinbugent.be
SUMMARY:Clubtraining (volwassenen)
DESCRIPTION:
URL:https://www.shinbugent.be/event/clubtraining-volwassenen-5/2024-09-12/
LOCATION:Universitair Sportcentrum (Gent)\, Watersportlaan 3\, Gent\, Oost-Vlaanderen\, 9000\, België
GEO:51.0475487;3.7026469
X-APPLE-STRUCTURED-LOCATION;VALUE=URI;X-ADDRESS=Universitair Sportcentrum (Gent) Watersportlaan 3 Gent Oost-Vlaanderen 9000 België;X-APPLE-RADIUS=500;X-TITLE=Watersportlaan 3:geo:3.7026469,51.0475487
END:VEVENT
BEGIN:VEVENT
DTSTART;TZID=Europe/Brussels:20240914T100000
DTEND;TZID=Europe/Brussels:20240914T113000
DTSTAMP:20260421T054955
CREATED:20240714T173337Z
LAST-MODIFIED:20240714T173338Z
UID:20001478-1726308000-1726313400@www.shinbugent.be
SUMMARY:Clubtraining (jeugd + volwassenen)
DESCRIPTION:+ na de training 30 minuten vrije training & voorbereiding jongeren deelnemend aan JOW
URL:https://www.shinbugent.be/event/clubtraining-jeugd-volwassenen-2/2024-09-14/
LOCATION:Universitair Sportcentrum (Gent)\, Watersportlaan 3\, Gent\, Oost-Vlaanderen\, 9000\, België
GEO:51.0475487;3.7026469
X-APPLE-STRUCTURED-LOCATION;VALUE=URI;X-ADDRESS=Universitair Sportcentrum (Gent) Watersportlaan 3 Gent Oost-Vlaanderen 9000 België;X-APPLE-RADIUS=500;X-TITLE=Watersportlaan 3:geo:3.7026469,51.0475487
END:VEVENT
BEGIN:VEVENT
DTSTART;TZID=Europe/Brussels:20240917T190000
DTEND;TZID=Europe/Brussels:20240917T200000
DTSTAMP:20260421T054955
CREATED:20240714T172534Z
LAST-MODIFIED:20240714T172535Z
UID:20001447-1726599600-1726603200@www.shinbugent.be
SUMMARY:Clubtraining jeugd
DESCRIPTION:
URL:https://www.shinbugent.be/event/clubtraining-jeugd-7/2024-09-17/
LOCATION:Universitair Sportcentrum (Gent)\, Watersportlaan 3\, Gent\, Oost-Vlaanderen\, 9000\, België
GEO:51.0475487;3.7026469
X-APPLE-STRUCTURED-LOCATION;VALUE=URI;X-ADDRESS=Universitair Sportcentrum (Gent) Watersportlaan 3 Gent Oost-Vlaanderen 9000 België;X-APPLE-RADIUS=500;X-TITLE=Watersportlaan 3:geo:3.7026469,51.0475487
END:VEVENT
BEGIN:VEVENT
DTSTART;TZID=Europe/Brussels:20240917T190000
DTEND;TZID=Europe/Brussels:20240917T203000
DTSTAMP:20260421T054955
CREATED:20240822T134728Z
LAST-MODIFIED:20240822T134759Z
UID:20001431-1726599600-1726605000@www.shinbugent.be
SUMMARY:Clubtraining (volw.) - Defence training
DESCRIPTION:clubtraining voor alle graden
URL:https://www.shinbugent.be/event/clubtraining-volwassenen-13/
LOCATION:Universitair Sportcentrum (Gent)\, Watersportlaan 3\, Gent\, Oost-Vlaanderen\, 9000\, België
GEO:51.0475487;3.7026469
X-APPLE-STRUCTURED-LOCATION;VALUE=URI;X-ADDRESS=Universitair Sportcentrum (Gent) Watersportlaan 3 Gent Oost-Vlaanderen 9000 België;X-APPLE-RADIUS=500;X-TITLE=Watersportlaan 3:geo:3.7026469,51.0475487
END:VEVENT
BEGIN:VEVENT
DTSTART;TZID=Europe/Brussels:20240919T193000
DTEND;TZID=Europe/Brussels:20240919T210000
DTSTAMP:20260421T054955
CREATED:20240714T162322Z
LAST-MODIFIED:20240714T162323Z
UID:20001407-1726774200-1726779600@www.shinbugent.be
SUMMARY:Ippon competitietraining O-VL
DESCRIPTION:
URL:https://www.shinbugent.be/event/ippon-competitietraining-o-vl/2024-09-19/
LOCATION:Universitair Sportcentrum (Gent)\, Watersportlaan 3\, Gent\, Oost-Vlaanderen\, 9000\, België
GEO:51.0475487;3.7026469
X-APPLE-STRUCTURED-LOCATION;VALUE=URI;X-ADDRESS=Universitair Sportcentrum (Gent) Watersportlaan 3 Gent Oost-Vlaanderen 9000 België;X-APPLE-RADIUS=500;X-TITLE=Watersportlaan 3:geo:3.7026469,51.0475487
END:VEVENT
BEGIN:VEVENT
DTSTART;TZID=Europe/Brussels:20240919T193000
DTEND;TZID=Europe/Brussels:20240919T210000
DTSTAMP:20260421T054955
CREATED:20240714T162531Z
LAST-MODIFIED:20240714T162532Z
UID:20001409-1726774200-1726779600@www.shinbugent.be
SUMMARY:Provinciale training O-VL
DESCRIPTION:
URL:https://www.shinbugent.be/event/provinciale-training-o-vl-3/2024-09-19/
LOCATION:Universitair Sportcentrum (Gent)\, Watersportlaan 3\, Gent\, Oost-Vlaanderen\, 9000\, België
GEO:51.0475487;3.7026469
X-APPLE-STRUCTURED-LOCATION;VALUE=URI;X-ADDRESS=Universitair Sportcentrum (Gent) Watersportlaan 3 Gent Oost-Vlaanderen 9000 België;X-APPLE-RADIUS=500;X-TITLE=Watersportlaan 3:geo:3.7026469,51.0475487
END:VEVENT
BEGIN:VEVENT
DTSTART;TZID=Europe/Brussels:20240919T193000
DTEND;TZID=Europe/Brussels:20240919T210000
DTSTAMP:20260421T054955
CREATED:20240714T172824Z
LAST-MODIFIED:20240714T172825Z
UID:20001463-1726774200-1726779600@www.shinbugent.be
SUMMARY:Clubtraining (volwassenen)
DESCRIPTION:
URL:https://www.shinbugent.be/event/clubtraining-volwassenen-5/2024-09-19/
LOCATION:Universitair Sportcentrum (Gent)\, Watersportlaan 3\, Gent\, Oost-Vlaanderen\, 9000\, België
GEO:51.0475487;3.7026469
X-APPLE-STRUCTURED-LOCATION;VALUE=URI;X-ADDRESS=Universitair Sportcentrum (Gent) Watersportlaan 3 Gent Oost-Vlaanderen 9000 België;X-APPLE-RADIUS=500;X-TITLE=Watersportlaan 3:geo:3.7026469,51.0475487
END:VEVENT
BEGIN:VEVENT
DTSTART;TZID=Europe/Brussels:20240921T100000
DTEND;TZID=Europe/Brussels:20240921T113000
DTSTAMP:20260421T054955
CREATED:20240714T173337Z
LAST-MODIFIED:20240714T173338Z
UID:20001479-1726912800-1726918200@www.shinbugent.be
SUMMARY:Clubtraining (jeugd + volwassenen)
DESCRIPTION:+ na de training 30 minuten vrije training & voorbereiding jongeren deelnemend aan JOW
URL:https://www.shinbugent.be/event/clubtraining-jeugd-volwassenen-2/2024-09-21/
LOCATION:Universitair Sportcentrum (Gent)\, Watersportlaan 3\, Gent\, Oost-Vlaanderen\, 9000\, België
GEO:51.0475487;3.7026469
X-APPLE-STRUCTURED-LOCATION;VALUE=URI;X-ADDRESS=Universitair Sportcentrum (Gent) Watersportlaan 3 Gent Oost-Vlaanderen 9000 België;X-APPLE-RADIUS=500;X-TITLE=Watersportlaan 3:geo:3.7026469,51.0475487
END:VEVENT
BEGIN:VEVENT
DTSTART;TZID=Europe/Brussels:20240922T090000
DTEND;TZID=Europe/Brussels:20240922T170000
DTSTAMP:20260421T054955
CREATED:20240714T163336Z
LAST-MODIFIED:20240714T163454Z
UID:20001413-1726995600-1727024400@www.shinbugent.be
SUMMARY:Trainingsdag 'The way of the warrior' - Ieper
DESCRIPTION:
URL:https://www.shinbugent.be/event/trainingsdag-way-of-the-warrior-ieper/
LOCATION:Sporthal 1 (Ieper)\,  Leopold III-laan\, Ieper\, 8900\, België
ATTACH;FMTTYPE=image/jpeg:https://www.shinbugent.be/wp-content/uploads/2024/07/Messenger_creation_358C9AA5-EE97-4C79-BA01-5B7768216EC6_0.jpeg
GEO:50.8466147;2.8935223
X-APPLE-STRUCTURED-LOCATION;VALUE=URI;X-ADDRESS=Sporthal 1 (Ieper)  Leopold III-laan Ieper 8900 België;X-APPLE-RADIUS=500;X-TITLE=Leopold III-laan:geo:2.8935223,50.8466147
END:VEVENT
END:VCALENDAR