BEGIN:VCALENDAR
VERSION:2.0
PRODID:-//Shinbu Gent - ECPv6.15.18//NONSGML v1.0//EN
CALSCALE:GREGORIAN
METHOD:PUBLISH
X-WR-CALNAME:Shinbu Gent
X-ORIGINAL-URL:https://www.shinbugent.be
X-WR-CALDESC:Evenementen voor Shinbu Gent
REFRESH-INTERVAL;VALUE=DURATION:PT1H
X-Robots-Tag:noindex
X-PUBLISHED-TTL:PT1H
BEGIN:VTIMEZONE
TZID:Europe/Brussels
BEGIN:DAYLIGHT
TZOFFSETFROM:+0100
TZOFFSETTO:+0200
TZNAME:CEST
DTSTART:20200329T010000
END:DAYLIGHT
BEGIN:STANDARD
TZOFFSETFROM:+0200
TZOFFSETTO:+0100
TZNAME:CET
DTSTART:20201025T010000
END:STANDARD
BEGIN:DAYLIGHT
TZOFFSETFROM:+0100
TZOFFSETTO:+0200
TZNAME:CEST
DTSTART:20210328T010000
END:DAYLIGHT
BEGIN:STANDARD
TZOFFSETFROM:+0200
TZOFFSETTO:+0100
TZNAME:CET
DTSTART:20211031T010000
END:STANDARD
BEGIN:DAYLIGHT
TZOFFSETFROM:+0100
TZOFFSETTO:+0200
TZNAME:CEST
DTSTART:20220327T010000
END:DAYLIGHT
BEGIN:STANDARD
TZOFFSETFROM:+0200
TZOFFSETTO:+0100
TZNAME:CET
DTSTART:20221030T010000
END:STANDARD
BEGIN:DAYLIGHT
TZOFFSETFROM:+0100
TZOFFSETTO:+0200
TZNAME:CEST
DTSTART:20230326T010000
END:DAYLIGHT
BEGIN:STANDARD
TZOFFSETFROM:+0200
TZOFFSETTO:+0100
TZNAME:CET
DTSTART:20231029T010000
END:STANDARD
END:VTIMEZONE
BEGIN:VEVENT
DTSTART;TZID=Europe/Brussels:20220310T193000
DTEND;TZID=Europe/Brussels:20220310T210000
DTSTAMP:20260421T095447
CREATED:20211112T165322Z
LAST-MODIFIED:20211112T165326Z
UID:20000885-1646940600-1646946000@www.shinbugent.be
SUMMARY:Provinciale competitietraining
DESCRIPTION:
URL:https://www.shinbugent.be/event/provinciale-competitietraining-4/
LOCATION:Universitair Sportcentrum (Gent)\, Watersportlaan 3\, Gent\, Oost-Vlaanderen\, 9000\, België
GEO:51.0475487;3.7026469
X-APPLE-STRUCTURED-LOCATION;VALUE=URI;X-ADDRESS=Universitair Sportcentrum (Gent) Watersportlaan 3 Gent Oost-Vlaanderen 9000 België;X-APPLE-RADIUS=500;X-TITLE=Watersportlaan 3:geo:3.7026469,51.0475487
END:VEVENT
BEGIN:VEVENT
DTSTART;TZID=Europe/Brussels:20220308T190000
DTEND;TZID=Europe/Brussels:20220308T203000
DTSTAMP:20260421T095447
CREATED:20220226T182723Z
LAST-MODIFIED:20220226T182725Z
UID:20000901-1646766000-1646771400@www.shinbugent.be
SUMMARY:Clubcompetitietraining
DESCRIPTION:
URL:https://www.shinbugent.be/event/clubcompetitietraining-10/
LOCATION:Universitair Sportcentrum (Gent)\, Watersportlaan 3\, Gent\, Oost-Vlaanderen\, 9000\, België
GEO:51.0475487;3.7026469
X-APPLE-STRUCTURED-LOCATION;VALUE=URI;X-ADDRESS=Universitair Sportcentrum (Gent) Watersportlaan 3 Gent Oost-Vlaanderen 9000 België;X-APPLE-RADIUS=500;X-TITLE=Watersportlaan 3:geo:3.7026469,51.0475487
END:VEVENT
BEGIN:VEVENT
DTSTART;TZID=Europe/Brussels:20220303T193000
DTEND;TZID=Europe/Brussels:20220303T210000
DTSTAMP:20260421T095447
CREATED:20211112T163054Z
LAST-MODIFIED:20211112T163057Z
UID:20000875-1646335800-1646341200@www.shinbugent.be
SUMMARY:Provinciale training
DESCRIPTION:
URL:https://www.shinbugent.be/event/provinciale-training-2/
LOCATION:Universitair Sportcentrum (Gent)\, Watersportlaan 3\, Gent\, Oost-Vlaanderen\, 9000\, België
GEO:51.0475487;3.7026469
X-APPLE-STRUCTURED-LOCATION;VALUE=URI;X-ADDRESS=Universitair Sportcentrum (Gent) Watersportlaan 3 Gent Oost-Vlaanderen 9000 België;X-APPLE-RADIUS=500;X-TITLE=Watersportlaan 3:geo:3.7026469,51.0475487
END:VEVENT
BEGIN:VEVENT
DTSTART;TZID=Europe/Brussels:20220301T190000
DTEND;TZID=Europe/Brussels:20220301T203000
DTSTAMP:20260421T095447
CREATED:20220226T182522Z
LAST-MODIFIED:20220226T182523Z
UID:20000900-1646161200-1646166600@www.shinbugent.be
SUMMARY:Clubcompetitietraining
DESCRIPTION:
URL:https://www.shinbugent.be/event/clubcompetitietraining-9/
LOCATION:Universitair Sportcentrum (Gent)\, Watersportlaan 3\, Gent\, Oost-Vlaanderen\, 9000\, België
GEO:51.0475487;3.7026469
X-APPLE-STRUCTURED-LOCATION;VALUE=URI;X-ADDRESS=Universitair Sportcentrum (Gent) Watersportlaan 3 Gent Oost-Vlaanderen 9000 België;X-APPLE-RADIUS=500;X-TITLE=Watersportlaan 3:geo:3.7026469,51.0475487
END:VEVENT
BEGIN:VEVENT
DTSTART;TZID=Europe/Brussels:20220226T133000
DTEND;TZID=Europe/Brussels:20220226T173000
DTSTAMP:20260421T095447
CREATED:20210823T145244Z
LAST-MODIFIED:20220124T190827Z
UID:20000851-1645882200-1645896600@www.shinbugent.be
SUMMARY:Geannuleerd - JOW Nevele (Landegem)
DESCRIPTION:
URL:https://www.shinbugent.be/event/jow-nevele-landegem/
LOCATION:Sporthal Oostbroek (Nevele)\, Zeistraat 41\, Nevele\, Oost-Vlaanderen\, 9850\, België
GEO:51.0332204;3.5553656
X-APPLE-STRUCTURED-LOCATION;VALUE=URI;X-ADDRESS=Sporthal Oostbroek (Nevele) Zeistraat 41 Nevele Oost-Vlaanderen 9850 België;X-APPLE-RADIUS=500;X-TITLE=Zeistraat 41:geo:3.5553656,51.0332204
END:VEVENT
BEGIN:VEVENT
DTSTART;TZID=Europe/Brussels:20220226T100000
DTEND;TZID=Europe/Brussels:20220226T113000
DTSTAMP:20260421T095447
CREATED:20211112T172418Z
LAST-MODIFIED:20220209T153000Z
UID:20000894-1645869600-1645875000@www.shinbugent.be
SUMMARY:Clubtraining: gastlesgever
DESCRIPTION:
URL:https://www.shinbugent.be/event/clubtraining-3-2022-02-26/
LOCATION:Universitair Sportcentrum (Gent)\, Watersportlaan 3\, Gent\, Oost-Vlaanderen\, 9000\, België
GEO:51.0475487;3.7026469
X-APPLE-STRUCTURED-LOCATION;VALUE=URI;X-ADDRESS=Universitair Sportcentrum (Gent) Watersportlaan 3 Gent Oost-Vlaanderen 9000 België;X-APPLE-RADIUS=500;X-TITLE=Watersportlaan 3:geo:3.7026469,51.0475487
END:VEVENT
BEGIN:VEVENT
DTSTART;TZID=Europe/Brussels:20220224T193000
DTEND;TZID=Europe/Brussels:20220224T210000
DTSTAMP:20260421T095447
CREATED:20220110T124819Z
LAST-MODIFIED:20220110T124822Z
UID:20000899-1645731000-1645736400@www.shinbugent.be
SUMMARY:Clubcompetitietraining
DESCRIPTION:
URL:https://www.shinbugent.be/event/clubcompetitietraining-8/
LOCATION:Universitair Sportcentrum (Gent)\, Watersportlaan 3\, Gent\, Oost-Vlaanderen\, 9000\, België
GEO:51.0475487;3.7026469
X-APPLE-STRUCTURED-LOCATION;VALUE=URI;X-ADDRESS=Universitair Sportcentrum (Gent) Watersportlaan 3 Gent Oost-Vlaanderen 9000 België;X-APPLE-RADIUS=500;X-TITLE=Watersportlaan 3:geo:3.7026469,51.0475487
END:VEVENT
BEGIN:VEVENT
DTSTART;TZID=Europe/Brussels:20220215T190000
DTEND;TZID=Europe/Brussels:20220215T203000
DTSTAMP:20260421T095447
CREATED:20211112T172404Z
LAST-MODIFIED:20220206T172155Z
UID:20000893-1644951600-1644957000@www.shinbugent.be
SUMMARY:Clubtraining (examenprogramma 1e Dan)
DESCRIPTION:
URL:https://www.shinbugent.be/event/clubtraining-3-2022-02-15/
LOCATION:Universitair Sportcentrum (Gent)\, Watersportlaan 3\, Gent\, Oost-Vlaanderen\, 9000\, België
GEO:51.0475487;3.7026469
X-APPLE-STRUCTURED-LOCATION;VALUE=URI;X-ADDRESS=Universitair Sportcentrum (Gent) Watersportlaan 3 Gent Oost-Vlaanderen 9000 België;X-APPLE-RADIUS=500;X-TITLE=Watersportlaan 3:geo:3.7026469,51.0475487
END:VEVENT
BEGIN:VEVENT
DTSTART;TZID=Europe/Brussels:20220212T140000
DTEND;TZID=Europe/Brussels:20220212T173000
DTSTAMP:20260421T095447
CREATED:20211013T115409Z
LAST-MODIFIED:20220124T190758Z
UID:20000858-1644674400-1644687000@www.shinbugent.be
SUMMARY:Geannuleerd - JOW Zottegem
DESCRIPTION:
URL:https://www.shinbugent.be/event/jow-zottegem/
LOCATION:Stedelijke Sporthal “Bevegemse Vijvers” (Zottegem)\, Bevegemsevijvers 1\, Zottegem\, 9620\, België
GEO:50.8683915;3.8284737
X-APPLE-STRUCTURED-LOCATION;VALUE=URI;X-ADDRESS=Stedelijke Sporthal “Bevegemse Vijvers” (Zottegem) Bevegemsevijvers 1 Zottegem 9620 België;X-APPLE-RADIUS=500;X-TITLE=Bevegemsevijvers 1:geo:3.8284737,50.8683915
END:VEVENT
BEGIN:VEVENT
DTSTART;TZID=Europe/Brussels:20220210T193000
DTEND;TZID=Europe/Brussels:20220210T210000
DTSTAMP:20260421T095447
CREATED:20211112T165211Z
LAST-MODIFIED:20220128T080135Z
UID:20000884-1644521400-1644526800@www.shinbugent.be
SUMMARY:Clubcompetitietraining (-> Provinciale competitietraining geannuleerd)
DESCRIPTION:
URL:https://www.shinbugent.be/event/provinciale-competitietraining-3/
LOCATION:Universitair Sportcentrum (Gent)\, Watersportlaan 3\, Gent\, Oost-Vlaanderen\, 9000\, België
GEO:51.0475487;3.7026469
X-APPLE-STRUCTURED-LOCATION;VALUE=URI;X-ADDRESS=Universitair Sportcentrum (Gent) Watersportlaan 3 Gent Oost-Vlaanderen 9000 België;X-APPLE-RADIUS=500;X-TITLE=Watersportlaan 3:geo:3.7026469,51.0475487
END:VEVENT
BEGIN:VEVENT
DTSTART;TZID=Europe/Brussels:20220208T190000
DTEND;TZID=Europe/Brussels:20220208T203000
DTSTAMP:20260421T095447
CREATED:20211112T172359Z
LAST-MODIFIED:20220206T172032Z
UID:20000892-1644346800-1644352200@www.shinbugent.be
SUMMARY:Clubtraining (examenprogramma 2e Dan)
DESCRIPTION:
URL:https://www.shinbugent.be/event/clubtraining-3-2022-02-08/
LOCATION:Universitair Sportcentrum (Gent)\, Watersportlaan 3\, Gent\, Oost-Vlaanderen\, 9000\, België
GEO:51.0475487;3.7026469
X-APPLE-STRUCTURED-LOCATION;VALUE=URI;X-ADDRESS=Universitair Sportcentrum (Gent) Watersportlaan 3 Gent Oost-Vlaanderen 9000 België;X-APPLE-RADIUS=500;X-TITLE=Watersportlaan 3:geo:3.7026469,51.0475487
END:VEVENT
BEGIN:VEVENT
DTSTART;TZID=Europe/Brussels:20220203T193000
DTEND;TZID=Europe/Brussels:20220203T210000
DTSTAMP:20260421T095447
CREATED:20211112T162946Z
LAST-MODIFIED:20220128T075636Z
UID:20000874-1643916600-1643922000@www.shinbugent.be
SUMMARY:Geannuleerd - Provinciale training
DESCRIPTION:
URL:https://www.shinbugent.be/event/provinciale-instructietraining/
LOCATION:Universitair Sportcentrum (Gent)\, Watersportlaan 3\, Gent\, Oost-Vlaanderen\, 9000\, België
GEO:51.0475487;3.7026469
X-APPLE-STRUCTURED-LOCATION;VALUE=URI;X-ADDRESS=Universitair Sportcentrum (Gent) Watersportlaan 3 Gent Oost-Vlaanderen 9000 België;X-APPLE-RADIUS=500;X-TITLE=Watersportlaan 3:geo:3.7026469,51.0475487
END:VEVENT
BEGIN:VEVENT
DTSTART;TZID=Europe/Brussels:20220201T190000
DTEND;TZID=Europe/Brussels:20220201T203000
DTSTAMP:20260421T095447
CREATED:20220110T124632Z
LAST-MODIFIED:20220110T124635Z
UID:20000898-1643742000-1643747400@www.shinbugent.be
SUMMARY:Clubcompetitietraining
DESCRIPTION:
URL:https://www.shinbugent.be/event/clubcompetitietraining-7/
LOCATION:Universitair Sportcentrum (Gent)\, Watersportlaan 3\, Gent\, Oost-Vlaanderen\, 9000\, België
GEO:51.0475487;3.7026469
X-APPLE-STRUCTURED-LOCATION;VALUE=URI;X-ADDRESS=Universitair Sportcentrum (Gent) Watersportlaan 3 Gent Oost-Vlaanderen 9000 België;X-APPLE-RADIUS=500;X-TITLE=Watersportlaan 3:geo:3.7026469,51.0475487
END:VEVENT
BEGIN:VEVENT
DTSTART;TZID=Europe/Brussels:20220129T133000
DTEND;TZID=Europe/Brussels:20220129T170000
DTSTAMP:20260421T095447
CREATED:20210926T172917Z
LAST-MODIFIED:20220104T092454Z
UID:20000857-1643463000-1643475600@www.shinbugent.be
SUMMARY:Geannuleerd - JOW Assenede
DESCRIPTION:
URL:https://www.shinbugent.be/event/jow-assenede-3/
LOCATION:Gemeentelijke Sporthal (Assenede)\, Kapelledreef 4\, Assenede\, Oost-Vlaanderen\, 9960\, België
GEO:51.2303427;3.7493673
X-APPLE-STRUCTURED-LOCATION;VALUE=URI;X-ADDRESS=Gemeentelijke Sporthal (Assenede) Kapelledreef 4 Assenede Oost-Vlaanderen 9960 België;X-APPLE-RADIUS=500;X-TITLE=Kapelledreef 4:geo:3.7493673,51.2303427
END:VEVENT
BEGIN:VEVENT
DTSTART;TZID=Europe/Brussels:20220120T193000
DTEND;TZID=Europe/Brussels:20220120T210000
DTSTAMP:20260421T095447
CREATED:20211112T175657Z
LAST-MODIFIED:20211112T175700Z
UID:20000896-1642707000-1642712400@www.shinbugent.be
SUMMARY:Gastles volwassenen
DESCRIPTION:
URL:https://www.shinbugent.be/event/gastles-volwassenen/
LOCATION:Universitair Sportcentrum (Gent)\, Watersportlaan 3\, Gent\, Oost-Vlaanderen\, 9000\, België
GEO:51.0475487;3.7026469
X-APPLE-STRUCTURED-LOCATION;VALUE=URI;X-ADDRESS=Universitair Sportcentrum (Gent) Watersportlaan 3 Gent Oost-Vlaanderen 9000 België;X-APPLE-RADIUS=500;X-TITLE=Watersportlaan 3:geo:3.7026469,51.0475487
END:VEVENT
BEGIN:VEVENT
DTSTART;TZID=Europe/Brussels:20220118T190000
DTEND;TZID=Europe/Brussels:20220118T203000
DTSTAMP:20260421T095447
CREATED:20220110T124539Z
LAST-MODIFIED:20220110T124544Z
UID:20000897-1642532400-1642537800@www.shinbugent.be
SUMMARY:Clubcompetitietraining
DESCRIPTION:
URL:https://www.shinbugent.be/event/clubcompetitietraining-6/
LOCATION:Universitair Sportcentrum (Gent)\, Watersportlaan 3\, Gent\, Oost-Vlaanderen\, 9000\, België
GEO:51.0475487;3.7026469
X-APPLE-STRUCTURED-LOCATION;VALUE=URI;X-ADDRESS=Universitair Sportcentrum (Gent) Watersportlaan 3 Gent Oost-Vlaanderen 9000 België;X-APPLE-RADIUS=500;X-TITLE=Watersportlaan 3:geo:3.7026469,51.0475487
END:VEVENT
BEGIN:VEVENT
DTSTART;TZID=Europe/Brussels:20220115T140000
DTEND;TZID=Europe/Brussels:20220115T180000
DTSTAMP:20260421T095447
CREATED:20210823T144958Z
LAST-MODIFIED:20220104T092421Z
UID:20000850-1642255200-1642269600@www.shinbugent.be
SUMMARY:Geannuleerd - JOW Lede
DESCRIPTION:
URL:https://www.shinbugent.be/event/jow-lede-2/
LOCATION:Sportzaal De Ommegang\, Ommeganglaan 60A\, Lede\, 9340\, België
END:VEVENT
BEGIN:VEVENT
DTSTART;TZID=Europe/Brussels:20220113T193000
DTEND;TZID=Europe/Brussels:20220113T210000
DTSTAMP:20260421T095447
CREATED:20211112T165107Z
LAST-MODIFIED:20220110T175654Z
UID:20000883-1642102200-1642107600@www.shinbugent.be
SUMMARY:Geannuleerd - provinciale competitietraining
DESCRIPTION:
URL:https://www.shinbugent.be/event/provinciale-competitietraining-2/
LOCATION:Universitair Sportcentrum (Gent)\, Watersportlaan 3\, Gent\, Oost-Vlaanderen\, 9000\, België
GEO:51.0475487;3.7026469
X-APPLE-STRUCTURED-LOCATION;VALUE=URI;X-ADDRESS=Universitair Sportcentrum (Gent) Watersportlaan 3 Gent Oost-Vlaanderen 9000 België;X-APPLE-RADIUS=500;X-TITLE=Watersportlaan 3:geo:3.7026469,51.0475487
END:VEVENT
BEGIN:VEVENT
DTSTART;TZID=Europe/Brussels:20220111T190000
DTEND;TZID=Europe/Brussels:20220111T203000
DTSTAMP:20260421T095447
CREATED:20211112T162818Z
LAST-MODIFIED:20220110T175242Z
UID:20000873-1641927600-1641933000@www.shinbugent.be
SUMMARY:Geannuleerd - provinciale instructietraining (PIT)
DESCRIPTION:
URL:https://www.shinbugent.be/event/provinciale-instructietraining-pit-2/
LOCATION:Universitair Sportcentrum (Gent)\, Watersportlaan 3\, Gent\, Oost-Vlaanderen\, 9000\, België
GEO:51.0475487;3.7026469
X-APPLE-STRUCTURED-LOCATION;VALUE=URI;X-ADDRESS=Universitair Sportcentrum (Gent) Watersportlaan 3 Gent Oost-Vlaanderen 9000 België;X-APPLE-RADIUS=500;X-TITLE=Watersportlaan 3:geo:3.7026469,51.0475487
END:VEVENT
BEGIN:VEVENT
DTSTART;TZID=Europe/Brussels:20211211T133000
DTEND;TZID=Europe/Brussels:20211211T170000
DTSTAMP:20260421T095447
CREATED:20210926T172630Z
LAST-MODIFIED:20211206T184515Z
UID:20000856-1639229400-1639242000@www.shinbugent.be
SUMMARY:(geannuleerd) JOW Assenede
DESCRIPTION:
URL:https://www.shinbugent.be/event/jow-assenede-2/
LOCATION:Gemeentelijke Sporthal (Assenede)\, Kapelledreef 4\, Assenede\, Oost-Vlaanderen\, 9960\, België
GEO:51.2303427;3.7493673
X-APPLE-STRUCTURED-LOCATION;VALUE=URI;X-ADDRESS=Gemeentelijke Sporthal (Assenede) Kapelledreef 4 Assenede Oost-Vlaanderen 9960 België;X-APPLE-RADIUS=500;X-TITLE=Kapelledreef 4:geo:3.7493673,51.2303427
END:VEVENT
BEGIN:VEVENT
DTSTART;TZID=Europe/Brussels:20211204T140000
DTEND;TZID=Europe/Brussels:20211204T153000
DTSTAMP:20260421T095447
CREATED:20210823T150835Z
LAST-MODIFIED:20211206T184433Z
UID:20000852-1638626400-1638631800@www.shinbugent.be
SUMMARY:(geannuleerd) nationale training
DESCRIPTION:
URL:https://www.shinbugent.be/event/nationale-training-2021-12-04/
LOCATION:Stade G. Reiff\, Rue Ernest Laurent 215\, Braine l'Alleud\, 1420\, België
END:VEVENT
BEGIN:VEVENT
DTSTART;TZID=Europe/Brussels:20211202T193000
DTEND;TZID=Europe/Brussels:20211202T210000
DTSTAMP:20260421T095447
CREATED:20211101T091800Z
LAST-MODIFIED:20211122T192620Z
UID:20000864-1638473400-1638478800@www.shinbugent.be
SUMMARY:GEANNULEERD - Provinciale training
DESCRIPTION:
URL:https://www.shinbugent.be/event/provinciale-training/
LOCATION:Universitair Sportcentrum (Gent)\, Watersportlaan 3\, Gent\, Oost-Vlaanderen\, 9000\, België
GEO:51.0475487;3.7026469
X-APPLE-STRUCTURED-LOCATION;VALUE=URI;X-ADDRESS=Universitair Sportcentrum (Gent) Watersportlaan 3 Gent Oost-Vlaanderen 9000 België;X-APPLE-RADIUS=500;X-TITLE=Watersportlaan 3:geo:3.7026469,51.0475487
END:VEVENT
BEGIN:VEVENT
DTSTART;TZID=Europe/Brussels:20211127T130000
DTEND;TZID=Europe/Brussels:20211127T170000
DTSTAMP:20260421T095447
CREATED:20210823T144541Z
LAST-MODIFIED:20211206T184600Z
UID:20000849-1638018000-1638032400@www.shinbugent.be
SUMMARY:(geannuleerd) JOW Gent
DESCRIPTION:
URL:https://www.shinbugent.be/event/jow-gent/
LOCATION:Universitair Sportcentrum (Gent)\, Watersportlaan 3\, Gent\, Oost-Vlaanderen\, 9000\, België
GEO:51.0475487;3.7026469
X-APPLE-STRUCTURED-LOCATION;VALUE=URI;X-ADDRESS=Universitair Sportcentrum (Gent) Watersportlaan 3 Gent Oost-Vlaanderen 9000 België;X-APPLE-RADIUS=500;X-TITLE=Watersportlaan 3:geo:3.7026469,51.0475487
END:VEVENT
BEGIN:VEVENT
DTSTART;TZID=Europe/Brussels:20211120T100000
DTEND;TZID=Europe/Brussels:20211120T113000
DTSTAMP:20260421T095447
CREATED:20211018T162426Z
LAST-MODIFIED:20211018T162429Z
UID:20000861-1637402400-1637407800@www.shinbugent.be
SUMMARY:Gastlesgever jeugd
DESCRIPTION:
URL:https://www.shinbugent.be/event/gastlesgever-jeugd/
LOCATION:Universitair Sportcentrum (Gent)\, Watersportlaan 3\, Gent\, Oost-Vlaanderen\, 9000\, België
GEO:51.0475487;3.7026469
X-APPLE-STRUCTURED-LOCATION;VALUE=URI;X-ADDRESS=Universitair Sportcentrum (Gent) Watersportlaan 3 Gent Oost-Vlaanderen 9000 België;X-APPLE-RADIUS=500;X-TITLE=Watersportlaan 3:geo:3.7026469,51.0475487
END:VEVENT
BEGIN:VEVENT
DTSTART;TZID=Europe/Brussels:20211113T100000
DTEND;TZID=Europe/Brussels:20211113T113000
DTSTAMP:20260421T095447
CREATED:20211018T162717Z
LAST-MODIFIED:20211018T162719Z
UID:20000862-1636797600-1636803000@www.shinbugent.be
SUMMARY:Gastlesgever volwassenen
DESCRIPTION:
URL:https://www.shinbugent.be/event/gastlesgever-volwassenen/
LOCATION:Universitair Sportcentrum (Gent)\, Watersportlaan 3\, Gent\, Oost-Vlaanderen\, 9000\, België
GEO:51.0475487;3.7026469
X-APPLE-STRUCTURED-LOCATION;VALUE=URI;X-ADDRESS=Universitair Sportcentrum (Gent) Watersportlaan 3 Gent Oost-Vlaanderen 9000 België;X-APPLE-RADIUS=500;X-TITLE=Watersportlaan 3:geo:3.7026469,51.0475487
END:VEVENT
BEGIN:VEVENT
DTSTART;TZID=Europe/Brussels:20211111T193000
DTEND;TZID=Europe/Brussels:20211111T210000
DTSTAMP:20260421T095447
CREATED:20210802T194226Z
LAST-MODIFIED:20210802T194608Z
UID:20000843-1636659000-1636664400@www.shinbugent.be
SUMMARY:Geen training
DESCRIPTION:
URL:https://www.shinbugent.be/event/clubtraining-2021-11-11/
END:VEVENT
BEGIN:VEVENT
DTSTART;TZID=Europe/Brussels:20211109T190000
DTEND;TZID=Europe/Brussels:20211109T203000
DTSTAMP:20260421T095447
CREATED:20211101T091600Z
LAST-MODIFIED:20211101T091604Z
UID:20000863-1636484400-1636489800@www.shinbugent.be
SUMMARY:Provinciale Instructietraining (PIT)
DESCRIPTION:
URL:https://www.shinbugent.be/event/provinciale-instructietraining-pit/
LOCATION:Universitair Sportcentrum (Gent)\, Watersportlaan 3\, Gent\, Oost-Vlaanderen\, 9000\, België
GEO:51.0475487;3.7026469
X-APPLE-STRUCTURED-LOCATION;VALUE=URI;X-ADDRESS=Universitair Sportcentrum (Gent) Watersportlaan 3 Gent Oost-Vlaanderen 9000 België;X-APPLE-RADIUS=500;X-TITLE=Watersportlaan 3:geo:3.7026469,51.0475487
END:VEVENT
BEGIN:VEVENT
DTSTART;TZID=Europe/Brussels:20211102T190000
DTEND;TZID=Europe/Brussels:20211102T203000
DTSTAMP:20260421T095447
CREATED:20210802T194226Z
LAST-MODIFIED:20210926T154053Z
UID:20000842-1635879600-1635885000@www.shinbugent.be
SUMMARY:Geen clubtraining
DESCRIPTION:
URL:https://www.shinbugent.be/event/clubtraining-2021-11-02/
END:VEVENT
BEGIN:VEVENT
DTSTART;TZID=Europe/Brussels:20211026T190000
DTEND;TZID=Europe/Brussels:20211026T203000
DTSTAMP:20260421T095447
CREATED:20211015T091410Z
LAST-MODIFIED:20211015T091414Z
UID:20000860-1635274800-1635280200@www.shinbugent.be
SUMMARY:Clubcompetitietraining
DESCRIPTION:
URL:https://www.shinbugent.be/event/clubcompetitietraining-5/
LOCATION:Universitair Sportcentrum (Gent)\, Watersportlaan 3\, Gent\, Oost-Vlaanderen\, 9000\, België
GEO:51.0475487;3.7026469
X-APPLE-STRUCTURED-LOCATION;VALUE=URI;X-ADDRESS=Universitair Sportcentrum (Gent) Watersportlaan 3 Gent Oost-Vlaanderen 9000 België;X-APPLE-RADIUS=500;X-TITLE=Watersportlaan 3:geo:3.7026469,51.0475487
END:VEVENT
BEGIN:VEVENT
DTSTART;TZID=Europe/Brussels:20211019T190000
DTEND;TZID=Europe/Brussels:20211019T203000
DTSTAMP:20260421T095447
CREATED:20211015T091233Z
LAST-MODIFIED:20211015T091236Z
UID:20000859-1634670000-1634675400@www.shinbugent.be
SUMMARY:Clubcompetitietraining
DESCRIPTION:
URL:https://www.shinbugent.be/event/clubcompetitietraining-4/
LOCATION:Universitair Sportcentrum (Gent)\, Watersportlaan 3\, Gent\, Oost-Vlaanderen\, 9000\, België
GEO:51.0475487;3.7026469
X-APPLE-STRUCTURED-LOCATION;VALUE=URI;X-ADDRESS=Universitair Sportcentrum (Gent) Watersportlaan 3 Gent Oost-Vlaanderen 9000 België;X-APPLE-RADIUS=500;X-TITLE=Watersportlaan 3:geo:3.7026469,51.0475487
END:VEVENT
END:VCALENDAR