BEGIN:VCALENDAR
VERSION:2.0
PRODID:-//Shinbu Gent - ECPv6.15.18//NONSGML v1.0//EN
CALSCALE:GREGORIAN
METHOD:PUBLISH
X-ORIGINAL-URL:https://www.shinbugent.be
X-WR-CALDESC:Evenementen voor Shinbu Gent
REFRESH-INTERVAL;VALUE=DURATION:PT1H
X-Robots-Tag:noindex
X-PUBLISHED-TTL:PT1H
BEGIN:VTIMEZONE
TZID:Europe/Brussels
BEGIN:DAYLIGHT
TZOFFSETFROM:+0100
TZOFFSETTO:+0200
TZNAME:CEST
DTSTART:20230326T010000
END:DAYLIGHT
BEGIN:STANDARD
TZOFFSETFROM:+0200
TZOFFSETTO:+0100
TZNAME:CET
DTSTART:20231029T010000
END:STANDARD
BEGIN:DAYLIGHT
TZOFFSETFROM:+0100
TZOFFSETTO:+0200
TZNAME:CEST
DTSTART:20240331T010000
END:DAYLIGHT
BEGIN:STANDARD
TZOFFSETFROM:+0200
TZOFFSETTO:+0100
TZNAME:CET
DTSTART:20241027T010000
END:STANDARD
BEGIN:DAYLIGHT
TZOFFSETFROM:+0100
TZOFFSETTO:+0200
TZNAME:CEST
DTSTART:20250330T010000
END:DAYLIGHT
BEGIN:STANDARD
TZOFFSETFROM:+0200
TZOFFSETTO:+0100
TZNAME:CET
DTSTART:20251026T010000
END:STANDARD
END:VTIMEZONE
BEGIN:VEVENT
DTSTART;TZID=Europe/Brussels:20241024T193000
DTEND;TZID=Europe/Brussels:20241024T210000
DTSTAMP:20260421T143912
CREATED:20240714T172824Z
LAST-MODIFIED:20240714T172825Z
UID:20001468-1729798200-1729803600@www.shinbugent.be
SUMMARY:Clubtraining (volwassenen)
DESCRIPTION:
URL:https://www.shinbugent.be/event/clubtraining-volwassenen-5/2024-10-24/
LOCATION:Universitair Sportcentrum (Gent)\, Watersportlaan 3\, Gent\, Oost-Vlaanderen\, 9000\, België
GEO:51.0475487;3.7026469
X-APPLE-STRUCTURED-LOCATION;VALUE=URI;X-ADDRESS=Universitair Sportcentrum (Gent) Watersportlaan 3 Gent Oost-Vlaanderen 9000 België;X-APPLE-RADIUS=500;X-TITLE=Watersportlaan 3:geo:3.7026469,51.0475487
END:VEVENT
BEGIN:VEVENT
DTSTART;TZID=Europe/Brussels:20241024T193000
DTEND;TZID=Europe/Brussels:20241024T210000
DTSTAMP:20260421T143912
CREATED:20240907T064323Z
LAST-MODIFIED:20240907T064327Z
UID:20001632-1729798200-1729803600@www.shinbugent.be
SUMMARY:Shinbu Competitietraining
DESCRIPTION:springtouw en handschoenen mee te nemen
URL:https://www.shinbugent.be/event/shinbu-competitietraining-4/
LOCATION:Universitair Sportcentrum (Gent)\, Watersportlaan 3\, Gent\, Oost-Vlaanderen\, 9000\, België
GEO:51.0475487;3.7026469
X-APPLE-STRUCTURED-LOCATION;VALUE=URI;X-ADDRESS=Universitair Sportcentrum (Gent) Watersportlaan 3 Gent Oost-Vlaanderen 9000 België;X-APPLE-RADIUS=500;X-TITLE=Watersportlaan 3:geo:3.7026469,51.0475487
END:VEVENT
BEGIN:VEVENT
DTSTART;TZID=Europe/Brussels:20241026T100000
DTEND;TZID=Europe/Brussels:20241026T113000
DTSTAMP:20260421T143912
CREATED:20240714T173337Z
LAST-MODIFIED:20240714T173338Z
UID:20001484-1729936800-1729942200@www.shinbugent.be
SUMMARY:Clubtraining (jeugd + volwassenen)
DESCRIPTION:+ na de training 30 minuten vrije training & voorbereiding jongeren deelnemend aan JOW
URL:https://www.shinbugent.be/event/clubtraining-jeugd-volwassenen-2/2024-10-26/
LOCATION:Universitair Sportcentrum (Gent)\, Watersportlaan 3\, Gent\, Oost-Vlaanderen\, 9000\, België
GEO:51.0475487;3.7026469
X-APPLE-STRUCTURED-LOCATION;VALUE=URI;X-ADDRESS=Universitair Sportcentrum (Gent) Watersportlaan 3 Gent Oost-Vlaanderen 9000 België;X-APPLE-RADIUS=500;X-TITLE=Watersportlaan 3:geo:3.7026469,51.0475487
END:VEVENT
BEGIN:VEVENT
DTSTART;TZID=Europe/Brussels:20241027T090000
DTEND;TZID=Europe/Brussels:20241027T170000
DTSTAMP:20260421T143912
CREATED:20240714T165133Z
LAST-MODIFIED:20240714T165134Z
UID:20001418-1730019600-1730048400@www.shinbugent.be
SUMMARY:Dynamic Cup
DESCRIPTION:
URL:https://www.shinbugent.be/event/dynamic-cup/
LOCATION:Sporthal Hernekouter  (Herne)\, Hernekouter 1 \, Herne\, 1540
GEO:50.7263407;4.0171807
X-APPLE-STRUCTURED-LOCATION;VALUE=URI;X-ADDRESS=Sporthal Hernekouter  (Herne) Hernekouter 1  Herne 1540;X-APPLE-RADIUS=500;X-TITLE=Hernekouter 1:geo:4.0171807,50.7263407
END:VEVENT
BEGIN:VEVENT
DTSTART;TZID=Europe/Brussels:20241029T190000
DTEND;TZID=Europe/Brussels:20241029T200000
DTSTAMP:20260421T143912
CREATED:20240714T172534Z
LAST-MODIFIED:20240714T172535Z
UID:20001453-1730228400-1730232000@www.shinbugent.be
SUMMARY:Clubtraining jeugd
DESCRIPTION:
URL:https://www.shinbugent.be/event/clubtraining-jeugd-7/2024-10-29/
LOCATION:Universitair Sportcentrum (Gent)\, Watersportlaan 3\, Gent\, Oost-Vlaanderen\, 9000\, België
GEO:51.0475487;3.7026469
X-APPLE-STRUCTURED-LOCATION;VALUE=URI;X-ADDRESS=Universitair Sportcentrum (Gent) Watersportlaan 3 Gent Oost-Vlaanderen 9000 België;X-APPLE-RADIUS=500;X-TITLE=Watersportlaan 3:geo:3.7026469,51.0475487
END:VEVENT
BEGIN:VEVENT
DTSTART;TZID=Europe/Brussels:20241029T190000
DTEND;TZID=Europe/Brussels:20241029T203000
DTSTAMP:20260421T143912
CREATED:20240714T172350Z
LAST-MODIFIED:20240714T172351Z
UID:20001437-1730228400-1730233800@www.shinbugent.be
SUMMARY:Clubtraining (volwassenen)
DESCRIPTION:clubtraining voor alle graden
URL:https://www.shinbugent.be/event/clubtraining-volwassenen-4/2024-10-29/
LOCATION:Universitair Sportcentrum (Gent)\, Watersportlaan 3\, Gent\, Oost-Vlaanderen\, 9000\, België
GEO:51.0475487;3.7026469
X-APPLE-STRUCTURED-LOCATION;VALUE=URI;X-ADDRESS=Universitair Sportcentrum (Gent) Watersportlaan 3 Gent Oost-Vlaanderen 9000 België;X-APPLE-RADIUS=500;X-TITLE=Watersportlaan 3:geo:3.7026469,51.0475487
END:VEVENT
BEGIN:VEVENT
DTSTART;TZID=Europe/Brussels:20241031T193000
DTEND;TZID=Europe/Brussels:20241031T210000
DTSTAMP:20260421T143912
CREATED:20240714T172824Z
LAST-MODIFIED:20240714T172825Z
UID:20001469-1730403000-1730408400@www.shinbugent.be
SUMMARY:Clubtraining (volwassenen)
DESCRIPTION:
URL:https://www.shinbugent.be/event/clubtraining-volwassenen-5/2024-10-31/
LOCATION:Universitair Sportcentrum (Gent)\, Watersportlaan 3\, Gent\, Oost-Vlaanderen\, 9000\, België
GEO:51.0475487;3.7026469
X-APPLE-STRUCTURED-LOCATION;VALUE=URI;X-ADDRESS=Universitair Sportcentrum (Gent) Watersportlaan 3 Gent Oost-Vlaanderen 9000 België;X-APPLE-RADIUS=500;X-TITLE=Watersportlaan 3:geo:3.7026469,51.0475487
END:VEVENT
BEGIN:VEVENT
DTSTART;TZID=Europe/Brussels:20241102T080000
DTEND;TZID=Europe/Brussels:20241102T170000
DTSTAMP:20260421T143912
CREATED:20240714T173547Z
LAST-MODIFIED:20240714T173547Z
UID:20001485-1730534400-1730566800@www.shinbugent.be
SUMMARY:GEEN clubtraining (zowel voor jeugd als volwassenen)
DESCRIPTION:Allerzielen -> geen clubtraining en dit voor zowel de jeugd als de volwassenen
URL:https://www.shinbugent.be/event/geen-clubtraining-zowel-voor-jeugd-als-volwassenen/
END:VEVENT
BEGIN:VEVENT
DTSTART;TZID=Europe/Brussels:20241102T140000
DTEND;TZID=Europe/Brussels:20241102T153000
DTSTAMP:20260421T143912
CREATED:20240714T161712Z
LAST-MODIFIED:20240714T161713Z
UID:20001401-1730556000-1730561400@www.shinbugent.be
SUMMARY:Nationale training
DESCRIPTION:Alle graden – minimum 13 jaar
URL:https://www.shinbugent.be/event/nationale-training-16/2024-11-02/
LOCATION:Complexe Gaston Reiff (Braine l’Alleud)\, Rue Ernest Laurent 210\, Braine l'Alleud\, 1420\, België
GEO:50.678249;4.3848448
X-APPLE-STRUCTURED-LOCATION;VALUE=URI;X-ADDRESS=Complexe Gaston Reiff (Braine l’Alleud) Rue Ernest Laurent 210 Braine l'Alleud 1420 België;X-APPLE-RADIUS=500;X-TITLE=Rue Ernest Laurent 210:geo:4.3848448,50.678249
END:VEVENT
BEGIN:VEVENT
DTSTART;TZID=Europe/Brussels:20241102T140000
DTEND;TZID=Europe/Brussels:20241102T153000
DTSTAMP:20260421T143912
CREATED:20240714T161937Z
LAST-MODIFIED:20240820T082939Z
UID:20001405-1730556000-1730561400@www.shinbugent.be
SUMMARY:Nationale training jongeren
DESCRIPTION:Alle graden – 7 tot en met 12 jaar
URL:https://www.shinbugent.be/event/nationale-training-jongeren-5/2024-11-02/
LOCATION:Complexe Gaston Reiff (Braine l’Alleud)\, Rue Ernest Laurent 210\, Braine l'Alleud\, 1420\, België
ATTACH;FMTTYPE=image/jpeg:https://www.shinbugent.be/wp-content/uploads/2024/08/promo-kids-nat-trainingen.jpg
GEO:50.678249;4.3848448
X-APPLE-STRUCTURED-LOCATION;VALUE=URI;X-ADDRESS=Complexe Gaston Reiff (Braine l’Alleud) Rue Ernest Laurent 210 Braine l'Alleud 1420 België;X-APPLE-RADIUS=500;X-TITLE=Rue Ernest Laurent 210:geo:4.3848448,50.678249
END:VEVENT
BEGIN:VEVENT
DTSTART;TZID=Europe/Brussels:20241105T190000
DTEND;TZID=Europe/Brussels:20241105T200000
DTSTAMP:20260421T143912
CREATED:20240714T172534Z
LAST-MODIFIED:20240714T172535Z
UID:20001454-1730833200-1730836800@www.shinbugent.be
SUMMARY:Clubtraining jeugd
DESCRIPTION:
URL:https://www.shinbugent.be/event/clubtraining-jeugd-7/2024-11-05/
LOCATION:Universitair Sportcentrum (Gent)\, Watersportlaan 3\, Gent\, Oost-Vlaanderen\, 9000\, België
GEO:51.0475487;3.7026469
X-APPLE-STRUCTURED-LOCATION;VALUE=URI;X-ADDRESS=Universitair Sportcentrum (Gent) Watersportlaan 3 Gent Oost-Vlaanderen 9000 België;X-APPLE-RADIUS=500;X-TITLE=Watersportlaan 3:geo:3.7026469,51.0475487
END:VEVENT
BEGIN:VEVENT
DTSTART;TZID=Europe/Brussels:20241105T190000
DTEND;TZID=Europe/Brussels:20241105T203000
DTSTAMP:20260421T143912
CREATED:20240714T162638Z
LAST-MODIFIED:20240714T162639Z
UID:20001412-1730833200-1730838600@www.shinbugent.be
SUMMARY:PIT 3 O-VL
DESCRIPTION:
URL:https://www.shinbugent.be/event/pit-3-o-vl/
LOCATION:Universitair Sportcentrum (Gent)\, Watersportlaan 3\, Gent\, Oost-Vlaanderen\, 9000\, België
GEO:51.0475487;3.7026469
X-APPLE-STRUCTURED-LOCATION;VALUE=URI;X-ADDRESS=Universitair Sportcentrum (Gent) Watersportlaan 3 Gent Oost-Vlaanderen 9000 België;X-APPLE-RADIUS=500;X-TITLE=Watersportlaan 3:geo:3.7026469,51.0475487
END:VEVENT
BEGIN:VEVENT
DTSTART;TZID=Europe/Brussels:20241105T190000
DTEND;TZID=Europe/Brussels:20241105T203000
DTSTAMP:20260421T143912
CREATED:20240714T172350Z
LAST-MODIFIED:20240714T172351Z
UID:20001438-1730833200-1730838600@www.shinbugent.be
SUMMARY:Clubtraining (volwassenen)
DESCRIPTION:clubtraining voor alle graden
URL:https://www.shinbugent.be/event/clubtraining-volwassenen-4/2024-11-05/
LOCATION:Universitair Sportcentrum (Gent)\, Watersportlaan 3\, Gent\, Oost-Vlaanderen\, 9000\, België
GEO:51.0475487;3.7026469
X-APPLE-STRUCTURED-LOCATION;VALUE=URI;X-ADDRESS=Universitair Sportcentrum (Gent) Watersportlaan 3 Gent Oost-Vlaanderen 9000 België;X-APPLE-RADIUS=500;X-TITLE=Watersportlaan 3:geo:3.7026469,51.0475487
END:VEVENT
BEGIN:VEVENT
DTSTART;TZID=Europe/Brussels:20241107T193000
DTEND;TZID=Europe/Brussels:20241107T210000
DTSTAMP:20260421T143912
CREATED:20240714T172824Z
LAST-MODIFIED:20240714T172825Z
UID:20001470-1731007800-1731013200@www.shinbugent.be
SUMMARY:Clubtraining (volwassenen)
DESCRIPTION:
URL:https://www.shinbugent.be/event/clubtraining-volwassenen-5/2024-11-07/
LOCATION:Universitair Sportcentrum (Gent)\, Watersportlaan 3\, Gent\, Oost-Vlaanderen\, 9000\, België
GEO:51.0475487;3.7026469
X-APPLE-STRUCTURED-LOCATION;VALUE=URI;X-ADDRESS=Universitair Sportcentrum (Gent) Watersportlaan 3 Gent Oost-Vlaanderen 9000 België;X-APPLE-RADIUS=500;X-TITLE=Watersportlaan 3:geo:3.7026469,51.0475487
END:VEVENT
BEGIN:VEVENT
DTSTART;TZID=Europe/Brussels:20241107T193000
DTEND;TZID=Europe/Brussels:20241107T210000
DTSTAMP:20260421T143912
CREATED:20241026T062002Z
LAST-MODIFIED:20241026T062008Z
UID:20001633-1731007800-1731013200@www.shinbugent.be
SUMMARY:Shinbu Competitietraining
DESCRIPTION:springtouw en handschoenen mee te nemen
URL:https://www.shinbugent.be/event/shinbu-competitietraining-5/
LOCATION:Universitair Sportcentrum (Gent)\, Watersportlaan 3\, Gent\, Oost-Vlaanderen\, 9000\, België
GEO:51.0475487;3.7026469
X-APPLE-STRUCTURED-LOCATION;VALUE=URI;X-ADDRESS=Universitair Sportcentrum (Gent) Watersportlaan 3 Gent Oost-Vlaanderen 9000 België;X-APPLE-RADIUS=500;X-TITLE=Watersportlaan 3:geo:3.7026469,51.0475487
END:VEVENT
BEGIN:VEVENT
DTSTART;TZID=Europe/Brussels:20241109T080000
DTEND;TZID=Europe/Brussels:20241111T170000
DTSTAMP:20260421T143912
CREATED:20240714T165326Z
LAST-MODIFIED:20240714T165327Z
UID:20001419-1731139200-1731344400@www.shinbugent.be
SUMMARY:Stage van Brussel
DESCRIPTION:
URL:https://www.shinbugent.be/event/stage-van-brussel-2/
LOCATION:Sportcomplex VUB (Elsene) via toegang 8\, Triomflaan\, Elsene\, 1050\, België
GEO:50.8248666;4.3960629
X-APPLE-STRUCTURED-LOCATION;VALUE=URI;X-ADDRESS=Sportcomplex VUB (Elsene) via toegang 8 Triomflaan Elsene 1050 België;X-APPLE-RADIUS=500;X-TITLE=Triomflaan:geo:4.3960629,50.8248666
END:VEVENT
BEGIN:VEVENT
DTSTART;TZID=Europe/Brussels:20241109T100000
DTEND;TZID=Europe/Brussels:20241109T113000
DTSTAMP:20260421T143912
CREATED:20240819T145743Z
LAST-MODIFIED:20240819T145744Z
UID:20001492-1731146400-1731151800@www.shinbugent.be
SUMMARY:Clubtraining (jeugd + volwassenen)
DESCRIPTION:+ na de training 30 minuten vrije training & voorbereiding jongeren deelnemend aan JOW
URL:https://www.shinbugent.be/event/clubtraining-jeugd-volwassenen-4/
LOCATION:Universitair Sportcentrum (Gent)\, Watersportlaan 3\, Gent\, Oost-Vlaanderen\, 9000\, België
GEO:51.0475487;3.7026469
X-APPLE-STRUCTURED-LOCATION;VALUE=URI;X-ADDRESS=Universitair Sportcentrum (Gent) Watersportlaan 3 Gent Oost-Vlaanderen 9000 België;X-APPLE-RADIUS=500;X-TITLE=Watersportlaan 3:geo:3.7026469,51.0475487
END:VEVENT
BEGIN:VEVENT
DTSTART;TZID=Europe/Brussels:20241112T190000
DTEND;TZID=Europe/Brussels:20241112T200000
DTSTAMP:20260421T143912
CREATED:20240714T172534Z
LAST-MODIFIED:20240714T172535Z
UID:20001455-1731438000-1731441600@www.shinbugent.be
SUMMARY:Clubtraining jeugd
DESCRIPTION:
URL:https://www.shinbugent.be/event/clubtraining-jeugd-7/2024-11-12/
LOCATION:Universitair Sportcentrum (Gent)\, Watersportlaan 3\, Gent\, Oost-Vlaanderen\, 9000\, België
GEO:51.0475487;3.7026469
X-APPLE-STRUCTURED-LOCATION;VALUE=URI;X-ADDRESS=Universitair Sportcentrum (Gent) Watersportlaan 3 Gent Oost-Vlaanderen 9000 België;X-APPLE-RADIUS=500;X-TITLE=Watersportlaan 3:geo:3.7026469,51.0475487
END:VEVENT
BEGIN:VEVENT
DTSTART;TZID=Europe/Brussels:20241112T190000
DTEND;TZID=Europe/Brussels:20241112T203000
DTSTAMP:20260421T143912
CREATED:20240714T172350Z
LAST-MODIFIED:20240714T172351Z
UID:20001439-1731438000-1731443400@www.shinbugent.be
SUMMARY:Clubtraining (volwassenen)
DESCRIPTION:clubtraining voor alle graden
URL:https://www.shinbugent.be/event/clubtraining-volwassenen-4/2024-11-12/
LOCATION:Universitair Sportcentrum (Gent)\, Watersportlaan 3\, Gent\, Oost-Vlaanderen\, 9000\, België
GEO:51.0475487;3.7026469
X-APPLE-STRUCTURED-LOCATION;VALUE=URI;X-ADDRESS=Universitair Sportcentrum (Gent) Watersportlaan 3 Gent Oost-Vlaanderen 9000 België;X-APPLE-RADIUS=500;X-TITLE=Watersportlaan 3:geo:3.7026469,51.0475487
END:VEVENT
BEGIN:VEVENT
DTSTART;TZID=Europe/Brussels:20241114T193000
DTEND;TZID=Europe/Brussels:20241114T210000
DTSTAMP:20260421T143912
CREATED:20240714T172824Z
LAST-MODIFIED:20240714T172825Z
UID:20001471-1731612600-1731618000@www.shinbugent.be
SUMMARY:Clubtraining (volwassenen)
DESCRIPTION:
URL:https://www.shinbugent.be/event/clubtraining-volwassenen-5/2024-11-14/
LOCATION:Universitair Sportcentrum (Gent)\, Watersportlaan 3\, Gent\, Oost-Vlaanderen\, 9000\, België
GEO:51.0475487;3.7026469
X-APPLE-STRUCTURED-LOCATION;VALUE=URI;X-ADDRESS=Universitair Sportcentrum (Gent) Watersportlaan 3 Gent Oost-Vlaanderen 9000 België;X-APPLE-RADIUS=500;X-TITLE=Watersportlaan 3:geo:3.7026469,51.0475487
END:VEVENT
BEGIN:VEVENT
DTSTART;TZID=Europe/Brussels:20241116T100000
DTEND;TZID=Europe/Brussels:20241116T113000
DTSTAMP:20260421T143912
CREATED:20240714T173940Z
LAST-MODIFIED:20240714T173941Z
UID:20001486-1731751200-1731756600@www.shinbugent.be
SUMMARY:Clubtraining (jeugd + volwassenen)
DESCRIPTION:+ na de training 30 minuten vrije training & voorbereiding jongeren deelnemend aan JOW
URL:https://www.shinbugent.be/event/clubtraining-jeugd-volwassenen-3/2024-11-16/
LOCATION:Universitair Sportcentrum (Gent)\, Watersportlaan 3\, Gent\, Oost-Vlaanderen\, 9000\, België
GEO:51.0475487;3.7026469
X-APPLE-STRUCTURED-LOCATION;VALUE=URI;X-ADDRESS=Universitair Sportcentrum (Gent) Watersportlaan 3 Gent Oost-Vlaanderen 9000 België;X-APPLE-RADIUS=500;X-TITLE=Watersportlaan 3:geo:3.7026469,51.0475487
END:VEVENT
BEGIN:VEVENT
DTSTART;TZID=Europe/Brussels:20241116T133000
DTEND;TZID=Europe/Brussels:20241116T173000
DTSTAMP:20260421T143912
CREATED:20240714T170515Z
LAST-MODIFIED:20241002T191050Z
UID:20001423-1731763800-1731778200@www.shinbugent.be
SUMMARY:JOW 2 (Gavere)
DESCRIPTION:
URL:https://www.shinbugent.be/event/jow-3-gavere/
LOCATION:Sporthal Scaldis\, Sportdreef 1B\, Gavere\, 9890\, België
END:VEVENT
BEGIN:VEVENT
DTSTART;TZID=Europe/Brussels:20241119T190000
DTEND;TZID=Europe/Brussels:20241119T200000
DTSTAMP:20260421T143912
CREATED:20240714T172534Z
LAST-MODIFIED:20240714T172535Z
UID:20001456-1732042800-1732046400@www.shinbugent.be
SUMMARY:Clubtraining jeugd
DESCRIPTION:
URL:https://www.shinbugent.be/event/clubtraining-jeugd-7/2024-11-19/
LOCATION:Universitair Sportcentrum (Gent)\, Watersportlaan 3\, Gent\, Oost-Vlaanderen\, 9000\, België
GEO:51.0475487;3.7026469
X-APPLE-STRUCTURED-LOCATION;VALUE=URI;X-ADDRESS=Universitair Sportcentrum (Gent) Watersportlaan 3 Gent Oost-Vlaanderen 9000 België;X-APPLE-RADIUS=500;X-TITLE=Watersportlaan 3:geo:3.7026469,51.0475487
END:VEVENT
BEGIN:VEVENT
DTSTART;TZID=Europe/Brussels:20241119T190000
DTEND;TZID=Europe/Brussels:20241119T203000
DTSTAMP:20260421T143912
CREATED:20241026T062317Z
LAST-MODIFIED:20241026T062319Z
UID:20001440-1732042800-1732048200@www.shinbugent.be
SUMMARY:Clubtraining (volwassenen): gastles
DESCRIPTION:clubtraining voor alle graden
URL:https://www.shinbugent.be/event/clubtraining-volwassenen-14/
LOCATION:Universitair Sportcentrum (Gent)\, Watersportlaan 3\, Gent\, Oost-Vlaanderen\, 9000\, België
GEO:51.0475487;3.7026469
X-APPLE-STRUCTURED-LOCATION;VALUE=URI;X-ADDRESS=Universitair Sportcentrum (Gent) Watersportlaan 3 Gent Oost-Vlaanderen 9000 België;X-APPLE-RADIUS=500;X-TITLE=Watersportlaan 3:geo:3.7026469,51.0475487
END:VEVENT
BEGIN:VEVENT
DTSTART;TZID=Europe/Brussels:20241121T193000
DTEND;TZID=Europe/Brussels:20241121T210000
DTSTAMP:20260421T143912
CREATED:20240714T172824Z
LAST-MODIFIED:20240714T172825Z
UID:20001472-1732217400-1732222800@www.shinbugent.be
SUMMARY:Clubtraining (volwassenen)
DESCRIPTION:
URL:https://www.shinbugent.be/event/clubtraining-volwassenen-5/2024-11-21/
LOCATION:Universitair Sportcentrum (Gent)\, Watersportlaan 3\, Gent\, Oost-Vlaanderen\, 9000\, België
GEO:51.0475487;3.7026469
X-APPLE-STRUCTURED-LOCATION;VALUE=URI;X-ADDRESS=Universitair Sportcentrum (Gent) Watersportlaan 3 Gent Oost-Vlaanderen 9000 België;X-APPLE-RADIUS=500;X-TITLE=Watersportlaan 3:geo:3.7026469,51.0475487
END:VEVENT
BEGIN:VEVENT
DTSTART;TZID=Europe/Brussels:20241123T100000
DTEND;TZID=Europe/Brussels:20241123T113000
DTSTAMP:20260421T143912
CREATED:20240714T173940Z
LAST-MODIFIED:20240714T173941Z
UID:20001487-1732356000-1732361400@www.shinbugent.be
SUMMARY:Clubtraining (jeugd + volwassenen)
DESCRIPTION:+ na de training 30 minuten vrije training & voorbereiding jongeren deelnemend aan JOW
URL:https://www.shinbugent.be/event/clubtraining-jeugd-volwassenen-3/2024-11-23/
LOCATION:Universitair Sportcentrum (Gent)\, Watersportlaan 3\, Gent\, Oost-Vlaanderen\, 9000\, België
GEO:51.0475487;3.7026469
X-APPLE-STRUCTURED-LOCATION;VALUE=URI;X-ADDRESS=Universitair Sportcentrum (Gent) Watersportlaan 3 Gent Oost-Vlaanderen 9000 België;X-APPLE-RADIUS=500;X-TITLE=Watersportlaan 3:geo:3.7026469,51.0475487
END:VEVENT
BEGIN:VEVENT
DTSTART;TZID=Europe/Brussels:20241123T113000
DTEND;TZID=Europe/Brussels:20241123T160000
DTSTAMP:20260421T143912
CREATED:20241103T180616Z
LAST-MODIFIED:20241103T180617Z
UID:20001635-1732361400-1732377600@www.shinbugent.be
SUMMARY:Shinbu@themovie
DESCRIPTION:Gratis activiteit voor de Shinbu- jeugdleden: na de training eten we eerst samen een spaghetti en genieten we daarna samen van een film!
URL:https://www.shinbugent.be/event/shinbuthemovie/
LOCATION:Universitair Sportcentrum (Gent)\, Watersportlaan 3\, Gent\, Oost-Vlaanderen\, 9000\, België
ATTACH;FMTTYPE=image/jpeg:https://www.shinbugent.be/wp-content/uploads/2024/10/movie-6565990_1280.jpg
GEO:51.0475487;3.7026469
X-APPLE-STRUCTURED-LOCATION;VALUE=URI;X-ADDRESS=Universitair Sportcentrum (Gent) Watersportlaan 3 Gent Oost-Vlaanderen 9000 België;X-APPLE-RADIUS=500;X-TITLE=Watersportlaan 3:geo:3.7026469,51.0475487
END:VEVENT
BEGIN:VEVENT
DTSTART;TZID=Europe/Brussels:20241126T190000
DTEND;TZID=Europe/Brussels:20241126T200000
DTSTAMP:20260421T143912
CREATED:20240714T172534Z
LAST-MODIFIED:20240714T172535Z
UID:20001457-1732647600-1732651200@www.shinbugent.be
SUMMARY:Clubtraining jeugd
DESCRIPTION:
URL:https://www.shinbugent.be/event/clubtraining-jeugd-7/2024-11-26/
LOCATION:Universitair Sportcentrum (Gent)\, Watersportlaan 3\, Gent\, Oost-Vlaanderen\, 9000\, België
GEO:51.0475487;3.7026469
X-APPLE-STRUCTURED-LOCATION;VALUE=URI;X-ADDRESS=Universitair Sportcentrum (Gent) Watersportlaan 3 Gent Oost-Vlaanderen 9000 België;X-APPLE-RADIUS=500;X-TITLE=Watersportlaan 3:geo:3.7026469,51.0475487
END:VEVENT
BEGIN:VEVENT
DTSTART;TZID=Europe/Brussels:20241126T190000
DTEND;TZID=Europe/Brussels:20241126T203000
DTSTAMP:20260421T143912
CREATED:20240714T172350Z
LAST-MODIFIED:20240714T172351Z
UID:20001441-1732647600-1732653000@www.shinbugent.be
SUMMARY:Clubtraining (volwassenen)
DESCRIPTION:clubtraining voor alle graden
URL:https://www.shinbugent.be/event/clubtraining-volwassenen-4/2024-11-26/
LOCATION:Universitair Sportcentrum (Gent)\, Watersportlaan 3\, Gent\, Oost-Vlaanderen\, 9000\, België
GEO:51.0475487;3.7026469
X-APPLE-STRUCTURED-LOCATION;VALUE=URI;X-ADDRESS=Universitair Sportcentrum (Gent) Watersportlaan 3 Gent Oost-Vlaanderen 9000 België;X-APPLE-RADIUS=500;X-TITLE=Watersportlaan 3:geo:3.7026469,51.0475487
END:VEVENT
BEGIN:VEVENT
DTSTART;TZID=Europe/Brussels:20241128T193000
DTEND;TZID=Europe/Brussels:20241128T210000
DTSTAMP:20260421T143912
CREATED:20240714T172824Z
LAST-MODIFIED:20240714T172825Z
UID:20001473-1732822200-1732827600@www.shinbugent.be
SUMMARY:Clubtraining (volwassenen)
DESCRIPTION:
URL:https://www.shinbugent.be/event/clubtraining-volwassenen-5/2024-11-28/
LOCATION:Universitair Sportcentrum (Gent)\, Watersportlaan 3\, Gent\, Oost-Vlaanderen\, 9000\, België
GEO:51.0475487;3.7026469
X-APPLE-STRUCTURED-LOCATION;VALUE=URI;X-ADDRESS=Universitair Sportcentrum (Gent) Watersportlaan 3 Gent Oost-Vlaanderen 9000 België;X-APPLE-RADIUS=500;X-TITLE=Watersportlaan 3:geo:3.7026469,51.0475487
END:VEVENT
END:VCALENDAR