BEGIN:VCALENDAR
VERSION:2.0
PRODID:-//Shinbu Gent - ECPv6.15.18//NONSGML v1.0//EN
CALSCALE:GREGORIAN
METHOD:PUBLISH
X-ORIGINAL-URL:https://www.shinbugent.be
X-WR-CALDESC:Evenementen voor Shinbu Gent
REFRESH-INTERVAL;VALUE=DURATION:PT1H
X-Robots-Tag:noindex
X-PUBLISHED-TTL:PT1H
BEGIN:VTIMEZONE
TZID:Europe/Brussels
BEGIN:DAYLIGHT
TZOFFSETFROM:+0100
TZOFFSETTO:+0200
TZNAME:CEST
DTSTART:20240331T010000
END:DAYLIGHT
BEGIN:STANDARD
TZOFFSETFROM:+0200
TZOFFSETTO:+0100
TZNAME:CET
DTSTART:20241027T010000
END:STANDARD
BEGIN:DAYLIGHT
TZOFFSETFROM:+0100
TZOFFSETTO:+0200
TZNAME:CEST
DTSTART:20250330T010000
END:DAYLIGHT
BEGIN:STANDARD
TZOFFSETFROM:+0200
TZOFFSETTO:+0100
TZNAME:CET
DTSTART:20251026T010000
END:STANDARD
BEGIN:DAYLIGHT
TZOFFSETFROM:+0100
TZOFFSETTO:+0200
TZNAME:CEST
DTSTART:20260329T010000
END:DAYLIGHT
BEGIN:STANDARD
TZOFFSETFROM:+0200
TZOFFSETTO:+0100
TZNAME:CET
DTSTART:20261025T010000
END:STANDARD
END:VTIMEZONE
BEGIN:VEVENT
DTSTART;TZID=Europe/Brussels:20250304T190000
DTEND;TZID=Europe/Brussels:20250304T200000
DTSTAMP:20260422T085633
CREATED:20240819T192216Z
LAST-MODIFIED:20240819T192217Z
UID:20001530-1741114800-1741118400@www.shinbugent.be
SUMMARY:Clubtraining jeugd
DESCRIPTION:
URL:https://www.shinbugent.be/event/clubtraining-jeugd-9/2025-03-04/
LOCATION:Universitair Sportcentrum (Gent)\, Watersportlaan 3\, Gent\, Oost-Vlaanderen\, 9000\, België
GEO:51.0475487;3.7026469
X-APPLE-STRUCTURED-LOCATION;VALUE=URI;X-ADDRESS=Universitair Sportcentrum (Gent) Watersportlaan 3 Gent Oost-Vlaanderen 9000 België;X-APPLE-RADIUS=500;X-TITLE=Watersportlaan 3:geo:3.7026469,51.0475487
END:VEVENT
BEGIN:VEVENT
DTSTART;TZID=Europe/Brussels:20250304T190000
DTEND;TZID=Europe/Brussels:20250304T203000
DTSTAMP:20260422T085633
CREATED:20240819T193324Z
LAST-MODIFIED:20240819T193325Z
UID:20001560-1741114800-1741120200@www.shinbugent.be
SUMMARY:Clubtraining (volwassenen)
DESCRIPTION:
URL:https://www.shinbugent.be/event/clubtraining-volwassenen-8/2025-03-04/
LOCATION:Universitair Sportcentrum (Gent)\, Watersportlaan 3\, Gent\, Oost-Vlaanderen\, 9000\, België
GEO:51.0475487;3.7026469
X-APPLE-STRUCTURED-LOCATION;VALUE=URI;X-ADDRESS=Universitair Sportcentrum (Gent) Watersportlaan 3 Gent Oost-Vlaanderen 9000 België;X-APPLE-RADIUS=500;X-TITLE=Watersportlaan 3:geo:3.7026469,51.0475487
END:VEVENT
BEGIN:VEVENT
DTSTART;TZID=Europe/Brussels:20250306T193000
DTEND;TZID=Europe/Brussels:20250306T210000
DTSTAMP:20260422T085633
CREATED:20250303T121958Z
LAST-MODIFIED:20250303T121959Z
UID:20001584-1741289400-1741294800@www.shinbugent.be
SUMMARY:Clubtraining (volwassenen): gastles Sam Wille\, 4e Dan JKA
DESCRIPTION:
URL:https://www.shinbugent.be/event/clubtraining-volwassenen-18/
LOCATION:Universitair Sportcentrum (Gent)\, Watersportlaan 3\, Gent\, Oost-Vlaanderen\, 9000\, België
GEO:51.0475487;3.7026469
X-APPLE-STRUCTURED-LOCATION;VALUE=URI;X-ADDRESS=Universitair Sportcentrum (Gent) Watersportlaan 3 Gent Oost-Vlaanderen 9000 België;X-APPLE-RADIUS=500;X-TITLE=Watersportlaan 3:geo:3.7026469,51.0475487
END:VEVENT
BEGIN:VEVENT
DTSTART;TZID=Europe/Brussels:20250308T100000
DTEND;TZID=Europe/Brussels:20250308T113000
DTSTAMP:20260422T085633
CREATED:20240819T185404Z
LAST-MODIFIED:20240819T185406Z
UID:20001508-1741428000-1741433400@www.shinbugent.be
SUMMARY:Clubtraining (jeugd + volwassenen)
DESCRIPTION:+ na de training 30 minuten vrije training & voorbereiding jongeren deelnemend aan JOW
URL:https://www.shinbugent.be/event/clubtraining-jeugd-volwassenen-6/2025-03-08/
LOCATION:Universitair Sportcentrum (Gent)\, Watersportlaan 3\, Gent\, Oost-Vlaanderen\, 9000\, België
GEO:51.0475487;3.7026469
X-APPLE-STRUCTURED-LOCATION;VALUE=URI;X-ADDRESS=Universitair Sportcentrum (Gent) Watersportlaan 3 Gent Oost-Vlaanderen 9000 België;X-APPLE-RADIUS=500;X-TITLE=Watersportlaan 3:geo:3.7026469,51.0475487
END:VEVENT
BEGIN:VEVENT
DTSTART;TZID=Europe/Brussels:20250308T100000
DTEND;TZID=Europe/Brussels:20250308T160000
DTSTAMP:20260422T085633
CREATED:20240820T073415Z
LAST-MODIFIED:20250314T165524Z
UID:20001614-1741428000-1741449600@www.shinbugent.be
SUMMARY:Trainingsdag Zottegem
DESCRIPTION:
URL:https://www.shinbugent.be/event/trainingsdag-zottegem-2/
LOCATION:Stedelijke Sporthal “Bevegemse Vijvers” (Zottegem)\, Bevegemsevijvers 1\, Zottegem\, 9620\, België
GEO:50.8683915;3.8284737
X-APPLE-STRUCTURED-LOCATION;VALUE=URI;X-ADDRESS=Stedelijke Sporthal “Bevegemse Vijvers” (Zottegem) Bevegemsevijvers 1 Zottegem 9620 België;X-APPLE-RADIUS=500;X-TITLE=Bevegemsevijvers 1:geo:3.8284737,50.8683915
END:VEVENT
BEGIN:VEVENT
DTSTART;TZID=Europe/Brussels:20250311T190000
DTEND;TZID=Europe/Brussels:20250311T200000
DTSTAMP:20260422T085633
CREATED:20240819T192216Z
LAST-MODIFIED:20240819T192217Z
UID:20001531-1741719600-1741723200@www.shinbugent.be
SUMMARY:Clubtraining jeugd
DESCRIPTION:
URL:https://www.shinbugent.be/event/clubtraining-jeugd-9/2025-03-11/
LOCATION:Universitair Sportcentrum (Gent)\, Watersportlaan 3\, Gent\, Oost-Vlaanderen\, 9000\, België
GEO:51.0475487;3.7026469
X-APPLE-STRUCTURED-LOCATION;VALUE=URI;X-ADDRESS=Universitair Sportcentrum (Gent) Watersportlaan 3 Gent Oost-Vlaanderen 9000 België;X-APPLE-RADIUS=500;X-TITLE=Watersportlaan 3:geo:3.7026469,51.0475487
END:VEVENT
BEGIN:VEVENT
DTSTART;TZID=Europe/Brussels:20250311T190000
DTEND;TZID=Europe/Brussels:20250311T203000
DTSTAMP:20260422T085633
CREATED:20240819T193324Z
LAST-MODIFIED:20240819T193325Z
UID:20001561-1741719600-1741725000@www.shinbugent.be
SUMMARY:Clubtraining (volwassenen)
DESCRIPTION:
URL:https://www.shinbugent.be/event/clubtraining-volwassenen-8/2025-03-11/
LOCATION:Universitair Sportcentrum (Gent)\, Watersportlaan 3\, Gent\, Oost-Vlaanderen\, 9000\, België
GEO:51.0475487;3.7026469
X-APPLE-STRUCTURED-LOCATION;VALUE=URI;X-ADDRESS=Universitair Sportcentrum (Gent) Watersportlaan 3 Gent Oost-Vlaanderen 9000 België;X-APPLE-RADIUS=500;X-TITLE=Watersportlaan 3:geo:3.7026469,51.0475487
END:VEVENT
BEGIN:VEVENT
DTSTART;TZID=Europe/Brussels:20250313T193000
DTEND;TZID=Europe/Brussels:20250313T210000
DTSTAMP:20260422T085633
CREATED:20240820T070033Z
LAST-MODIFIED:20240820T070035Z
UID:20001585-1741894200-1741899600@www.shinbugent.be
SUMMARY:Clubtraining (volwassenen)
DESCRIPTION:
URL:https://www.shinbugent.be/event/clubtraining-volwassenen-10/2025-03-13/
LOCATION:Universitair Sportcentrum (Gent)\, Watersportlaan 3\, Gent\, Oost-Vlaanderen\, 9000\, België
GEO:51.0475487;3.7026469
X-APPLE-STRUCTURED-LOCATION;VALUE=URI;X-ADDRESS=Universitair Sportcentrum (Gent) Watersportlaan 3 Gent Oost-Vlaanderen 9000 België;X-APPLE-RADIUS=500;X-TITLE=Watersportlaan 3:geo:3.7026469,51.0475487
END:VEVENT
BEGIN:VEVENT
DTSTART;TZID=Europe/Brussels:20250313T193000
DTEND;TZID=Europe/Brussels:20250313T210000
DTSTAMP:20260422T085633
CREATED:20250303T120524Z
LAST-MODIFIED:20250303T120525Z
UID:20001650-1741894200-1741899600@www.shinbugent.be
SUMMARY:Shinbu competitietraining
DESCRIPTION:springtouw en handschoenen mee te nemen
URL:https://www.shinbugent.be/event/shinbu-competitietraining-9/
LOCATION:Gents Universitair sportcentrum\, Watersportlaan 3\, Gent\, 9000\, België
END:VEVENT
BEGIN:VEVENT
DTSTART;TZID=Europe/Brussels:20250315T100000
DTEND;TZID=Europe/Brussels:20250315T113000
DTSTAMP:20260422T085633
CREATED:20240819T185404Z
LAST-MODIFIED:20240819T185406Z
UID:20001509-1742032800-1742038200@www.shinbugent.be
SUMMARY:Clubtraining (jeugd + volwassenen)
DESCRIPTION:+ na de training 30 minuten vrije training & voorbereiding jongeren deelnemend aan JOW
URL:https://www.shinbugent.be/event/clubtraining-jeugd-volwassenen-6/2025-03-15/
LOCATION:Universitair Sportcentrum (Gent)\, Watersportlaan 3\, Gent\, Oost-Vlaanderen\, 9000\, België
GEO:51.0475487;3.7026469
X-APPLE-STRUCTURED-LOCATION;VALUE=URI;X-ADDRESS=Universitair Sportcentrum (Gent) Watersportlaan 3 Gent Oost-Vlaanderen 9000 België;X-APPLE-RADIUS=500;X-TITLE=Watersportlaan 3:geo:3.7026469,51.0475487
END:VEVENT
BEGIN:VEVENT
DTSTART;TZID=Europe/Brussels:20250316T093000
DTEND;TZID=Europe/Brussels:20250316T170000
DTSTAMP:20260422T085633
CREATED:20240820T073632Z
LAST-MODIFIED:20240820T073633Z
UID:20001615-1742117400-1742144400@www.shinbugent.be
SUMMARY:JKA Vlaams Kampioenschap Jongeren
DESCRIPTION:JKA Vlaanderen kampioenschap voor jongeren. Vanuit de verschillende provincies worden jongeren geselecteerd voor dit kampioenschap.
URL:https://www.shinbugent.be/event/jka-vlaams-kampioenschap-jongeren-2/
LOCATION:Sporthal De Stormmeeuw (Knokke)\, Edward Verheyestraat 14\, Knokke\, 8300
GEO:51.3398289;3.2906249
X-APPLE-STRUCTURED-LOCATION;VALUE=URI;X-ADDRESS=Sporthal De Stormmeeuw (Knokke) Edward Verheyestraat 14 Knokke 8300;X-APPLE-RADIUS=500;X-TITLE=Edward Verheyestraat 14:geo:3.2906249,51.3398289
END:VEVENT
BEGIN:VEVENT
DTSTART;TZID=Europe/Brussels:20250316T120000
DTEND;TZID=Europe/Brussels:20250316T173000
DTSTAMP:20260422T085633
CREATED:20250102T171813Z
LAST-MODIFIED:20250102T171815Z
UID:20001644-1742126400-1742146200@www.shinbugent.be
SUMMARY:Maitoshi Kachi Trophy
DESCRIPTION:
URL:https://www.shinbugent.be/event/maitoshi-kachi-trophy-2/
LOCATION:Sporthal De Veldmuis\, Fel. Cauwelstraat 39\, Geraardsbergen\, 9500\, België
ATTACH;FMTTYPE=image/jpeg:https://www.shinbugent.be/wp-content/uploads/2025/01/Ontwerp-affiche.jpeg
END:VEVENT
BEGIN:VEVENT
DTSTART;TZID=Europe/Brussels:20250318T190000
DTEND;TZID=Europe/Brussels:20250318T200000
DTSTAMP:20260422T085633
CREATED:20240819T192216Z
LAST-MODIFIED:20240819T192217Z
UID:20001532-1742324400-1742328000@www.shinbugent.be
SUMMARY:Clubtraining jeugd
DESCRIPTION:
URL:https://www.shinbugent.be/event/clubtraining-jeugd-9/2025-03-18/
LOCATION:Universitair Sportcentrum (Gent)\, Watersportlaan 3\, Gent\, Oost-Vlaanderen\, 9000\, België
GEO:51.0475487;3.7026469
X-APPLE-STRUCTURED-LOCATION;VALUE=URI;X-ADDRESS=Universitair Sportcentrum (Gent) Watersportlaan 3 Gent Oost-Vlaanderen 9000 België;X-APPLE-RADIUS=500;X-TITLE=Watersportlaan 3:geo:3.7026469,51.0475487
END:VEVENT
BEGIN:VEVENT
DTSTART;TZID=Europe/Brussels:20250318T190000
DTEND;TZID=Europe/Brussels:20250318T203000
DTSTAMP:20260422T085633
CREATED:20240819T193324Z
LAST-MODIFIED:20240819T193325Z
UID:20001562-1742324400-1742329800@www.shinbugent.be
SUMMARY:Clubtraining (volwassenen)
DESCRIPTION:
URL:https://www.shinbugent.be/event/clubtraining-volwassenen-8/2025-03-18/
LOCATION:Universitair Sportcentrum (Gent)\, Watersportlaan 3\, Gent\, Oost-Vlaanderen\, 9000\, België
GEO:51.0475487;3.7026469
X-APPLE-STRUCTURED-LOCATION;VALUE=URI;X-ADDRESS=Universitair Sportcentrum (Gent) Watersportlaan 3 Gent Oost-Vlaanderen 9000 België;X-APPLE-RADIUS=500;X-TITLE=Watersportlaan 3:geo:3.7026469,51.0475487
END:VEVENT
BEGIN:VEVENT
DTSTART;TZID=Europe/Brussels:20250320T193000
DTEND;TZID=Europe/Brussels:20250320T210000
DTSTAMP:20260422T085633
CREATED:20240820T070033Z
LAST-MODIFIED:20240820T070035Z
UID:20001586-1742499000-1742504400@www.shinbugent.be
SUMMARY:Clubtraining (volwassenen)
DESCRIPTION:
URL:https://www.shinbugent.be/event/clubtraining-volwassenen-10/2025-03-20/
LOCATION:Universitair Sportcentrum (Gent)\, Watersportlaan 3\, Gent\, Oost-Vlaanderen\, 9000\, België
GEO:51.0475487;3.7026469
X-APPLE-STRUCTURED-LOCATION;VALUE=URI;X-ADDRESS=Universitair Sportcentrum (Gent) Watersportlaan 3 Gent Oost-Vlaanderen 9000 België;X-APPLE-RADIUS=500;X-TITLE=Watersportlaan 3:geo:3.7026469,51.0475487
END:VEVENT
BEGIN:VEVENT
DTSTART;TZID=Europe/Brussels:20250320T193000
DTEND;TZID=Europe/Brussels:20250320T210000
DTSTAMP:20260422T085633
CREATED:20240820T081727Z
LAST-MODIFIED:20240820T081728Z
UID:20001623-1742499000-1742504400@www.shinbugent.be
SUMMARY:Provinciale training OVL
DESCRIPTION:
URL:https://www.shinbugent.be/event/provinciale-training-ovl/2025-03-20/
LOCATION:Universitair Sportcentrum (Gent)\, Watersportlaan 3\, Gent\, Oost-Vlaanderen\, 9000\, België
GEO:51.0475487;3.7026469
X-APPLE-STRUCTURED-LOCATION;VALUE=URI;X-ADDRESS=Universitair Sportcentrum (Gent) Watersportlaan 3 Gent Oost-Vlaanderen 9000 België;X-APPLE-RADIUS=500;X-TITLE=Watersportlaan 3:geo:3.7026469,51.0475487
END:VEVENT
BEGIN:VEVENT
DTSTART;TZID=Europe/Brussels:20250320T193000
DTEND;TZID=Europe/Brussels:20250320T210000
DTSTAMP:20260422T085633
CREATED:20250102T173356Z
LAST-MODIFIED:20250102T173357Z
UID:20001647-1742499000-1742504400@www.shinbugent.be
SUMMARY:Ippon competitietraining O-VL
DESCRIPTION:
URL:https://www.shinbugent.be/event/ippon-competitietraining-o-vl-2/2025-03-20/
LOCATION:Universitair Sportcentrum (Gent)\, Watersportlaan 3\, Gent\, Oost-Vlaanderen\, 9000\, België
GEO:51.0475487;3.7026469
X-APPLE-STRUCTURED-LOCATION;VALUE=URI;X-ADDRESS=Universitair Sportcentrum (Gent) Watersportlaan 3 Gent Oost-Vlaanderen 9000 België;X-APPLE-RADIUS=500;X-TITLE=Watersportlaan 3:geo:3.7026469,51.0475487
END:VEVENT
BEGIN:VEVENT
DTSTART;TZID=Europe/Brussels:20250322T100000
DTEND;TZID=Europe/Brussels:20250322T113000
DTSTAMP:20260422T085633
CREATED:20240819T185404Z
LAST-MODIFIED:20240819T185406Z
UID:20001510-1742637600-1742643000@www.shinbugent.be
SUMMARY:Clubtraining (jeugd + volwassenen)
DESCRIPTION:+ na de training 30 minuten vrije training & voorbereiding jongeren deelnemend aan JOW
URL:https://www.shinbugent.be/event/clubtraining-jeugd-volwassenen-6/2025-03-22/
LOCATION:Universitair Sportcentrum (Gent)\, Watersportlaan 3\, Gent\, Oost-Vlaanderen\, 9000\, België
GEO:51.0475487;3.7026469
X-APPLE-STRUCTURED-LOCATION;VALUE=URI;X-ADDRESS=Universitair Sportcentrum (Gent) Watersportlaan 3 Gent Oost-Vlaanderen 9000 België;X-APPLE-RADIUS=500;X-TITLE=Watersportlaan 3:geo:3.7026469,51.0475487
END:VEVENT
BEGIN:VEVENT
DTSTART;TZID=Europe/Brussels:20250323T093000
DTEND;TZID=Europe/Brussels:20250323T170000
DTSTAMP:20260422T085633
CREATED:20240820T073850Z
LAST-MODIFIED:20240820T073851Z
UID:20001616-1742722200-1742749200@www.shinbugent.be
SUMMARY:Kazoku Cup - ploegentornooi
DESCRIPTION:Ippon tornooi
URL:https://www.shinbugent.be/event/kazoku-cup-ploegentornooi-3/
LOCATION:Gemeentelijke Sporthal (Assenede)\, Kapelledreef 4\, Assenede\, Oost-Vlaanderen\, 9960\, België
GEO:51.2303427;3.7493673
X-APPLE-STRUCTURED-LOCATION;VALUE=URI;X-ADDRESS=Gemeentelijke Sporthal (Assenede) Kapelledreef 4 Assenede Oost-Vlaanderen 9960 België;X-APPLE-RADIUS=500;X-TITLE=Kapelledreef 4:geo:3.7493673,51.2303427
END:VEVENT
BEGIN:VEVENT
DTSTART;TZID=Europe/Brussels:20250325T190000
DTEND;TZID=Europe/Brussels:20250325T200000
DTSTAMP:20260422T085633
CREATED:20240819T192216Z
LAST-MODIFIED:20240819T192217Z
UID:20001533-1742929200-1742932800@www.shinbugent.be
SUMMARY:Clubtraining jeugd
DESCRIPTION:
URL:https://www.shinbugent.be/event/clubtraining-jeugd-9/2025-03-25/
LOCATION:Universitair Sportcentrum (Gent)\, Watersportlaan 3\, Gent\, Oost-Vlaanderen\, 9000\, België
GEO:51.0475487;3.7026469
X-APPLE-STRUCTURED-LOCATION;VALUE=URI;X-ADDRESS=Universitair Sportcentrum (Gent) Watersportlaan 3 Gent Oost-Vlaanderen 9000 België;X-APPLE-RADIUS=500;X-TITLE=Watersportlaan 3:geo:3.7026469,51.0475487
END:VEVENT
BEGIN:VEVENT
DTSTART;TZID=Europe/Brussels:20250325T190000
DTEND;TZID=Europe/Brussels:20250325T203000
DTSTAMP:20260422T085633
CREATED:20240819T193324Z
LAST-MODIFIED:20240819T193325Z
UID:20001563-1742929200-1742934600@www.shinbugent.be
SUMMARY:Clubtraining (volwassenen)
DESCRIPTION:
URL:https://www.shinbugent.be/event/clubtraining-volwassenen-8/2025-03-25/
LOCATION:Universitair Sportcentrum (Gent)\, Watersportlaan 3\, Gent\, Oost-Vlaanderen\, 9000\, België
GEO:51.0475487;3.7026469
X-APPLE-STRUCTURED-LOCATION;VALUE=URI;X-ADDRESS=Universitair Sportcentrum (Gent) Watersportlaan 3 Gent Oost-Vlaanderen 9000 België;X-APPLE-RADIUS=500;X-TITLE=Watersportlaan 3:geo:3.7026469,51.0475487
END:VEVENT
BEGIN:VEVENT
DTSTART;TZID=Europe/Brussels:20250325T190000
DTEND;TZID=Europe/Brussels:20250325T203000
DTSTAMP:20260422T085633
CREATED:20250303T120820Z
LAST-MODIFIED:20250303T120821Z
UID:20001651-1742929200-1742934600@www.shinbugent.be
SUMMARY:Shinbu competitietraining
DESCRIPTION:springtouw en handschoenen mee te nemen naar de training
URL:https://www.shinbugent.be/event/shinbu-competitietraining-10/
LOCATION:Gents Universitair sportcentrum\, Watersportlaan 3\, Gent\, 9000\, België
END:VEVENT
BEGIN:VEVENT
DTSTART;TZID=Europe/Brussels:20250327T193000
DTEND;TZID=Europe/Brussels:20250327T210000
DTSTAMP:20260422T085633
CREATED:20240820T070033Z
LAST-MODIFIED:20240820T070035Z
UID:20001587-1743103800-1743109200@www.shinbugent.be
SUMMARY:Clubtraining (volwassenen)
DESCRIPTION:
URL:https://www.shinbugent.be/event/clubtraining-volwassenen-10/2025-03-27/
LOCATION:Universitair Sportcentrum (Gent)\, Watersportlaan 3\, Gent\, Oost-Vlaanderen\, 9000\, België
GEO:51.0475487;3.7026469
X-APPLE-STRUCTURED-LOCATION;VALUE=URI;X-ADDRESS=Universitair Sportcentrum (Gent) Watersportlaan 3 Gent Oost-Vlaanderen 9000 België;X-APPLE-RADIUS=500;X-TITLE=Watersportlaan 3:geo:3.7026469,51.0475487
END:VEVENT
BEGIN:VEVENT
DTSTART;TZID=Europe/Brussels:20250329T100000
DTEND;TZID=Europe/Brussels:20250329T113000
DTSTAMP:20260422T085633
CREATED:20250303T120223Z
LAST-MODIFIED:20250303T120226Z
UID:20001511-1743242400-1743247800@www.shinbugent.be
SUMMARY:GEEN clubtraining (jeugd + volwassenen) -> trainingsdag Lede
DESCRIPTION:+ na de training 30 minuten vrije training & voorbereiding jongeren deelnemend aan JOW
URL:https://www.shinbugent.be/event/clubtraining-jeugd-volwassenen-10/
LOCATION:Universitair Sportcentrum (Gent)\, Watersportlaan 3\, Gent\, Oost-Vlaanderen\, 9000\, België
ATTACH;FMTTYPE=image/webp:https://www.shinbugent.be/wp-content/uploads/2025/02/no-training.png
GEO:51.0475487;3.7026469
X-APPLE-STRUCTURED-LOCATION;VALUE=URI;X-ADDRESS=Universitair Sportcentrum (Gent) Watersportlaan 3 Gent Oost-Vlaanderen 9000 België;X-APPLE-RADIUS=500;X-TITLE=Watersportlaan 3:geo:3.7026469,51.0475487
END:VEVENT
BEGIN:VEVENT
DTSTART;TZID=Europe/Brussels:20250329T100000
DTEND;TZID=Europe/Brussels:20250329T170000
DTSTAMP:20260422T085633
CREATED:20240820T074026Z
LAST-MODIFIED:20240820T074027Z
UID:20001617-1743242400-1743267600@www.shinbugent.be
SUMMARY:Kata trainingsdag Taisho Lede
DESCRIPTION:
URL:https://www.shinbugent.be/event/kata-trainingsdag-taisho-lede-2/
LOCATION:Sportcomplex De Ommegang (Lede)\, Ommeganglaan 60 A\, Lede\, Oost-Vlaanderen\, 9340\, België
GEO:50.9591145;3.9780411
X-APPLE-STRUCTURED-LOCATION;VALUE=URI;X-ADDRESS=Sportcomplex De Ommegang (Lede) Ommeganglaan 60 A Lede Oost-Vlaanderen 9340 België;X-APPLE-RADIUS=500;X-TITLE=Ommeganglaan 60 A:geo:3.9780411,50.9591145
END:VEVENT
BEGIN:VEVENT
DTSTART;TZID=Europe/Brussels:20250330T090000
DTEND;TZID=Europe/Brussels:20250330T180000
DTSTAMP:20260422T085633
CREATED:20250102T172300Z
LAST-MODIFIED:20250102T172302Z
UID:20001645-1743325200-1743357600@www.shinbugent.be
SUMMARY:Provinciaal Kampioenschap WKF Oost-Vlaanderen
DESCRIPTION:
URL:https://www.shinbugent.be/event/provinciaal-kampioenschap-wkf-oost-vlaanderen/
LOCATION:Sporthal De Sportstek\, Nieuwstraat 60D\, Stekene\, 9190\, Belgium
END:VEVENT
BEGIN:VEVENT
DTSTART;TZID=Europe/Brussels:20250401T190000
DTEND;TZID=Europe/Brussels:20250401T200000
DTSTAMP:20260422T085633
CREATED:20240819T192216Z
LAST-MODIFIED:20240819T192217Z
UID:20001534-1743534000-1743537600@www.shinbugent.be
SUMMARY:Clubtraining jeugd
DESCRIPTION:
URL:https://www.shinbugent.be/event/clubtraining-jeugd-9/2025-04-01/
LOCATION:Universitair Sportcentrum (Gent)\, Watersportlaan 3\, Gent\, Oost-Vlaanderen\, 9000\, België
GEO:51.0475487;3.7026469
X-APPLE-STRUCTURED-LOCATION;VALUE=URI;X-ADDRESS=Universitair Sportcentrum (Gent) Watersportlaan 3 Gent Oost-Vlaanderen 9000 België;X-APPLE-RADIUS=500;X-TITLE=Watersportlaan 3:geo:3.7026469,51.0475487
END:VEVENT
BEGIN:VEVENT
DTSTART;TZID=Europe/Brussels:20250401T190000
DTEND;TZID=Europe/Brussels:20250401T203000
DTSTAMP:20260422T085633
CREATED:20250303T122245Z
LAST-MODIFIED:20250303T122247Z
UID:20001564-1743534000-1743539400@www.shinbugent.be
SUMMARY:Clubtraining (volwassenen): Defence training
DESCRIPTION:
URL:https://www.shinbugent.be/event/clubtraining-volwassenen-19/
LOCATION:Universitair Sportcentrum (Gent)\, Watersportlaan 3\, Gent\, Oost-Vlaanderen\, 9000\, België
GEO:51.0475487;3.7026469
X-APPLE-STRUCTURED-LOCATION;VALUE=URI;X-ADDRESS=Universitair Sportcentrum (Gent) Watersportlaan 3 Gent Oost-Vlaanderen 9000 België;X-APPLE-RADIUS=500;X-TITLE=Watersportlaan 3:geo:3.7026469,51.0475487
END:VEVENT
BEGIN:VEVENT
DTSTART;TZID=Europe/Brussels:20250403T193000
DTEND;TZID=Europe/Brussels:20250403T210000
DTSTAMP:20260422T085633
CREATED:20250303T120953Z
LAST-MODIFIED:20250303T120954Z
UID:20001588-1743708600-1743714000@www.shinbugent.be
SUMMARY:Clubtraining (volwassenen): gastles
DESCRIPTION:
URL:https://www.shinbugent.be/event/clubtraining-volwassenen-17/
LOCATION:Universitair Sportcentrum (Gent)\, Watersportlaan 3\, Gent\, Oost-Vlaanderen\, 9000\, België
GEO:51.0475487;3.7026469
X-APPLE-STRUCTURED-LOCATION;VALUE=URI;X-ADDRESS=Universitair Sportcentrum (Gent) Watersportlaan 3 Gent Oost-Vlaanderen 9000 België;X-APPLE-RADIUS=500;X-TITLE=Watersportlaan 3:geo:3.7026469,51.0475487
END:VEVENT
BEGIN:VEVENT
DTSTART;TZID=Europe/Brussels:20250405T100000
DTEND;TZID=Europe/Brussels:20250405T113000
DTSTAMP:20260422T085633
CREATED:20240819T185404Z
LAST-MODIFIED:20240819T185406Z
UID:20001512-1743847200-1743852600@www.shinbugent.be
SUMMARY:Clubtraining (jeugd + volwassenen)
DESCRIPTION:+ na de training 30 minuten vrije training & voorbereiding jongeren deelnemend aan JOW
URL:https://www.shinbugent.be/event/clubtraining-jeugd-volwassenen-6/2025-04-05/
LOCATION:Universitair Sportcentrum (Gent)\, Watersportlaan 3\, Gent\, Oost-Vlaanderen\, 9000\, België
GEO:51.0475487;3.7026469
X-APPLE-STRUCTURED-LOCATION;VALUE=URI;X-ADDRESS=Universitair Sportcentrum (Gent) Watersportlaan 3 Gent Oost-Vlaanderen 9000 België;X-APPLE-RADIUS=500;X-TITLE=Watersportlaan 3:geo:3.7026469,51.0475487
END:VEVENT
END:VCALENDAR