BEGIN:VCALENDAR
VERSION:2.0
PRODID:-//Shinbu Gent - ECPv6.15.18//NONSGML v1.0//EN
CALSCALE:GREGORIAN
METHOD:PUBLISH
X-WR-CALNAME:Shinbu Gent
X-ORIGINAL-URL:https://www.shinbugent.be
X-WR-CALDESC:Evenementen voor Shinbu Gent
REFRESH-INTERVAL;VALUE=DURATION:PT1H
X-Robots-Tag:noindex
X-PUBLISHED-TTL:PT1H
BEGIN:VTIMEZONE
TZID:Europe/Brussels
BEGIN:DAYLIGHT
TZOFFSETFROM:+0100
TZOFFSETTO:+0200
TZNAME:CEST
DTSTART:20250330T010000
END:DAYLIGHT
BEGIN:STANDARD
TZOFFSETFROM:+0200
TZOFFSETTO:+0100
TZNAME:CET
DTSTART:20251026T010000
END:STANDARD
BEGIN:DAYLIGHT
TZOFFSETFROM:+0100
TZOFFSETTO:+0200
TZNAME:CEST
DTSTART:20260329T010000
END:DAYLIGHT
BEGIN:STANDARD
TZOFFSETFROM:+0200
TZOFFSETTO:+0100
TZNAME:CET
DTSTART:20261025T010000
END:STANDARD
BEGIN:DAYLIGHT
TZOFFSETFROM:+0100
TZOFFSETTO:+0200
TZNAME:CEST
DTSTART:20270328T010000
END:DAYLIGHT
BEGIN:STANDARD
TZOFFSETFROM:+0200
TZOFFSETTO:+0100
TZNAME:CET
DTSTART:20271031T010000
END:STANDARD
END:VTIMEZONE
BEGIN:VEVENT
DTSTART;TZID=Europe/Brussels:20260526T190000
DTEND;TZID=Europe/Brussels:20260526T203000
DTSTAMP:20260420T103452
CREATED:20250810T190848Z
LAST-MODIFIED:20250810T190850Z
UID:20001796-1779822000-1779827400@www.shinbugent.be
SUMMARY:clubtraining volwassenen
DESCRIPTION:
URL:https://www.shinbugent.be/event/clubtraining-volwassenen-24/2026-05-26/
LOCATION:Gents Universitair sportcentrum\, Watersportlaan 3\, Gent\, 9000\, België
END:VEVENT
BEGIN:VEVENT
DTSTART;TZID=Europe/Brussels:20260528T193000
DTEND;TZID=Europe/Brussels:20260528T210000
DTSTAMP:20260420T103452
CREATED:20250810T191041Z
LAST-MODIFIED:20250810T191043Z
UID:20001820-1779996600-1780002000@www.shinbugent.be
SUMMARY:clubtraining volwassenen
DESCRIPTION:
URL:https://www.shinbugent.be/event/clubtraining-volwassenen-25/2026-05-28/
LOCATION:Gents Universitair sportcentrum\, Watersportlaan 3\, Gent\, 9000\, België
END:VEVENT
BEGIN:VEVENT
DTSTART;TZID=Europe/Brussels:20260530T090000
DTEND;TZID=Europe/Brussels:20260530T103000
DTSTAMP:20260420T103452
CREATED:20250810T191739Z
LAST-MODIFIED:20250810T191741Z
UID:20001868-1780131600-1780137000@www.shinbugent.be
SUMMARY:clubtraining (jeugd + volwassenen)
DESCRIPTION:
URL:https://www.shinbugent.be/event/clubtraining-jeugd-volwassenen-12/2026-05-30/
LOCATION:Sporthal Arteveldehogeschool  – campus Watersportbaan\, Watersportlaan 4\, Gent\, Oost-Vlaanderen\, 9000\, Belgium
ATTACH;FMTTYPE=image/jpeg:https://www.shinbugent.be/wp-content/uploads/2025/08/foto-1-sporthal-artevelde.jpg
END:VEVENT
BEGIN:VEVENT
DTSTART;TZID=Europe/Brussels:20260531T100000
DTEND;TZID=Europe/Brussels:20260531T170000
DTSTAMP:20260420T103452
CREATED:20250810T185847Z
LAST-MODIFIED:20250810T185848Z
UID:20001772-1780221600-1780246800@www.shinbugent.be
SUMMARY:Vlaams Ippon kampioenschap
DESCRIPTION:Vlaams Ippon kampioenschap voor jongeren en volwassenen-> kata per stijlgroep (Goju Ryu\, Shito Ryu\, Shotokan\, Wado Ryu)-> kumite overkoepelend over de stijlgroepen heen volgens Ippon-reglementering
URL:https://www.shinbugent.be/event/vlaams-ippon-kampioenschap/
LOCATION:Euro Volley Center – Vilvoorde\, Beneluxlaan 22\, Vilvoorde\, België
END:VEVENT
BEGIN:VEVENT
DTSTART;TZID=Europe/Brussels:20260602T190000
DTEND;TZID=Europe/Brussels:20260602T203000
DTSTAMP:20260420T103452
CREATED:20250810T184128Z
LAST-MODIFIED:20250810T184130Z
UID:20001761-1780426800-1780432200@www.shinbugent.be
SUMMARY:PIT 2 O-Vl
DESCRIPTION:Provinciale instructietraining o.l.v. S. Gneo sensei -> voorbehouden aan JKA-(hulp)lesgevers\, JKA-clubexaminatoren en JKA-scheidsrechters
URL:https://www.shinbugent.be/event/pit-2-o-vl/
LOCATION:Gents Universitair sportcentrum\, Watersportlaan 3\, Gent\, 9000\, België
END:VEVENT
BEGIN:VEVENT
DTSTART;TZID=Europe/Brussels:20260602T190000
DTEND;TZID=Europe/Brussels:20260602T203000
DTSTAMP:20260420T103452
CREATED:20250810T190848Z
LAST-MODIFIED:20250810T190850Z
UID:20001797-1780426800-1780432200@www.shinbugent.be
SUMMARY:clubtraining volwassenen
DESCRIPTION:
URL:https://www.shinbugent.be/event/clubtraining-volwassenen-24/2026-06-02/
LOCATION:Gents Universitair sportcentrum\, Watersportlaan 3\, Gent\, 9000\, België
END:VEVENT
BEGIN:VEVENT
DTSTART;TZID=Europe/Brussels:20260604T193000
DTEND;TZID=Europe/Brussels:20260604T210000
DTSTAMP:20260420T103452
CREATED:20250810T191041Z
LAST-MODIFIED:20250810T191043Z
UID:20001821-1780601400-1780606800@www.shinbugent.be
SUMMARY:clubtraining volwassenen
DESCRIPTION:
URL:https://www.shinbugent.be/event/clubtraining-volwassenen-25/2026-06-04/
LOCATION:Gents Universitair sportcentrum\, Watersportlaan 3\, Gent\, 9000\, België
END:VEVENT
BEGIN:VEVENT
DTSTART;TZID=Europe/Brussels:20260606T090000
DTEND;TZID=Europe/Brussels:20260606T103000
DTSTAMP:20260420T103452
CREATED:20250810T191739Z
LAST-MODIFIED:20250810T191741Z
UID:20001869-1780736400-1780741800@www.shinbugent.be
SUMMARY:clubtraining (jeugd + volwassenen)
DESCRIPTION:
URL:https://www.shinbugent.be/event/clubtraining-jeugd-volwassenen-12/2026-06-06/
LOCATION:Sporthal Arteveldehogeschool  – campus Watersportbaan\, Watersportlaan 4\, Gent\, Oost-Vlaanderen\, 9000\, Belgium
ATTACH;FMTTYPE=image/jpeg:https://www.shinbugent.be/wp-content/uploads/2025/08/foto-1-sporthal-artevelde.jpg
END:VEVENT
BEGIN:VEVENT
DTSTART;TZID=Europe/Brussels:20260606T140000
DTEND;TZID=Europe/Brussels:20260606T153000
DTSTAMP:20260420T103452
CREATED:20250810T182638Z
LAST-MODIFIED:20250810T182640Z
UID:20001752-1780754400-1780759800@www.shinbugent.be
SUMMARY:Nationale training
DESCRIPTION:Alle graden – minimum 13 jaar
URL:https://www.shinbugent.be/event/nationale-training-19/2026-06-06/
LOCATION:Complexe Gaston Reiff (Braine l’Alleud)\, Rue Ernest Laurent 210\, Braine l'Alleud\, 1420\, België
GEO:50.678249;4.3848448
X-APPLE-STRUCTURED-LOCATION;VALUE=URI;X-ADDRESS=Complexe Gaston Reiff (Braine l’Alleud) Rue Ernest Laurent 210 Braine l'Alleud 1420 België;X-APPLE-RADIUS=500;X-TITLE=Rue Ernest Laurent 210:geo:4.3848448,50.678249
END:VEVENT
BEGIN:VEVENT
DTSTART;TZID=Europe/Brussels:20260606T140000
DTEND;TZID=Europe/Brussels:20260606T153000
DTSTAMP:20260420T103452
CREATED:20250810T183125Z
LAST-MODIFIED:20250810T183127Z
UID:20001757-1780754400-1780759800@www.shinbugent.be
SUMMARY:Nationale training jongeren
DESCRIPTION:Alle graden – 7 tot en met 12 jaar
URL:https://www.shinbugent.be/event/nationale-training-jongeren-8/2026-06-06/
LOCATION:Complexe Gaston Reiff (Braine l’Alleud)\, Rue Ernest Laurent 210\, Braine l'Alleud\, 1420\, België
GEO:50.678249;4.3848448
X-APPLE-STRUCTURED-LOCATION;VALUE=URI;X-ADDRESS=Complexe Gaston Reiff (Braine l’Alleud) Rue Ernest Laurent 210 Braine l'Alleud 1420 België;X-APPLE-RADIUS=500;X-TITLE=Rue Ernest Laurent 210:geo:4.3848448,50.678249
END:VEVENT
BEGIN:VEVENT
DTSTART;TZID=Europe/Brussels:20260609T190000
DTEND;TZID=Europe/Brussels:20260609T203000
DTSTAMP:20260420T103452
CREATED:20250810T190848Z
LAST-MODIFIED:20250810T190850Z
UID:20001798-1781031600-1781037000@www.shinbugent.be
SUMMARY:clubtraining volwassenen
DESCRIPTION:
URL:https://www.shinbugent.be/event/clubtraining-volwassenen-24/2026-06-09/
LOCATION:Gents Universitair sportcentrum\, Watersportlaan 3\, Gent\, 9000\, België
END:VEVENT
BEGIN:VEVENT
DTSTART;TZID=Europe/Brussels:20260611T193000
DTEND;TZID=Europe/Brussels:20260611T210000
DTSTAMP:20260420T103452
CREATED:20250810T191041Z
LAST-MODIFIED:20250810T191043Z
UID:20001822-1781206200-1781211600@www.shinbugent.be
SUMMARY:clubtraining volwassenen
DESCRIPTION:
URL:https://www.shinbugent.be/event/clubtraining-volwassenen-25/2026-06-11/
LOCATION:Gents Universitair sportcentrum\, Watersportlaan 3\, Gent\, 9000\, België
END:VEVENT
BEGIN:VEVENT
DTSTART;TZID=Europe/Brussels:20260613T090000
DTEND;TZID=Europe/Brussels:20260613T103000
DTSTAMP:20260420T103452
CREATED:20250810T191739Z
LAST-MODIFIED:20250810T191741Z
UID:20001870-1781341200-1781346600@www.shinbugent.be
SUMMARY:clubtraining (jeugd + volwassenen)
DESCRIPTION:
URL:https://www.shinbugent.be/event/clubtraining-jeugd-volwassenen-12/2026-06-13/
LOCATION:Sporthal Arteveldehogeschool  – campus Watersportbaan\, Watersportlaan 4\, Gent\, Oost-Vlaanderen\, 9000\, Belgium
ATTACH;FMTTYPE=image/jpeg:https://www.shinbugent.be/wp-content/uploads/2025/08/foto-1-sporthal-artevelde.jpg
END:VEVENT
BEGIN:VEVENT
DTSTART;TZID=Europe/Brussels:20260616T190000
DTEND;TZID=Europe/Brussels:20260616T203000
DTSTAMP:20260420T103452
CREATED:20250810T190848Z
LAST-MODIFIED:20250810T190850Z
UID:20001799-1781636400-1781641800@www.shinbugent.be
SUMMARY:clubtraining volwassenen
DESCRIPTION:
URL:https://www.shinbugent.be/event/clubtraining-volwassenen-24/2026-06-16/
LOCATION:Gents Universitair sportcentrum\, Watersportlaan 3\, Gent\, 9000\, België
END:VEVENT
BEGIN:VEVENT
DTSTART;TZID=Europe/Brussels:20260617T190000
DTEND;TZID=Europe/Brussels:20260617T220000
DTSTAMP:20260420T103452
CREATED:20250810T190108Z
LAST-MODIFIED:20250810T190110Z
UID:20001773-1781722800-1781733600@www.shinbugent.be
SUMMARY:Memorial S. Miyazaki Shihan
DESCRIPTION:Voor iedereen die de Shihan een warm hart toedraagt.
URL:https://www.shinbugent.be/event/memorial-s-miyazaki-shihan/
LOCATION:Complexe Gaston Reiff (Braine l’Alleud)\, Rue Ernest Laurent 210\, Braine l'Alleud\, 1420\, België
GEO:50.678249;4.3848448
X-APPLE-STRUCTURED-LOCATION;VALUE=URI;X-ADDRESS=Complexe Gaston Reiff (Braine l’Alleud) Rue Ernest Laurent 210 Braine l'Alleud 1420 België;X-APPLE-RADIUS=500;X-TITLE=Rue Ernest Laurent 210:geo:4.3848448,50.678249
END:VEVENT
BEGIN:VEVENT
DTSTART;TZID=Europe/Brussels:20260618T193000
DTEND;TZID=Europe/Brussels:20260618T210000
DTSTAMP:20260420T103452
CREATED:20250810T191041Z
LAST-MODIFIED:20250810T191043Z
UID:20001823-1781811000-1781816400@www.shinbugent.be
SUMMARY:clubtraining volwassenen
DESCRIPTION:
URL:https://www.shinbugent.be/event/clubtraining-volwassenen-25/2026-06-18/
LOCATION:Gents Universitair sportcentrum\, Watersportlaan 3\, Gent\, 9000\, België
END:VEVENT
BEGIN:VEVENT
DTSTART;TZID=Europe/Brussels:20260620T090000
DTEND;TZID=Europe/Brussels:20260620T103000
DTSTAMP:20260420T103452
CREATED:20250810T191739Z
LAST-MODIFIED:20250810T191741Z
UID:20001871-1781946000-1781951400@www.shinbugent.be
SUMMARY:clubtraining (jeugd + volwassenen)
DESCRIPTION:
URL:https://www.shinbugent.be/event/clubtraining-jeugd-volwassenen-12/2026-06-20/
LOCATION:Sporthal Arteveldehogeschool  – campus Watersportbaan\, Watersportlaan 4\, Gent\, Oost-Vlaanderen\, 9000\, Belgium
ATTACH;FMTTYPE=image/jpeg:https://www.shinbugent.be/wp-content/uploads/2025/08/foto-1-sporthal-artevelde.jpg
END:VEVENT
BEGIN:VEVENT
DTSTART;TZID=Europe/Brussels:20260623T190000
DTEND;TZID=Europe/Brussels:20260623T203000
DTSTAMP:20260420T103452
CREATED:20250810T190848Z
LAST-MODIFIED:20250810T190850Z
UID:20001800-1782241200-1782246600@www.shinbugent.be
SUMMARY:clubtraining volwassenen
DESCRIPTION:
URL:https://www.shinbugent.be/event/clubtraining-volwassenen-24/2026-06-23/
LOCATION:Gents Universitair sportcentrum\, Watersportlaan 3\, Gent\, 9000\, België
END:VEVENT
BEGIN:VEVENT
DTSTART;TZID=Europe/Brussels:20260625T193000
DTEND;TZID=Europe/Brussels:20260625T210000
DTSTAMP:20260420T103452
CREATED:20250810T191041Z
LAST-MODIFIED:20250810T191043Z
UID:20001824-1782415800-1782421200@www.shinbugent.be
SUMMARY:clubtraining volwassenen
DESCRIPTION:
URL:https://www.shinbugent.be/event/clubtraining-volwassenen-25/2026-06-25/
LOCATION:Gents Universitair sportcentrum\, Watersportlaan 3\, Gent\, 9000\, België
END:VEVENT
BEGIN:VEVENT
DTSTART;TZID=Europe/Brussels:20260703T100000
DTEND;TZID=Europe/Brussels:20260705T160000
DTSTAMP:20260420T103453
CREATED:20250810T190337Z
LAST-MODIFIED:20250810T190339Z
UID:20001774-1783072800-1783267200@www.shinbugent.be
SUMMARY:Internationale JKA S. Miyazaki - Gent
DESCRIPTION:driedaagse JKA-stage
URL:https://www.shinbugent.be/event/internationale-jka-s-miyazaki-gent/
LOCATION:Sportcentrum Sport Vlaanderen Gent\, Zuiderlaan 14\, Gent\, Oost-Vlaanderen\, 9000\, Belgium
END:VEVENT
END:VCALENDAR