BEGIN:VCALENDAR
VERSION:2.0
PRODID:-//Shinbu Gent - ECPv6.15.18//NONSGML v1.0//EN
CALSCALE:GREGORIAN
METHOD:PUBLISH
X-WR-CALNAME:Shinbu Gent
X-ORIGINAL-URL:https://www.shinbugent.be
X-WR-CALDESC:Evenementen voor Shinbu Gent
REFRESH-INTERVAL;VALUE=DURATION:PT1H
X-Robots-Tag:noindex
X-PUBLISHED-TTL:PT1H
BEGIN:VTIMEZONE
TZID:Europe/Brussels
BEGIN:DAYLIGHT
TZOFFSETFROM:+0100
TZOFFSETTO:+0200
TZNAME:CEST
DTSTART:20240331T010000
END:DAYLIGHT
BEGIN:STANDARD
TZOFFSETFROM:+0200
TZOFFSETTO:+0100
TZNAME:CET
DTSTART:20241027T010000
END:STANDARD
BEGIN:DAYLIGHT
TZOFFSETFROM:+0100
TZOFFSETTO:+0200
TZNAME:CEST
DTSTART:20250330T010000
END:DAYLIGHT
BEGIN:STANDARD
TZOFFSETFROM:+0200
TZOFFSETTO:+0100
TZNAME:CET
DTSTART:20251026T010000
END:STANDARD
BEGIN:DAYLIGHT
TZOFFSETFROM:+0100
TZOFFSETTO:+0200
TZNAME:CEST
DTSTART:20260329T010000
END:DAYLIGHT
BEGIN:STANDARD
TZOFFSETFROM:+0200
TZOFFSETTO:+0100
TZNAME:CET
DTSTART:20261025T010000
END:STANDARD
END:VTIMEZONE
BEGIN:VEVENT
DTSTART;TZID=Europe/Brussels:20250329T100000
DTEND;TZID=Europe/Brussels:20250329T170000
DTSTAMP:20260422T132009
CREATED:20240820T074026Z
LAST-MODIFIED:20240820T074027Z
UID:20001617-1743242400-1743267600@www.shinbugent.be
SUMMARY:Kata trainingsdag Taisho Lede
DESCRIPTION:
URL:https://www.shinbugent.be/event/kata-trainingsdag-taisho-lede-2/
LOCATION:Sportcomplex De Ommegang (Lede)\, Ommeganglaan 60 A\, Lede\, Oost-Vlaanderen\, 9340\, België
GEO:50.9591145;3.9780411
X-APPLE-STRUCTURED-LOCATION;VALUE=URI;X-ADDRESS=Sportcomplex De Ommegang (Lede) Ommeganglaan 60 A Lede Oost-Vlaanderen 9340 België;X-APPLE-RADIUS=500;X-TITLE=Ommeganglaan 60 A:geo:3.9780411,50.9591145
END:VEVENT
BEGIN:VEVENT
DTSTART;TZID=Europe/Brussels:20250330T090000
DTEND;TZID=Europe/Brussels:20250330T180000
DTSTAMP:20260422T132009
CREATED:20250102T172300Z
LAST-MODIFIED:20250102T172302Z
UID:20001645-1743325200-1743357600@www.shinbugent.be
SUMMARY:Provinciaal Kampioenschap WKF Oost-Vlaanderen
DESCRIPTION:
URL:https://www.shinbugent.be/event/provinciaal-kampioenschap-wkf-oost-vlaanderen/
LOCATION:Sporthal De Sportstek\, Nieuwstraat 60D\, Stekene\, 9190\, Belgium
END:VEVENT
BEGIN:VEVENT
DTSTART;TZID=Europe/Brussels:20250401T190000
DTEND;TZID=Europe/Brussels:20250401T200000
DTSTAMP:20260422T132009
CREATED:20240819T192216Z
LAST-MODIFIED:20240819T192217Z
UID:20001534-1743534000-1743537600@www.shinbugent.be
SUMMARY:Clubtraining jeugd
DESCRIPTION:
URL:https://www.shinbugent.be/event/clubtraining-jeugd-9/2025-04-01/
LOCATION:Universitair Sportcentrum (Gent)\, Watersportlaan 3\, Gent\, Oost-Vlaanderen\, 9000\, België
GEO:51.0475487;3.7026469
X-APPLE-STRUCTURED-LOCATION;VALUE=URI;X-ADDRESS=Universitair Sportcentrum (Gent) Watersportlaan 3 Gent Oost-Vlaanderen 9000 België;X-APPLE-RADIUS=500;X-TITLE=Watersportlaan 3:geo:3.7026469,51.0475487
END:VEVENT
BEGIN:VEVENT
DTSTART;TZID=Europe/Brussels:20250401T190000
DTEND;TZID=Europe/Brussels:20250401T203000
DTSTAMP:20260422T132009
CREATED:20250303T122245Z
LAST-MODIFIED:20250303T122247Z
UID:20001564-1743534000-1743539400@www.shinbugent.be
SUMMARY:Clubtraining (volwassenen): Defence training
DESCRIPTION:
URL:https://www.shinbugent.be/event/clubtraining-volwassenen-19/
LOCATION:Universitair Sportcentrum (Gent)\, Watersportlaan 3\, Gent\, Oost-Vlaanderen\, 9000\, België
GEO:51.0475487;3.7026469
X-APPLE-STRUCTURED-LOCATION;VALUE=URI;X-ADDRESS=Universitair Sportcentrum (Gent) Watersportlaan 3 Gent Oost-Vlaanderen 9000 België;X-APPLE-RADIUS=500;X-TITLE=Watersportlaan 3:geo:3.7026469,51.0475487
END:VEVENT
BEGIN:VEVENT
DTSTART;TZID=Europe/Brussels:20250403T193000
DTEND;TZID=Europe/Brussels:20250403T210000
DTSTAMP:20260422T132009
CREATED:20250303T120953Z
LAST-MODIFIED:20250303T120954Z
UID:20001588-1743708600-1743714000@www.shinbugent.be
SUMMARY:Clubtraining (volwassenen): gastles
DESCRIPTION:
URL:https://www.shinbugent.be/event/clubtraining-volwassenen-17/
LOCATION:Universitair Sportcentrum (Gent)\, Watersportlaan 3\, Gent\, Oost-Vlaanderen\, 9000\, België
GEO:51.0475487;3.7026469
X-APPLE-STRUCTURED-LOCATION;VALUE=URI;X-ADDRESS=Universitair Sportcentrum (Gent) Watersportlaan 3 Gent Oost-Vlaanderen 9000 België;X-APPLE-RADIUS=500;X-TITLE=Watersportlaan 3:geo:3.7026469,51.0475487
END:VEVENT
BEGIN:VEVENT
DTSTART;TZID=Europe/Brussels:20250405T100000
DTEND;TZID=Europe/Brussels:20250405T113000
DTSTAMP:20260422T132009
CREATED:20240819T185404Z
LAST-MODIFIED:20240819T185406Z
UID:20001512-1743847200-1743852600@www.shinbugent.be
SUMMARY:Clubtraining (jeugd + volwassenen)
DESCRIPTION:+ na de training 30 minuten vrije training & voorbereiding jongeren deelnemend aan JOW
URL:https://www.shinbugent.be/event/clubtraining-jeugd-volwassenen-6/2025-04-05/
LOCATION:Universitair Sportcentrum (Gent)\, Watersportlaan 3\, Gent\, Oost-Vlaanderen\, 9000\, België
GEO:51.0475487;3.7026469
X-APPLE-STRUCTURED-LOCATION;VALUE=URI;X-ADDRESS=Universitair Sportcentrum (Gent) Watersportlaan 3 Gent Oost-Vlaanderen 9000 België;X-APPLE-RADIUS=500;X-TITLE=Watersportlaan 3:geo:3.7026469,51.0475487
END:VEVENT
BEGIN:VEVENT
DTSTART;TZID=Europe/Brussels:20250405T140000
DTEND;TZID=Europe/Brussels:20250405T153000
DTSTAMP:20260422T132009
CREATED:20240820T071603Z
LAST-MODIFIED:20240820T071713Z
UID:20001601-1743861600-1743867000@www.shinbugent.be
SUMMARY:Nationale training
DESCRIPTION:Alle graden – minimum 13 jaar
URL:https://www.shinbugent.be/event/nationale-training-17/2025-04-05/
LOCATION:Complexe Gaston Reiff (Braine l’Alleud)\, Rue Ernest Laurent 210\, Braine l'Alleud\, 1420\, België
GEO:50.678249;4.3848448
X-APPLE-STRUCTURED-LOCATION;VALUE=URI;X-ADDRESS=Complexe Gaston Reiff (Braine l’Alleud) Rue Ernest Laurent 210 Braine l'Alleud 1420 België;X-APPLE-RADIUS=500;X-TITLE=Rue Ernest Laurent 210:geo:4.3848448,50.678249
END:VEVENT
BEGIN:VEVENT
DTSTART;TZID=Europe/Brussels:20250405T140000
DTEND;TZID=Europe/Brussels:20250405T153000
DTSTAMP:20260422T132009
CREATED:20240820T072416Z
LAST-MODIFIED:20240820T072417Z
UID:20001607-1743861600-1743867000@www.shinbugent.be
SUMMARY:Nationale training jongeren
DESCRIPTION:Alle graden – 7 tot en met 12 jaar
URL:https://www.shinbugent.be/event/nationale-training-jongeren-6/2025-04-05/
LOCATION:Complexe Gaston Reiff (Braine l’Alleud)\, Rue Ernest Laurent 210\, Braine l'Alleud\, 1420\, België
ATTACH;FMTTYPE=image/jpeg:https://www.shinbugent.be/wp-content/uploads/2024/08/promo-kids-nat-trainingen.jpg
GEO:50.678249;4.3848448
X-APPLE-STRUCTURED-LOCATION;VALUE=URI;X-ADDRESS=Complexe Gaston Reiff (Braine l’Alleud) Rue Ernest Laurent 210 Braine l'Alleud 1420 België;X-APPLE-RADIUS=500;X-TITLE=Rue Ernest Laurent 210:geo:4.3848448,50.678249
END:VEVENT
BEGIN:VEVENT
DTSTART;TZID=Europe/Brussels:20250408T190000
DTEND;TZID=Europe/Brussels:20250408T200000
DTSTAMP:20260422T132009
CREATED:20240819T192216Z
LAST-MODIFIED:20240819T192217Z
UID:20001535-1744138800-1744142400@www.shinbugent.be
SUMMARY:Clubtraining jeugd
DESCRIPTION:
URL:https://www.shinbugent.be/event/clubtraining-jeugd-9/2025-04-08/
LOCATION:Universitair Sportcentrum (Gent)\, Watersportlaan 3\, Gent\, Oost-Vlaanderen\, 9000\, België
GEO:51.0475487;3.7026469
X-APPLE-STRUCTURED-LOCATION;VALUE=URI;X-ADDRESS=Universitair Sportcentrum (Gent) Watersportlaan 3 Gent Oost-Vlaanderen 9000 België;X-APPLE-RADIUS=500;X-TITLE=Watersportlaan 3:geo:3.7026469,51.0475487
END:VEVENT
BEGIN:VEVENT
DTSTART;TZID=Europe/Brussels:20250408T190000
DTEND;TZID=Europe/Brussels:20250408T203000
DTSTAMP:20260422T132009
CREATED:20240819T193324Z
LAST-MODIFIED:20240819T193325Z
UID:20001565-1744138800-1744144200@www.shinbugent.be
SUMMARY:Clubtraining (volwassenen)
DESCRIPTION:
URL:https://www.shinbugent.be/event/clubtraining-volwassenen-8/2025-04-08/
LOCATION:Universitair Sportcentrum (Gent)\, Watersportlaan 3\, Gent\, Oost-Vlaanderen\, 9000\, België
GEO:51.0475487;3.7026469
X-APPLE-STRUCTURED-LOCATION;VALUE=URI;X-ADDRESS=Universitair Sportcentrum (Gent) Watersportlaan 3 Gent Oost-Vlaanderen 9000 België;X-APPLE-RADIUS=500;X-TITLE=Watersportlaan 3:geo:3.7026469,51.0475487
END:VEVENT
BEGIN:VEVENT
DTSTART;TZID=Europe/Brussels:20250410T193000
DTEND;TZID=Europe/Brussels:20250410T210000
DTSTAMP:20260422T132009
CREATED:20240820T070033Z
LAST-MODIFIED:20240820T070035Z
UID:20001589-1744313400-1744318800@www.shinbugent.be
SUMMARY:Clubtraining (volwassenen)
DESCRIPTION:
URL:https://www.shinbugent.be/event/clubtraining-volwassenen-10/2025-04-10/
LOCATION:Universitair Sportcentrum (Gent)\, Watersportlaan 3\, Gent\, Oost-Vlaanderen\, 9000\, België
GEO:51.0475487;3.7026469
X-APPLE-STRUCTURED-LOCATION;VALUE=URI;X-ADDRESS=Universitair Sportcentrum (Gent) Watersportlaan 3 Gent Oost-Vlaanderen 9000 België;X-APPLE-RADIUS=500;X-TITLE=Watersportlaan 3:geo:3.7026469,51.0475487
END:VEVENT
BEGIN:VEVENT
DTSTART;TZID=Europe/Brussels:20250412T100000
DTEND;TZID=Europe/Brussels:20250412T113000
DTSTAMP:20260422T132009
CREATED:20240819T185404Z
LAST-MODIFIED:20240819T185406Z
UID:20001513-1744452000-1744457400@www.shinbugent.be
SUMMARY:Clubtraining (jeugd + volwassenen)
DESCRIPTION:+ na de training 30 minuten vrije training & voorbereiding jongeren deelnemend aan JOW
URL:https://www.shinbugent.be/event/clubtraining-jeugd-volwassenen-6/2025-04-12/
LOCATION:Universitair Sportcentrum (Gent)\, Watersportlaan 3\, Gent\, Oost-Vlaanderen\, 9000\, België
GEO:51.0475487;3.7026469
X-APPLE-STRUCTURED-LOCATION;VALUE=URI;X-ADDRESS=Universitair Sportcentrum (Gent) Watersportlaan 3 Gent Oost-Vlaanderen 9000 België;X-APPLE-RADIUS=500;X-TITLE=Watersportlaan 3:geo:3.7026469,51.0475487
END:VEVENT
BEGIN:VEVENT
DTSTART;TZID=Europe/Brussels:20250415T190000
DTEND;TZID=Europe/Brussels:20250415T200000
DTSTAMP:20260422T132009
CREATED:20240819T192216Z
LAST-MODIFIED:20240819T192217Z
UID:20001536-1744743600-1744747200@www.shinbugent.be
SUMMARY:Clubtraining jeugd
DESCRIPTION:
URL:https://www.shinbugent.be/event/clubtraining-jeugd-9/2025-04-15/
LOCATION:Universitair Sportcentrum (Gent)\, Watersportlaan 3\, Gent\, Oost-Vlaanderen\, 9000\, België
GEO:51.0475487;3.7026469
X-APPLE-STRUCTURED-LOCATION;VALUE=URI;X-ADDRESS=Universitair Sportcentrum (Gent) Watersportlaan 3 Gent Oost-Vlaanderen 9000 België;X-APPLE-RADIUS=500;X-TITLE=Watersportlaan 3:geo:3.7026469,51.0475487
END:VEVENT
BEGIN:VEVENT
DTSTART;TZID=Europe/Brussels:20250415T190000
DTEND;TZID=Europe/Brussels:20250415T203000
DTSTAMP:20260422T132009
CREATED:20240819T193324Z
LAST-MODIFIED:20240819T193325Z
UID:20001566-1744743600-1744749000@www.shinbugent.be
SUMMARY:Clubtraining (volwassenen)
DESCRIPTION:
URL:https://www.shinbugent.be/event/clubtraining-volwassenen-8/2025-04-15/
LOCATION:Universitair Sportcentrum (Gent)\, Watersportlaan 3\, Gent\, Oost-Vlaanderen\, 9000\, België
GEO:51.0475487;3.7026469
X-APPLE-STRUCTURED-LOCATION;VALUE=URI;X-ADDRESS=Universitair Sportcentrum (Gent) Watersportlaan 3 Gent Oost-Vlaanderen 9000 België;X-APPLE-RADIUS=500;X-TITLE=Watersportlaan 3:geo:3.7026469,51.0475487
END:VEVENT
BEGIN:VEVENT
DTSTART;TZID=Europe/Brussels:20250417T193000
DTEND;TZID=Europe/Brussels:20250417T210000
DTSTAMP:20260422T132009
CREATED:20240820T070033Z
LAST-MODIFIED:20240820T070035Z
UID:20001590-1744918200-1744923600@www.shinbugent.be
SUMMARY:Clubtraining (volwassenen)
DESCRIPTION:
URL:https://www.shinbugent.be/event/clubtraining-volwassenen-10/2025-04-17/
LOCATION:Universitair Sportcentrum (Gent)\, Watersportlaan 3\, Gent\, Oost-Vlaanderen\, 9000\, België
GEO:51.0475487;3.7026469
X-APPLE-STRUCTURED-LOCATION;VALUE=URI;X-ADDRESS=Universitair Sportcentrum (Gent) Watersportlaan 3 Gent Oost-Vlaanderen 9000 België;X-APPLE-RADIUS=500;X-TITLE=Watersportlaan 3:geo:3.7026469,51.0475487
END:VEVENT
BEGIN:VEVENT
DTSTART;TZID=Europe/Brussels:20250417T193000
DTEND;TZID=Europe/Brussels:20250417T210000
DTSTAMP:20260422T132009
CREATED:20240820T081727Z
LAST-MODIFIED:20240820T081728Z
UID:20001624-1744918200-1744923600@www.shinbugent.be
SUMMARY:Provinciale training OVL
DESCRIPTION:
URL:https://www.shinbugent.be/event/provinciale-training-ovl/2025-04-17/
LOCATION:Universitair Sportcentrum (Gent)\, Watersportlaan 3\, Gent\, Oost-Vlaanderen\, 9000\, België
GEO:51.0475487;3.7026469
X-APPLE-STRUCTURED-LOCATION;VALUE=URI;X-ADDRESS=Universitair Sportcentrum (Gent) Watersportlaan 3 Gent Oost-Vlaanderen 9000 België;X-APPLE-RADIUS=500;X-TITLE=Watersportlaan 3:geo:3.7026469,51.0475487
END:VEVENT
BEGIN:VEVENT
DTSTART;TZID=Europe/Brussels:20250417T193000
DTEND;TZID=Europe/Brussels:20250417T210000
DTSTAMP:20260422T132009
CREATED:20250102T173356Z
LAST-MODIFIED:20250102T173357Z
UID:20001648-1744918200-1744923600@www.shinbugent.be
SUMMARY:Ippon competitietraining O-VL
DESCRIPTION:
URL:https://www.shinbugent.be/event/ippon-competitietraining-o-vl-2/2025-04-17/
LOCATION:Universitair Sportcentrum (Gent)\, Watersportlaan 3\, Gent\, Oost-Vlaanderen\, 9000\, België
GEO:51.0475487;3.7026469
X-APPLE-STRUCTURED-LOCATION;VALUE=URI;X-ADDRESS=Universitair Sportcentrum (Gent) Watersportlaan 3 Gent Oost-Vlaanderen 9000 België;X-APPLE-RADIUS=500;X-TITLE=Watersportlaan 3:geo:3.7026469,51.0475487
END:VEVENT
BEGIN:VEVENT
DTSTART;TZID=Europe/Brussels:20250419T000000
DTEND;TZID=Europe/Brussels:20250419T235959
DTSTAMP:20260422T132009
CREATED:20240819T150008Z
LAST-MODIFIED:20240819T150011Z
UID:20001493-1745020800-1745107199@www.shinbugent.be
SUMMARY:GEEN clubtraining (zowel voor jeugd als volwassenen)
DESCRIPTION:Pasen -> geen clubtraining en dit voor zowel de jeugd als de volwassenen
URL:https://www.shinbugent.be/event/geen-clubtraining-zowel-voor-jeugd-als-volwassenen-2/
END:VEVENT
BEGIN:VEVENT
DTSTART;TZID=Europe/Brussels:20250419T100000
DTEND;TZID=Europe/Brussels:20250421T160000
DTSTAMP:20260422T132009
CREATED:20240820T073030Z
LAST-MODIFIED:20240820T073031Z
UID:20001612-1745056800-1745251200@www.shinbugent.be
SUMMARY:Lentestage JKA Belgium
DESCRIPTION:
URL:https://www.shinbugent.be/event/lentestage-jka-belgium/
LOCATION:Centre sportif du Blocry\, Place des Sports 1\, Louvain-La-Neuve\, 1348\, België
GEO:50.669781;4.5990753
X-APPLE-STRUCTURED-LOCATION;VALUE=URI;X-ADDRESS=Centre sportif du Blocry Place des Sports 1 Louvain-La-Neuve 1348 België;X-APPLE-RADIUS=500;X-TITLE=Place des Sports 1:geo:4.5990753,50.669781
END:VEVENT
BEGIN:VEVENT
DTSTART;TZID=Europe/Brussels:20250422T190000
DTEND;TZID=Europe/Brussels:20250422T200000
DTSTAMP:20260422T132009
CREATED:20240819T192216Z
LAST-MODIFIED:20240819T192217Z
UID:20001537-1745348400-1745352000@www.shinbugent.be
SUMMARY:Clubtraining jeugd
DESCRIPTION:
URL:https://www.shinbugent.be/event/clubtraining-jeugd-9/2025-04-22/
LOCATION:Universitair Sportcentrum (Gent)\, Watersportlaan 3\, Gent\, Oost-Vlaanderen\, 9000\, België
GEO:51.0475487;3.7026469
X-APPLE-STRUCTURED-LOCATION;VALUE=URI;X-ADDRESS=Universitair Sportcentrum (Gent) Watersportlaan 3 Gent Oost-Vlaanderen 9000 België;X-APPLE-RADIUS=500;X-TITLE=Watersportlaan 3:geo:3.7026469,51.0475487
END:VEVENT
BEGIN:VEVENT
DTSTART;TZID=Europe/Brussels:20250422T190000
DTEND;TZID=Europe/Brussels:20250422T203000
DTSTAMP:20260422T132009
CREATED:20240819T193324Z
LAST-MODIFIED:20240819T193325Z
UID:20001567-1745348400-1745353800@www.shinbugent.be
SUMMARY:Clubtraining (volwassenen)
DESCRIPTION:
URL:https://www.shinbugent.be/event/clubtraining-volwassenen-8/2025-04-22/
LOCATION:Universitair Sportcentrum (Gent)\, Watersportlaan 3\, Gent\, Oost-Vlaanderen\, 9000\, België
GEO:51.0475487;3.7026469
X-APPLE-STRUCTURED-LOCATION;VALUE=URI;X-ADDRESS=Universitair Sportcentrum (Gent) Watersportlaan 3 Gent Oost-Vlaanderen 9000 België;X-APPLE-RADIUS=500;X-TITLE=Watersportlaan 3:geo:3.7026469,51.0475487
END:VEVENT
BEGIN:VEVENT
DTSTART;TZID=Europe/Brussels:20250422T190000
DTEND;TZID=Europe/Brussels:20250422T203000
DTSTAMP:20260422T132009
CREATED:20250303T121640Z
LAST-MODIFIED:20250303T121642Z
UID:20001652-1745348400-1745353800@www.shinbugent.be
SUMMARY:Shinbu competitietraining
DESCRIPTION:springtouw en handschoenen mee te nemen naar de training
URL:https://www.shinbugent.be/event/shinbu-competitietraining-11/
LOCATION:Gents Universitair sportcentrum\, Watersportlaan 3\, Gent\, 9000\, België
END:VEVENT
BEGIN:VEVENT
DTSTART;TZID=Europe/Brussels:20250424T193000
DTEND;TZID=Europe/Brussels:20250424T210000
DTSTAMP:20260422T132009
CREATED:20240820T070033Z
LAST-MODIFIED:20240820T070035Z
UID:20001591-1745523000-1745528400@www.shinbugent.be
SUMMARY:Clubtraining (volwassenen)
DESCRIPTION:
URL:https://www.shinbugent.be/event/clubtraining-volwassenen-10/2025-04-24/
LOCATION:Universitair Sportcentrum (Gent)\, Watersportlaan 3\, Gent\, Oost-Vlaanderen\, 9000\, België
GEO:51.0475487;3.7026469
X-APPLE-STRUCTURED-LOCATION;VALUE=URI;X-ADDRESS=Universitair Sportcentrum (Gent) Watersportlaan 3 Gent Oost-Vlaanderen 9000 België;X-APPLE-RADIUS=500;X-TITLE=Watersportlaan 3:geo:3.7026469,51.0475487
END:VEVENT
BEGIN:VEVENT
DTSTART;TZID=Europe/Brussels:20250426T100000
DTEND;TZID=Europe/Brussels:20250426T113000
DTSTAMP:20260422T132009
CREATED:20240819T192748Z
LAST-MODIFIED:20240819T192749Z
UID:20001546-1745661600-1745667000@www.shinbugent.be
SUMMARY:Clubtraining (jeugd + volwassenen)
DESCRIPTION:+ na de training 30 minuten vrije training & voorbereiding jongeren deelnemend aan JOW
URL:https://www.shinbugent.be/event/clubtraining-jeugd-volwassenen-7/2025-04-26/
LOCATION:Universitair Sportcentrum (Gent)\, Watersportlaan 3\, Gent\, Oost-Vlaanderen\, 9000\, België
GEO:51.0475487;3.7026469
X-APPLE-STRUCTURED-LOCATION;VALUE=URI;X-ADDRESS=Universitair Sportcentrum (Gent) Watersportlaan 3 Gent Oost-Vlaanderen 9000 België;X-APPLE-RADIUS=500;X-TITLE=Watersportlaan 3:geo:3.7026469,51.0475487
END:VEVENT
BEGIN:VEVENT
DTSTART;TZID=Europe/Brussels:20250426T133000
DTEND;TZID=Europe/Brussels:20250426T163000
DTSTAMP:20260422T132009
CREATED:20250401T194020Z
LAST-MODIFIED:20250729T131920Z
UID:20001653-1745674200-1745685000@www.shinbugent.be
SUMMARY:Familiedag
DESCRIPTION:Shinbu organiseert op zaterdag 26 april een familiedag! 😊Van 13u30 tot 16u30 kan je samen met je karate-vriendjes\, je mama\, papa\, oma en opa\, broers & zussen\, springen op springkastelen die exclusief opgesteld zijn voor Shinbu Gent in de drie sportzalen van het GUSB!Geen paniek! Na de ochtendtraining kan je eerst nog wat op krachten komen want we bieden jullie gratis broodjes aan in de sportsbar in het GUSB.Wil je liever eerst naar huis om te eten en je wat op te frissen en daarna pas terugkeren om mee te doen aan de familiedag dan is dat zeker geen probleem.Om een beetje een idee te hebben wie aanwezig zal zijn op de familiedag en hoeveel broodjes er voorzien moeten worden\, vragen we om het inschrijvingsformulier dat je hieronder kan terugvinden in te vullen.Vergeet natuurlijk niet op de knop verzenden te klikken om je formulier in te sturen! 😉Heb je nog vragen dan kan je deze steeds richten naar het volgend mailadres: secretaris@shinbugent.beTot dan! \n\n\n\n\n\n\n\n \n\n\n\n\n	Bericht: JavaScript is vereist voor deze inhoud.
URL:https://www.shinbugent.be/event/familiedag/
ATTACH;FMTTYPE=image/webp:https://www.shinbugent.be/wp-content/uploads/2025/04/20250402-promo-Shinbu-familiedag-scaled.webp
END:VEVENT
BEGIN:VEVENT
DTSTART;TZID=Europe/Brussels:20250427T093000
DTEND;TZID=Europe/Brussels:20250427T170000
DTSTAMP:20260422T132009
CREATED:20240820T073223Z
LAST-MODIFIED:20240820T081031Z
UID:20001613-1745746200-1745773200@www.shinbugent.be
SUMMARY:JKA Belgium jongeren (n.a.v. selectie)
DESCRIPTION:Kampioenschap JKA Belgium voor jongeren (individueel: op selectie\, ploeg: vrije inschrijving)
URL:https://www.shinbugent.be/event/jka-belgium-jongerenn-a-v-selectie/
LOCATION:Complexe Gaston Reiff (Braine l’Alleud)\, Rue Ernest Laurent 210\, Braine l'Alleud\, 1420\, België
GEO:50.678249;4.3848448
X-APPLE-STRUCTURED-LOCATION;VALUE=URI;X-ADDRESS=Complexe Gaston Reiff (Braine l’Alleud) Rue Ernest Laurent 210 Braine l'Alleud 1420 België;X-APPLE-RADIUS=500;X-TITLE=Rue Ernest Laurent 210:geo:4.3848448,50.678249
END:VEVENT
BEGIN:VEVENT
DTSTART;TZID=Europe/Brussels:20250429T190000
DTEND;TZID=Europe/Brussels:20250429T200000
DTSTAMP:20260422T132009
CREATED:20240819T192216Z
LAST-MODIFIED:20240819T192217Z
UID:20001538-1745953200-1745956800@www.shinbugent.be
SUMMARY:Clubtraining jeugd
DESCRIPTION:
URL:https://www.shinbugent.be/event/clubtraining-jeugd-9/2025-04-29/
LOCATION:Universitair Sportcentrum (Gent)\, Watersportlaan 3\, Gent\, Oost-Vlaanderen\, 9000\, België
GEO:51.0475487;3.7026469
X-APPLE-STRUCTURED-LOCATION;VALUE=URI;X-ADDRESS=Universitair Sportcentrum (Gent) Watersportlaan 3 Gent Oost-Vlaanderen 9000 België;X-APPLE-RADIUS=500;X-TITLE=Watersportlaan 3:geo:3.7026469,51.0475487
END:VEVENT
BEGIN:VEVENT
DTSTART;TZID=Europe/Brussels:20250429T190000
DTEND;TZID=Europe/Brussels:20250429T203000
DTSTAMP:20260422T132009
CREATED:20240819T193324Z
LAST-MODIFIED:20240819T193325Z
UID:20001568-1745953200-1745958600@www.shinbugent.be
SUMMARY:Clubtraining (volwassenen)
DESCRIPTION:
URL:https://www.shinbugent.be/event/clubtraining-volwassenen-8/2025-04-29/
LOCATION:Universitair Sportcentrum (Gent)\, Watersportlaan 3\, Gent\, Oost-Vlaanderen\, 9000\, België
GEO:51.0475487;3.7026469
X-APPLE-STRUCTURED-LOCATION;VALUE=URI;X-ADDRESS=Universitair Sportcentrum (Gent) Watersportlaan 3 Gent Oost-Vlaanderen 9000 België;X-APPLE-RADIUS=500;X-TITLE=Watersportlaan 3:geo:3.7026469,51.0475487
END:VEVENT
BEGIN:VEVENT
DTSTART;TZID=Europe/Brussels:20250501T000000
DTEND;TZID=Europe/Brussels:20250501T235959
DTSTAMP:20260422T132009
CREATED:20240819T150304Z
LAST-MODIFIED:20240819T150305Z
UID:20001494-1746057600-1746143999@www.shinbugent.be
SUMMARY:GEEN clubtraining (volwassenen)
DESCRIPTION:Feest van de Arbeid -> GUSB gesloten
URL:https://www.shinbugent.be/event/geen-clubtraining-volwassenen/
END:VEVENT
BEGIN:VEVENT
DTSTART;TZID=Europe/Brussels:20250503T100000
DTEND;TZID=Europe/Brussels:20250503T113000
DTSTAMP:20260422T132009
CREATED:20240819T192748Z
LAST-MODIFIED:20240819T192749Z
UID:20001547-1746266400-1746271800@www.shinbugent.be
SUMMARY:Clubtraining (jeugd + volwassenen)
DESCRIPTION:+ na de training 30 minuten vrije training & voorbereiding jongeren deelnemend aan JOW
URL:https://www.shinbugent.be/event/clubtraining-jeugd-volwassenen-7/2025-05-03/
LOCATION:Universitair Sportcentrum (Gent)\, Watersportlaan 3\, Gent\, Oost-Vlaanderen\, 9000\, België
GEO:51.0475487;3.7026469
X-APPLE-STRUCTURED-LOCATION;VALUE=URI;X-ADDRESS=Universitair Sportcentrum (Gent) Watersportlaan 3 Gent Oost-Vlaanderen 9000 België;X-APPLE-RADIUS=500;X-TITLE=Watersportlaan 3:geo:3.7026469,51.0475487
END:VEVENT
END:VCALENDAR