BEGIN:VCALENDAR
VERSION:2.0
PRODID:-//Shinbu Gent - ECPv6.15.18//NONSGML v1.0//EN
CALSCALE:GREGORIAN
METHOD:PUBLISH
X-ORIGINAL-URL:https://www.shinbugent.be
X-WR-CALDESC:Evenementen voor Shinbu Gent
REFRESH-INTERVAL;VALUE=DURATION:PT1H
X-Robots-Tag:noindex
X-PUBLISHED-TTL:PT1H
BEGIN:VTIMEZONE
TZID:Europe/Brussels
BEGIN:DAYLIGHT
TZOFFSETFROM:+0100
TZOFFSETTO:+0200
TZNAME:CEST
DTSTART:20240331T010000
END:DAYLIGHT
BEGIN:STANDARD
TZOFFSETFROM:+0200
TZOFFSETTO:+0100
TZNAME:CET
DTSTART:20241027T010000
END:STANDARD
BEGIN:DAYLIGHT
TZOFFSETFROM:+0100
TZOFFSETTO:+0200
TZNAME:CEST
DTSTART:20250330T010000
END:DAYLIGHT
BEGIN:STANDARD
TZOFFSETFROM:+0200
TZOFFSETTO:+0100
TZNAME:CET
DTSTART:20251026T010000
END:STANDARD
BEGIN:DAYLIGHT
TZOFFSETFROM:+0100
TZOFFSETTO:+0200
TZNAME:CEST
DTSTART:20260329T010000
END:DAYLIGHT
BEGIN:STANDARD
TZOFFSETFROM:+0200
TZOFFSETTO:+0100
TZNAME:CET
DTSTART:20261025T010000
END:STANDARD
END:VTIMEZONE
BEGIN:VEVENT
DTSTART;TZID=Europe/Brussels:20250918T193000
DTEND;TZID=Europe/Brussels:20250918T210000
DTSTAMP:20260423T040600
CREATED:20250810T153524Z
LAST-MODIFIED:20250810T153559Z
UID:20001690-1758223800-1758229200@www.shinbugent.be
SUMMARY:clubtraining volwassenen
DESCRIPTION:
URL:https://www.shinbugent.be/event/clubtraining-volwassenen-23/2025-09-18/
LOCATION:Gents Universitair sportcentrum\, Watersportlaan 3\, Gent\, 9000\, België
END:VEVENT
BEGIN:VEVENT
DTSTART;TZID=Europe/Brussels:20250920T090000
DTEND;TZID=Europe/Brussels:20250920T103000
DTSTAMP:20260423T040600
CREATED:20250810T160327Z
LAST-MODIFIED:20250810T160330Z
UID:20001722-1758358800-1758364200@www.shinbugent.be
SUMMARY:clubtraining (jeugd + volwassenen)
DESCRIPTION:
URL:https://www.shinbugent.be/event/clubtraining-jeugd-volwassenen-11/2025-09-20/
LOCATION:Sporthal Arteveldehogeschool  – campus Watersportbaan\, Watersportlaan 4\, Gent\, Oost-Vlaanderen\, 9000\, Belgium
ATTACH;FMTTYPE=image/jpeg:https://www.shinbugent.be/wp-content/uploads/2025/08/foto-1-sporthal-artevelde.jpg
END:VEVENT
BEGIN:VEVENT
DTSTART;TZID=Europe/Brussels:20250921T103000
DTEND;TZID=Europe/Brussels:20250921T143000
DTSTAMP:20260423T040600
CREATED:20250810T151852Z
LAST-MODIFIED:20250810T151927Z
UID:20001669-1758450600-1758465000@www.shinbugent.be
SUMMARY:Trainingsdag te Ieper - The way of the warrior
DESCRIPTION:kumite trainingsdag deelnameprijs: -> volwassenen: €13/ training of €20 volledige dag-> jeugd (tot 12j): €10/ training of €15 volledige dag
URL:https://www.shinbugent.be/event/trainingsdag-te-ieper-the-way-of-the-warrior-2/
LOCATION:Sporthal 1 (Ieper)\,  Leopold III-laan\, Ieper\, 8900\, België
ATTACH;FMTTYPE=image/jpeg:https://www.shinbugent.be/wp-content/uploads/2025/08/flyer-1-stage-Ieper-2025.jpg
GEO:50.8466147;2.8935223
X-APPLE-STRUCTURED-LOCATION;VALUE=URI;X-ADDRESS=Sporthal 1 (Ieper)  Leopold III-laan Ieper 8900 België;X-APPLE-RADIUS=500;X-TITLE=Leopold III-laan:geo:2.8935223,50.8466147
END:VEVENT
BEGIN:VEVENT
DTSTART;TZID=Europe/Brussels:20250923T190000
DTEND;TZID=Europe/Brussels:20250923T200000
DTSTAMP:20260423T040600
CREATED:20250810T154006Z
LAST-MODIFIED:20250810T154040Z
UID:20001707-1758654000-1758657600@www.shinbugent.be
SUMMARY:clubtraining jeugd
DESCRIPTION:
URL:https://www.shinbugent.be/event/clubtraining-jeugd-10/2025-09-23/
LOCATION:Gents Universitair sportcentrum\, Watersportlaan 3\, Gent\, 9000\, België
END:VEVENT
BEGIN:VEVENT
DTSTART;TZID=Europe/Brussels:20250923T190000
DTEND;TZID=Europe/Brussels:20250923T203000
DTSTAMP:20260423T040600
CREATED:20250810T153046Z
LAST-MODIFIED:20250810T153121Z
UID:20001675-1758654000-1758659400@www.shinbugent.be
SUMMARY:clubtraining volwassenen
DESCRIPTION:
URL:https://www.shinbugent.be/event/clubtraining-volwassenen-22/2025-09-23/
LOCATION:Gents Universitair sportcentrum\, Watersportlaan 3\, Gent\, 9000\, België
END:VEVENT
BEGIN:VEVENT
DTSTART;TZID=Europe/Brussels:20250923T190000
DTEND;TZID=Europe/Brussels:20250923T203000
DTSTAMP:20260423T040600
CREATED:20250812T144255Z
LAST-MODIFIED:20250812T144312Z
UID:20001884-1758654000-1758659400@www.shinbugent.be
SUMMARY:Shinbu competitietraining
DESCRIPTION:kumitetraining i.f.v. wedstrijden -> springtouw en handschoenen steeds mee te nemen
URL:https://www.shinbugent.be/event/shinbu-competitietraining-13/2025-09-23/
LOCATION:Gents Universitair sportcentrum\, Watersportlaan 3\, Gent\, 9000\, België
END:VEVENT
BEGIN:VEVENT
DTSTART;TZID=Europe/Brussels:20250925T193000
DTEND;TZID=Europe/Brussels:20250925T210000
DTSTAMP:20260423T040600
CREATED:20250810T153524Z
LAST-MODIFIED:20250810T153559Z
UID:20001691-1758828600-1758834000@www.shinbugent.be
SUMMARY:clubtraining volwassenen
DESCRIPTION:
URL:https://www.shinbugent.be/event/clubtraining-volwassenen-23/2025-09-25/
LOCATION:Gents Universitair sportcentrum\, Watersportlaan 3\, Gent\, 9000\, België
END:VEVENT
BEGIN:VEVENT
DTSTART;TZID=Europe/Brussels:20250927T090000
DTEND;TZID=Europe/Brussels:20250927T103000
DTSTAMP:20260423T040600
CREATED:20250810T160327Z
LAST-MODIFIED:20250810T160330Z
UID:20001723-1758963600-1758969000@www.shinbugent.be
SUMMARY:clubtraining (jeugd + volwassenen)
DESCRIPTION:
URL:https://www.shinbugent.be/event/clubtraining-jeugd-volwassenen-11/2025-09-27/
LOCATION:Sporthal Arteveldehogeschool  – campus Watersportbaan\, Watersportlaan 4\, Gent\, Oost-Vlaanderen\, 9000\, Belgium
ATTACH;FMTTYPE=image/jpeg:https://www.shinbugent.be/wp-content/uploads/2025/08/foto-1-sporthal-artevelde.jpg
END:VEVENT
BEGIN:VEVENT
DTSTART;TZID=Europe/Brussels:20250928T100000
DTEND;TZID=Europe/Brussels:20250928T180000
DTSTAMP:20260423T040600
CREATED:20250810T152536Z
LAST-MODIFIED:20250810T152610Z
UID:20001670-1759053600-1759082400@www.shinbugent.be
SUMMARY:Tornooi van Eeklo
DESCRIPTION:Tornooi van Eeklo (IPPON wedstrijd) georganiseerd door karateclub Goshinkai Eeklo
URL:https://www.shinbugent.be/event/tornooi-van-eeklo-4/
LOCATION:Stedelijke Sporthal Eeklo\, Burg. Lionel Pussemierstraat 157\, Eeklo\, Oost-Vlaanderen\, 9900\, België
ATTACH;FMTTYPE=image/jpeg:https://www.shinbugent.be/wp-content/uploads/2025/08/flyer-tornooi-van-eeklo-2025.jpg
GEO:51.1824004;3.5777537
X-APPLE-STRUCTURED-LOCATION;VALUE=URI;X-ADDRESS=Stedelijke Sporthal Eeklo Burg. Lionel Pussemierstraat 157 Eeklo Oost-Vlaanderen 9900 België;X-APPLE-RADIUS=500;X-TITLE=Burg. Lionel Pussemierstraat 157:geo:3.5777537,51.1824004
END:VEVENT
BEGIN:VEVENT
DTSTART;TZID=Europe/Brussels:20250930T190000
DTEND;TZID=Europe/Brussels:20250930T200000
DTSTAMP:20260423T040600
CREATED:20250810T154006Z
LAST-MODIFIED:20250810T154040Z
UID:20001708-1759258800-1759262400@www.shinbugent.be
SUMMARY:clubtraining jeugd
DESCRIPTION:
URL:https://www.shinbugent.be/event/clubtraining-jeugd-10/2025-09-30/
LOCATION:Gents Universitair sportcentrum\, Watersportlaan 3\, Gent\, 9000\, België
END:VEVENT
BEGIN:VEVENT
DTSTART;TZID=Europe/Brussels:20250930T190000
DTEND;TZID=Europe/Brussels:20250930T203000
DTSTAMP:20260423T040600
CREATED:20250810T153046Z
LAST-MODIFIED:20250810T153121Z
UID:20001676-1759258800-1759264200@www.shinbugent.be
SUMMARY:clubtraining volwassenen
DESCRIPTION:
URL:https://www.shinbugent.be/event/clubtraining-volwassenen-22/2025-09-30/
LOCATION:Gents Universitair sportcentrum\, Watersportlaan 3\, Gent\, 9000\, België
END:VEVENT
BEGIN:VEVENT
DTSTART;TZID=Europe/Brussels:20250930T190000
DTEND;TZID=Europe/Brussels:20250930T203000
DTSTAMP:20260423T040600
CREATED:20250812T144255Z
LAST-MODIFIED:20250812T144312Z
UID:20001885-1759258800-1759264200@www.shinbugent.be
SUMMARY:Shinbu competitietraining
DESCRIPTION:kumitetraining i.f.v. wedstrijden -> springtouw en handschoenen steeds mee te nemen
URL:https://www.shinbugent.be/event/shinbu-competitietraining-13/2025-09-30/
LOCATION:Gents Universitair sportcentrum\, Watersportlaan 3\, Gent\, 9000\, België
END:VEVENT
BEGIN:VEVENT
DTSTART;TZID=Europe/Brussels:20251002T193000
DTEND;TZID=Europe/Brussels:20251002T210000
DTSTAMP:20260423T040600
CREATED:20250810T153524Z
LAST-MODIFIED:20250810T153559Z
UID:20001692-1759433400-1759438800@www.shinbugent.be
SUMMARY:clubtraining volwassenen
DESCRIPTION:
URL:https://www.shinbugent.be/event/clubtraining-volwassenen-23/2025-10-02/
LOCATION:Gents Universitair sportcentrum\, Watersportlaan 3\, Gent\, 9000\, België
END:VEVENT
BEGIN:VEVENT
DTSTART;TZID=Europe/Brussels:20251004T090000
DTEND;TZID=Europe/Brussels:20251004T103000
DTSTAMP:20260423T040600
CREATED:20250810T160327Z
LAST-MODIFIED:20250810T160330Z
UID:20001724-1759568400-1759573800@www.shinbugent.be
SUMMARY:clubtraining (jeugd + volwassenen)
DESCRIPTION:
URL:https://www.shinbugent.be/event/clubtraining-jeugd-volwassenen-11/2025-10-04/
LOCATION:Sporthal Arteveldehogeschool  – campus Watersportbaan\, Watersportlaan 4\, Gent\, Oost-Vlaanderen\, 9000\, Belgium
ATTACH;FMTTYPE=image/jpeg:https://www.shinbugent.be/wp-content/uploads/2025/08/foto-1-sporthal-artevelde.jpg
END:VEVENT
BEGIN:VEVENT
DTSTART;TZID=Europe/Brussels:20251004T140000
DTEND;TZID=Europe/Brussels:20251004T153000
DTSTAMP:20260423T040600
CREATED:20250810T144048Z
LAST-MODIFIED:20250810T144123Z
UID:20001657-1759586400-1759591800@www.shinbugent.be
SUMMARY:Nationale training
DESCRIPTION:Alle graden – minimum 13 jaar
URL:https://www.shinbugent.be/event/nationale-training-18/2025-10-04/
LOCATION:Complexe Gaston Reiff (Braine l’Alleud)\, Rue Ernest Laurent 210\, Braine l'Alleud\, 1420\, België
GEO:50.678249;4.3848448
X-APPLE-STRUCTURED-LOCATION;VALUE=URI;X-ADDRESS=Complexe Gaston Reiff (Braine l’Alleud) Rue Ernest Laurent 210 Braine l'Alleud 1420 België;X-APPLE-RADIUS=500;X-TITLE=Rue Ernest Laurent 210:geo:4.3848448,50.678249
END:VEVENT
BEGIN:VEVENT
DTSTART;TZID=Europe/Brussels:20251004T140000
DTEND;TZID=Europe/Brussels:20251004T153000
DTSTAMP:20260423T040600
CREATED:20250905T151637Z
LAST-MODIFIED:20250905T151638Z
UID:20001889-1759586400-1759591800@www.shinbugent.be
SUMMARY:Nationale training jongeren
DESCRIPTION:Alle graden van 7 tot en met 12 jaar
URL:https://www.shinbugent.be/event/nationale-training-jongeren-9/2025-10-04/
LOCATION:Complexe Gaston Reiff (Braine l’Alleud)\, Rue Ernest Laurent 210\, Braine l'Alleud\, 1420\, België
GEO:50.678249;4.3848448
X-APPLE-STRUCTURED-LOCATION;VALUE=URI;X-ADDRESS=Complexe Gaston Reiff (Braine l’Alleud) Rue Ernest Laurent 210 Braine l'Alleud 1420 België;X-APPLE-RADIUS=500;X-TITLE=Rue Ernest Laurent 210:geo:4.3848448,50.678249
END:VEVENT
BEGIN:VEVENT
DTSTART;TZID=Europe/Brussels:20251005T100000
DTEND;TZID=Europe/Brussels:20251005T170000
DTSTAMP:20260423T040600
CREATED:20250810T160829Z
LAST-MODIFIED:20250810T160831Z
UID:20001735-1759658400-1759683600@www.shinbugent.be
SUMMARY:JKA Vlaams kampioenschap (vanaf kadet)
DESCRIPTION:vrije inschrijving tot het kampioenschap
URL:https://www.shinbugent.be/event/jka-vlaams-kampioenschap-vanaf-kadet-3/
END:VEVENT
BEGIN:VEVENT
DTSTART;TZID=Europe/Brussels:20251007T190000
DTEND;TZID=Europe/Brussels:20251007T200000
DTSTAMP:20260423T040600
CREATED:20250810T154006Z
LAST-MODIFIED:20250810T154040Z
UID:20001709-1759863600-1759867200@www.shinbugent.be
SUMMARY:clubtraining jeugd
DESCRIPTION:
URL:https://www.shinbugent.be/event/clubtraining-jeugd-10/2025-10-07/
LOCATION:Gents Universitair sportcentrum\, Watersportlaan 3\, Gent\, 9000\, België
END:VEVENT
BEGIN:VEVENT
DTSTART;TZID=Europe/Brussels:20251007T190000
DTEND;TZID=Europe/Brussels:20251007T203000
DTSTAMP:20260423T040600
CREATED:20250810T153046Z
LAST-MODIFIED:20250810T153121Z
UID:20001677-1759863600-1759869000@www.shinbugent.be
SUMMARY:clubtraining volwassenen
DESCRIPTION:
URL:https://www.shinbugent.be/event/clubtraining-volwassenen-22/2025-10-07/
LOCATION:Gents Universitair sportcentrum\, Watersportlaan 3\, Gent\, 9000\, België
END:VEVENT
BEGIN:VEVENT
DTSTART;TZID=Europe/Brussels:20251009T193000
DTEND;TZID=Europe/Brussels:20251009T210000
DTSTAMP:20260423T040600
CREATED:20250810T153524Z
LAST-MODIFIED:20250810T153559Z
UID:20001693-1760038200-1760043600@www.shinbugent.be
SUMMARY:clubtraining volwassenen
DESCRIPTION:
URL:https://www.shinbugent.be/event/clubtraining-volwassenen-23/2025-10-09/
LOCATION:Gents Universitair sportcentrum\, Watersportlaan 3\, Gent\, 9000\, België
END:VEVENT
BEGIN:VEVENT
DTSTART;TZID=Europe/Brussels:20251009T193000
DTEND;TZID=Europe/Brussels:20251009T210000
DTSTAMP:20260423T040600
CREATED:20250812T144255Z
LAST-MODIFIED:20250812T144312Z
UID:20001886-1760038200-1760043600@www.shinbugent.be
SUMMARY:Shinbu competitietraining
DESCRIPTION:kumitetraining i.f.v. wedstrijden -> springtouw en handschoenen steeds mee te nemen
URL:https://www.shinbugent.be/event/shinbu-competitietraining-13/2025-10-09/
LOCATION:Gents Universitair sportcentrum\, Watersportlaan 3\, Gent\, 9000\, België
END:VEVENT
BEGIN:VEVENT
DTSTART;TZID=Europe/Brussels:20251011T090000
DTEND;TZID=Europe/Brussels:20251011T103000
DTSTAMP:20260423T040600
CREATED:20250810T160327Z
LAST-MODIFIED:20250810T160330Z
UID:20001725-1760173200-1760178600@www.shinbugent.be
SUMMARY:clubtraining (jeugd + volwassenen)
DESCRIPTION:
URL:https://www.shinbugent.be/event/clubtraining-jeugd-volwassenen-11/2025-10-11/
LOCATION:Sporthal Arteveldehogeschool  – campus Watersportbaan\, Watersportlaan 4\, Gent\, Oost-Vlaanderen\, 9000\, Belgium
ATTACH;FMTTYPE=image/jpeg:https://www.shinbugent.be/wp-content/uploads/2025/08/foto-1-sporthal-artevelde.jpg
END:VEVENT
BEGIN:VEVENT
DTSTART;TZID=Europe/Brussels:20251011T133000
DTEND;TZID=Europe/Brussels:20251011T173000
DTSTAMP:20260423T040600
CREATED:20250810T171117Z
LAST-MODIFIED:20250810T171118Z
UID:20001742-1760189400-1760203800@www.shinbugent.be
SUMMARY:JOW 1 - Lede
DESCRIPTION:jeugdoefenwedstrijd 1 – verplichte aanwezigheid vanaf 13u in het kader van de opwarming & voorbereiding deelnemende jongeren
URL:https://www.shinbugent.be/event/jow-1-lede-4/
LOCATION:Sportcomplex De Ommegang (Lede)\, Ommeganglaan 60 A\, Lede\, Oost-Vlaanderen\, 9340\, België
GEO:50.9591145;3.9780411
X-APPLE-STRUCTURED-LOCATION;VALUE=URI;X-ADDRESS=Sportcomplex De Ommegang (Lede) Ommeganglaan 60 A Lede Oost-Vlaanderen 9340 België;X-APPLE-RADIUS=500;X-TITLE=Ommeganglaan 60 A:geo:3.9780411,50.9591145
END:VEVENT
BEGIN:VEVENT
DTSTART;TZID=Europe/Brussels:20251014T190000
DTEND;TZID=Europe/Brussels:20251014T200000
DTSTAMP:20260423T040600
CREATED:20251013T171657Z
LAST-MODIFIED:20251013T171659Z
UID:20001710-1760468400-1760472000@www.shinbugent.be
SUMMARY:GEEN clubtraining jeugd -> GUSB is gesloten wegens vakbondactie
DESCRIPTION:
URL:https://www.shinbugent.be/event/geen-clubtraining-jeugd-gusb-is-gesloten-wegens-vakbondactie/
LOCATION:Gents Universitair sportcentrum\, Watersportlaan 3\, Gent\, 9000\, België
END:VEVENT
BEGIN:VEVENT
DTSTART;TZID=Europe/Brussels:20251014T190000
DTEND;TZID=Europe/Brussels:20251014T203000
DTSTAMP:20260423T040600
CREATED:20251013T171505Z
LAST-MODIFIED:20251013T171507Z
UID:20001678-1760468400-1760473800@www.shinbugent.be
SUMMARY:GEEN clubtraining volwassenen -> GUSB is gesloten wegens vakbondsactie
DESCRIPTION:
URL:https://www.shinbugent.be/event/geen-clubtraining-volwassenen-gusb-is-gesloten-wegens-vakbondsactie/
LOCATION:Gents Universitair sportcentrum\, Watersportlaan 3\, Gent\, 9000\, België
END:VEVENT
BEGIN:VEVENT
DTSTART;TZID=Europe/Brussels:20251016T193000
DTEND;TZID=Europe/Brussels:20251016T210000
DTSTAMP:20260423T040600
CREATED:20250810T145434Z
LAST-MODIFIED:20250810T145508Z
UID:20001665-1760643000-1760648400@www.shinbugent.be
SUMMARY:Ippon competitietraining O-Vl
DESCRIPTION:
URL:https://www.shinbugent.be/event/ippon-competitietraining-o-vl-3/2025-10-16/
LOCATION:Gents Universitair sportcentrum\, Watersportlaan 3\, Gent\, 9000\, België
END:VEVENT
BEGIN:VEVENT
DTSTART;TZID=Europe/Brussels:20251016T193000
DTEND;TZID=Europe/Brussels:20251016T210000
DTSTAMP:20260423T040600
CREATED:20250810T145820Z
LAST-MODIFIED:20250810T170447Z
UID:20001667-1760643000-1760648400@www.shinbugent.be
SUMMARY:Provinciale training O-Vl
DESCRIPTION:o.l.v. een JKA-gastlesgever\n\n\n\nopen voor alle karateka’s met een geldige vergunning bij Karate Vlaanderen
URL:https://www.shinbugent.be/event/provinciale-training-o-vl-4/2025-10-16/
LOCATION:Gents Universitair sportcentrum\, Watersportlaan 3\, Gent\, 9000\, België
END:VEVENT
BEGIN:VEVENT
DTSTART;TZID=Europe/Brussels:20251016T193000
DTEND;TZID=Europe/Brussels:20251016T210000
DTSTAMP:20260423T040600
CREATED:20250810T153524Z
LAST-MODIFIED:20250810T153559Z
UID:20001694-1760643000-1760648400@www.shinbugent.be
SUMMARY:clubtraining volwassenen
DESCRIPTION:
URL:https://www.shinbugent.be/event/clubtraining-volwassenen-23/2025-10-16/
LOCATION:Gents Universitair sportcentrum\, Watersportlaan 3\, Gent\, 9000\, België
END:VEVENT
BEGIN:VEVENT
DTSTART;TZID=Europe/Brussels:20251018T090000
DTEND;TZID=Europe/Brussels:20251018T103000
DTSTAMP:20260423T040600
CREATED:20250814T054556Z
LAST-MODIFIED:20250814T054722Z
UID:20001726-1760778000-1760783400@www.shinbugent.be
SUMMARY:GEEN clubtraining (jeugd + volwassenen)
DESCRIPTION:geen training wegens onbeschikbaarheid sportzaal tijdens het weekend
URL:https://www.shinbugent.be/event/clubtraining-jeugd-volwassenen-14/
LOCATION:Sporthal Arteveldehogeschool  – campus Watersportbaan\, Watersportlaan 4\, Gent\, Oost-Vlaanderen\, 9000\, Belgium
ATTACH;FMTTYPE=image/jpeg:https://www.shinbugent.be/wp-content/uploads/2025/08/foto-1-sporthal-artevelde.jpg
END:VEVENT
BEGIN:VEVENT
DTSTART;TZID=Europe/Brussels:20251018T100000
DTEND;TZID=Europe/Brussels:20251018T160000
DTSTAMP:20260423T040600
CREATED:20250810T170908Z
LAST-MODIFIED:20250810T170910Z
UID:20001741-1760781600-1760803200@www.shinbugent.be
SUMMARY:Trainingsdag Aalter
DESCRIPTION:
URL:https://www.shinbugent.be/event/trainingsdag-aalter-3/
LOCATION:sportcentrum “De Mandelmeersen”\, Ernest Brengierstraat 8\, Oostrozebeke\, West-Vlaanderen\, 8780\, Belgium
END:VEVENT
END:VCALENDAR