BEGIN:VCALENDAR
VERSION:2.0
PRODID:-//Shinbu Gent - ECPv6.15.18//NONSGML v1.0//EN
CALSCALE:GREGORIAN
METHOD:PUBLISH
X-WR-CALNAME:Shinbu Gent
X-ORIGINAL-URL:https://www.shinbugent.be
X-WR-CALDESC:Evenementen voor Shinbu Gent
REFRESH-INTERVAL;VALUE=DURATION:PT1H
X-Robots-Tag:noindex
X-PUBLISHED-TTL:PT1H
BEGIN:VTIMEZONE
TZID:Europe/Brussels
BEGIN:DAYLIGHT
TZOFFSETFROM:+0100
TZOFFSETTO:+0200
TZNAME:CEST
DTSTART:20240331T010000
END:DAYLIGHT
BEGIN:STANDARD
TZOFFSETFROM:+0200
TZOFFSETTO:+0100
TZNAME:CET
DTSTART:20241027T010000
END:STANDARD
BEGIN:DAYLIGHT
TZOFFSETFROM:+0100
TZOFFSETTO:+0200
TZNAME:CEST
DTSTART:20250330T010000
END:DAYLIGHT
BEGIN:STANDARD
TZOFFSETFROM:+0200
TZOFFSETTO:+0100
TZNAME:CET
DTSTART:20251026T010000
END:STANDARD
BEGIN:DAYLIGHT
TZOFFSETFROM:+0100
TZOFFSETTO:+0200
TZNAME:CEST
DTSTART:20260329T010000
END:DAYLIGHT
BEGIN:STANDARD
TZOFFSETFROM:+0200
TZOFFSETTO:+0100
TZNAME:CET
DTSTART:20261025T010000
END:STANDARD
BEGIN:DAYLIGHT
TZOFFSETFROM:+0100
TZOFFSETTO:+0200
TZNAME:CEST
DTSTART:20270328T010000
END:DAYLIGHT
BEGIN:STANDARD
TZOFFSETFROM:+0200
TZOFFSETTO:+0100
TZNAME:CET
DTSTART:20271031T010000
END:STANDARD
END:VTIMEZONE
BEGIN:VEVENT
DTSTART;TZID=Europe/Brussels:20251216T190000
DTEND;TZID=Europe/Brussels:20251216T200000
DTSTAMP:20260423T064623
CREATED:20250810T154006Z
LAST-MODIFIED:20250810T154040Z
UID:20001718-1765911600-1765915200@www.shinbugent.be
SUMMARY:clubtraining jeugd
DESCRIPTION:
URL:https://www.shinbugent.be/event/clubtraining-jeugd-10/2025-12-16/
LOCATION:Gents Universitair sportcentrum\, Watersportlaan 3\, Gent\, 9000\, België
END:VEVENT
BEGIN:VEVENT
DTSTART;TZID=Europe/Brussels:20251216T190000
DTEND;TZID=Europe/Brussels:20251216T203000
DTSTAMP:20260423T064623
CREATED:20250810T153046Z
LAST-MODIFIED:20250810T153121Z
UID:20001686-1765911600-1765917000@www.shinbugent.be
SUMMARY:clubtraining volwassenen
DESCRIPTION:
URL:https://www.shinbugent.be/event/clubtraining-volwassenen-22/2025-12-16/
LOCATION:Gents Universitair sportcentrum\, Watersportlaan 3\, Gent\, 9000\, België
END:VEVENT
BEGIN:VEVENT
DTSTART;TZID=Europe/Brussels:20251218T193000
DTEND;TZID=Europe/Brussels:20251218T210000
DTSTAMP:20260423T064623
CREATED:20250810T145820Z
LAST-MODIFIED:20250810T170447Z
UID:20001740-1766086200-1766091600@www.shinbugent.be
SUMMARY:Provinciale training O-Vl
DESCRIPTION:o.l.v. een JKA-gastlesgever\n\n\n\nopen voor alle karateka’s met een geldige vergunning bij Karate Vlaanderen
URL:https://www.shinbugent.be/event/provinciale-training-o-vl-4/2025-12-18/
LOCATION:Gents Universitair sportcentrum\, Watersportlaan 3\, Gent\, 9000\, België
END:VEVENT
BEGIN:VEVENT
DTSTART;TZID=Europe/Brussels:20251218T193000
DTEND;TZID=Europe/Brussels:20251218T210000
DTSTAMP:20260423T064623
CREATED:20250810T153524Z
LAST-MODIFIED:20250810T153559Z
UID:20001703-1766086200-1766091600@www.shinbugent.be
SUMMARY:clubtraining volwassenen
DESCRIPTION:
URL:https://www.shinbugent.be/event/clubtraining-volwassenen-23/2025-12-18/
LOCATION:Gents Universitair sportcentrum\, Watersportlaan 3\, Gent\, 9000\, België
END:VEVENT
BEGIN:VEVENT
DTSTART;TZID=Europe/Brussels:20251220T080000
DTEND;TZID=Europe/Brussels:20260104T233000
DTSTAMP:20260423T064623
CREATED:20250810T172229Z
LAST-MODIFIED:20250810T172232Z
UID:20001746-1766217600-1767569400@www.shinbugent.be
SUMMARY:kerstvakantie
DESCRIPTION:
URL:https://www.shinbugent.be/event/kerstvakantie-2/
LOCATION:Oost-Vlaanderen
END:VEVENT
BEGIN:VEVENT
DTSTART;TZID=Europe/Brussels:20251220T090000
DTEND;TZID=Europe/Brussels:20251220T103000
DTSTAMP:20260423T064623
CREATED:20250812T132136Z
LAST-MODIFIED:20250812T132334Z
UID:20001872-1766221200-1766226600@www.shinbugent.be
SUMMARY:GEEN clubtraining (jeugd + volwassenen)
DESCRIPTION:
URL:https://www.shinbugent.be/event/geen-clubtraining-jeugd-volwassenen/2025-12-20/
LOCATION:Sporthal Arteveldehogeschool  – campus Watersportbaan\, Watersportlaan 4\, Gent\, Oost-Vlaanderen\, 9000\, Belgium
END:VEVENT
BEGIN:VEVENT
DTSTART;TZID=Europe/Brussels:20251220T100000
DTEND;TZID=Europe/Brussels:20251220T160000
DTSTAMP:20260423T064623
CREATED:20250810T170310Z
LAST-MODIFIED:20250810T170312Z
UID:20001739-1766224800-1766246400@www.shinbugent.be
SUMMARY:Tasseikan trainingsdag 'Back to basics'
DESCRIPTION:
URL:https://www.shinbugent.be/event/tasseikan-trainingsdag-back-to-basics-4/
LOCATION:sportcentrum O.C.P.\, Polderbos 20\, De Pinte\, Oost-Vlaanderen\, 9840\, Belgium
END:VEVENT
BEGIN:VEVENT
DTSTART;TZID=Europe/Brussels:20251223T190000
DTEND;TZID=Europe/Brussels:20251223T203000
DTSTAMP:20260423T064623
CREATED:20250812T132512Z
LAST-MODIFIED:20250812T132518Z
UID:20001875-1766516400-1766521800@www.shinbugent.be
SUMMARY:GEEN clubtraining (jeugd + volwassenen)
DESCRIPTION:
URL:https://www.shinbugent.be/event/geen-clubtraining-jeugd-volwassenen-2/2025-12-23/
LOCATION:Gents Universitair sportcentrum\, Watersportlaan 3\, Gent\, 9000\, België
END:VEVENT
BEGIN:VEVENT
DTSTART;TZID=Europe/Brussels:20251225T193000
DTEND;TZID=Europe/Brussels:20251225T210000
DTSTAMP:20260423T064623
CREATED:20250812T133024Z
LAST-MODIFIED:20250812T133027Z
UID:20001877-1766691000-1766696400@www.shinbugent.be
SUMMARY:GEEN clubtraining
DESCRIPTION:
URL:https://www.shinbugent.be/event/geen-clubtraining-6/2025-12-25/
LOCATION:Gents Universitair sportcentrum\, Watersportlaan 3\, Gent\, 9000\, België
END:VEVENT
BEGIN:VEVENT
DTSTART;TZID=Europe/Brussels:20251227T090000
DTEND;TZID=Europe/Brussels:20251227T103000
DTSTAMP:20260423T064623
CREATED:20250812T132136Z
LAST-MODIFIED:20250812T132334Z
UID:20001873-1766826000-1766831400@www.shinbugent.be
SUMMARY:GEEN clubtraining (jeugd + volwassenen)
DESCRIPTION:
URL:https://www.shinbugent.be/event/geen-clubtraining-jeugd-volwassenen/2025-12-27/
LOCATION:Sporthal Arteveldehogeschool  – campus Watersportbaan\, Watersportlaan 4\, Gent\, Oost-Vlaanderen\, 9000\, Belgium
END:VEVENT
BEGIN:VEVENT
DTSTART;TZID=Europe/Brussels:20251230T190000
DTEND;TZID=Europe/Brussels:20251230T203000
DTSTAMP:20260423T064623
CREATED:20250812T132512Z
LAST-MODIFIED:20250812T132518Z
UID:20001876-1767121200-1767126600@www.shinbugent.be
SUMMARY:GEEN clubtraining (jeugd + volwassenen)
DESCRIPTION:
URL:https://www.shinbugent.be/event/geen-clubtraining-jeugd-volwassenen-2/2025-12-30/
LOCATION:Gents Universitair sportcentrum\, Watersportlaan 3\, Gent\, 9000\, België
END:VEVENT
BEGIN:VEVENT
DTSTART;TZID=Europe/Brussels:20260101T193000
DTEND;TZID=Europe/Brussels:20260101T210000
DTSTAMP:20260423T064623
CREATED:20250812T133024Z
LAST-MODIFIED:20250812T133027Z
UID:20001878-1767295800-1767301200@www.shinbugent.be
SUMMARY:GEEN clubtraining
DESCRIPTION:
URL:https://www.shinbugent.be/event/geen-clubtraining-6/2026-01-01/
LOCATION:Gents Universitair sportcentrum\, Watersportlaan 3\, Gent\, 9000\, België
END:VEVENT
BEGIN:VEVENT
DTSTART;TZID=Europe/Brussels:20260103T090000
DTEND;TZID=Europe/Brussels:20260103T103000
DTSTAMP:20260423T064623
CREATED:20250812T132136Z
LAST-MODIFIED:20250812T132334Z
UID:20001874-1767430800-1767436200@www.shinbugent.be
SUMMARY:GEEN clubtraining (jeugd + volwassenen)
DESCRIPTION:
URL:https://www.shinbugent.be/event/geen-clubtraining-jeugd-volwassenen/2026-01-03/
LOCATION:Sporthal Arteveldehogeschool  – campus Watersportbaan\, Watersportlaan 4\, Gent\, Oost-Vlaanderen\, 9000\, Belgium
END:VEVENT
BEGIN:VEVENT
DTSTART;TZID=Europe/Brussels:20260103T140000
DTEND;TZID=Europe/Brussels:20260103T153000
DTSTAMP:20260423T064623
CREATED:20250810T182638Z
LAST-MODIFIED:20250810T182640Z
UID:20001748-1767448800-1767454200@www.shinbugent.be
SUMMARY:Nationale training
DESCRIPTION:Alle graden – minimum 13 jaar
URL:https://www.shinbugent.be/event/nationale-training-19/2026-01-03/
LOCATION:Complexe Gaston Reiff (Braine l’Alleud)\, Rue Ernest Laurent 210\, Braine l'Alleud\, 1420\, België
GEO:50.678249;4.3848448
X-APPLE-STRUCTURED-LOCATION;VALUE=URI;X-ADDRESS=Complexe Gaston Reiff (Braine l’Alleud) Rue Ernest Laurent 210 Braine l'Alleud 1420 België;X-APPLE-RADIUS=500;X-TITLE=Rue Ernest Laurent 210:geo:4.3848448,50.678249
END:VEVENT
BEGIN:VEVENT
DTSTART;TZID=Europe/Brussels:20260103T140000
DTEND;TZID=Europe/Brussels:20260103T153000
DTSTAMP:20260423T064623
CREATED:20250810T183125Z
LAST-MODIFIED:20250810T183127Z
UID:20001753-1767448800-1767454200@www.shinbugent.be
SUMMARY:Nationale training jongeren
DESCRIPTION:Alle graden – 7 tot en met 12 jaar
URL:https://www.shinbugent.be/event/nationale-training-jongeren-8/2026-01-03/
LOCATION:Complexe Gaston Reiff (Braine l’Alleud)\, Rue Ernest Laurent 210\, Braine l'Alleud\, 1420\, België
GEO:50.678249;4.3848448
X-APPLE-STRUCTURED-LOCATION;VALUE=URI;X-ADDRESS=Complexe Gaston Reiff (Braine l’Alleud) Rue Ernest Laurent 210 Braine l'Alleud 1420 België;X-APPLE-RADIUS=500;X-TITLE=Rue Ernest Laurent 210:geo:4.3848448,50.678249
END:VEVENT
BEGIN:VEVENT
DTSTART;TZID=Europe/Brussels:20260106T190000
DTEND;TZID=Europe/Brussels:20260106T203000
DTSTAMP:20260423T064623
CREATED:20250810T190848Z
LAST-MODIFIED:20250810T190850Z
UID:20001776-1767726000-1767731400@www.shinbugent.be
SUMMARY:clubtraining volwassenen
DESCRIPTION:
URL:https://www.shinbugent.be/event/clubtraining-volwassenen-24/2026-01-06/
LOCATION:Gents Universitair sportcentrum\, Watersportlaan 3\, Gent\, 9000\, België
END:VEVENT
BEGIN:VEVENT
DTSTART;TZID=Europe/Brussels:20260108T193000
DTEND;TZID=Europe/Brussels:20260108T210000
DTSTAMP:20260423T064623
CREATED:20250810T191041Z
LAST-MODIFIED:20250810T191043Z
UID:20001801-1767900600-1767906000@www.shinbugent.be
SUMMARY:clubtraining volwassenen
DESCRIPTION:
URL:https://www.shinbugent.be/event/clubtraining-volwassenen-25/2026-01-08/
LOCATION:Gents Universitair sportcentrum\, Watersportlaan 3\, Gent\, 9000\, België
END:VEVENT
BEGIN:VEVENT
DTSTART;TZID=Europe/Brussels:20260110T090000
DTEND;TZID=Europe/Brussels:20260110T103000
DTSTAMP:20260423T064623
CREATED:20250810T191739Z
LAST-MODIFIED:20250810T191741Z
UID:20001850-1768035600-1768041000@www.shinbugent.be
SUMMARY:clubtraining (jeugd + volwassenen)
DESCRIPTION:
URL:https://www.shinbugent.be/event/clubtraining-jeugd-volwassenen-12/2026-01-10/
LOCATION:Sporthal Arteveldehogeschool  – campus Watersportbaan\, Watersportlaan 4\, Gent\, Oost-Vlaanderen\, 9000\, Belgium
ATTACH;FMTTYPE=image/jpeg:https://www.shinbugent.be/wp-content/uploads/2025/08/foto-1-sporthal-artevelde.jpg
END:VEVENT
BEGIN:VEVENT
DTSTART;TZID=Europe/Brussels:20260110T110000
DTEND;TZID=Europe/Brussels:20260110T140000
DTSTAMP:20260423T064623
CREATED:20260105T173806Z
LAST-MODIFIED:20260105T173807Z
UID:20001898-1768042800-1768053600@www.shinbugent.be
SUMMARY:Nieuwjaarsreceptie Shinbu Gent
DESCRIPTION:samen klinken we op het nieuwe jaar in de sportsbar (GUSB) na de training
URL:https://www.shinbugent.be/event/nieuwjaarsreceptie-shinbu-gent/
LOCATION:Universitair Sportcentrum (Gent)\, Watersportlaan 3\, Gent\, Oost-Vlaanderen\, 9000\, België
ATTACH;FMTTYPE=image/jpeg:https://www.shinbugent.be/wp-content/uploads/2026/01/2026-nieuwjaarsreceptie-Shinbu_2.jpg
GEO:51.0475487;3.7026469
X-APPLE-STRUCTURED-LOCATION;VALUE=URI;X-ADDRESS=Universitair Sportcentrum (Gent) Watersportlaan 3 Gent Oost-Vlaanderen 9000 België;X-APPLE-RADIUS=500;X-TITLE=Watersportlaan 3:geo:3.7026469,51.0475487
END:VEVENT
BEGIN:VEVENT
DTSTART;TZID=Europe/Brussels:20260110T133000
DTEND;TZID=Europe/Brussels:20260110T173000
DTSTAMP:20260423T064623
CREATED:20250810T182237Z
LAST-MODIFIED:20250810T182239Z
UID:20001747-1768051800-1768066200@www.shinbugent.be
SUMMARY:JOW 5 - Deinze
DESCRIPTION:jeugdoefenwedstrijd 5 : verplichte aanwezigheid om 13u in het kader van de opwarming & wedstrijdvoorbereiding van de deelnemende jongeren
URL:https://www.shinbugent.be/event/jow-5-deinze-2/
LOCATION:Sporthal Palaestra\, Kastanjelaan 35\, Deinze\, 9800\, België
END:VEVENT
BEGIN:VEVENT
DTSTART;TZID=Europe/Brussels:20260113T190000
DTEND;TZID=Europe/Brussels:20260113T203000
DTSTAMP:20260423T064623
CREATED:20250810T183800Z
LAST-MODIFIED:20260105T173527Z
UID:20001760-1768330800-1768336200@www.shinbugent.be
SUMMARY:PIT 1 O-Vl
DESCRIPTION:Provinciale instructietraining o.l.v. S. Gneo sensei -> voorbehouden aan JKA-(hulp)lesgevers\, JKA-clubexaminatoren en JKA-scheidsrechters
URL:https://www.shinbugent.be/event/pit-1-o-vl/
LOCATION:Gents Universitair sportcentrum\, Watersportlaan 3\, Gent\, 9000\, België
END:VEVENT
BEGIN:VEVENT
DTSTART;TZID=Europe/Brussels:20260113T190000
DTEND;TZID=Europe/Brussels:20260113T203000
DTSTAMP:20260423T064623
CREATED:20250810T190848Z
LAST-MODIFIED:20250810T190850Z
UID:20001777-1768330800-1768336200@www.shinbugent.be
SUMMARY:clubtraining volwassenen
DESCRIPTION:
URL:https://www.shinbugent.be/event/clubtraining-volwassenen-24/2026-01-13/
LOCATION:Gents Universitair sportcentrum\, Watersportlaan 3\, Gent\, 9000\, België
END:VEVENT
BEGIN:VEVENT
DTSTART;TZID=Europe/Brussels:20260115T193000
DTEND;TZID=Europe/Brussels:20260115T210000
DTSTAMP:20260423T064623
CREATED:20250810T191041Z
LAST-MODIFIED:20250810T191043Z
UID:20001802-1768505400-1768510800@www.shinbugent.be
SUMMARY:clubtraining volwassenen
DESCRIPTION:
URL:https://www.shinbugent.be/event/clubtraining-volwassenen-25/2026-01-15/
LOCATION:Gents Universitair sportcentrum\, Watersportlaan 3\, Gent\, 9000\, België
END:VEVENT
BEGIN:VEVENT
DTSTART;TZID=Europe/Brussels:20260115T193000
DTEND;TZID=Europe/Brussels:20260115T210000
DTSTAMP:20260423T064623
CREATED:20260105T174313Z
LAST-MODIFIED:20260105T174314Z
UID:20001899-1768505400-1768510800@www.shinbugent.be
SUMMARY:Shinbu competitietraining
DESCRIPTION:kumitetraining i.f.v. wedstrijden -> springtouw en handschoenen steeds mee te nemen
URL:https://www.shinbugent.be/event/shinbu-competitietraining-15/2026-01-15/
LOCATION:Universitair Sportcentrum (Gent)\, Watersportlaan 3\, Gent\, Oost-Vlaanderen\, 9000\, België
GEO:51.0475487;3.7026469
X-APPLE-STRUCTURED-LOCATION;VALUE=URI;X-ADDRESS=Universitair Sportcentrum (Gent) Watersportlaan 3 Gent Oost-Vlaanderen 9000 België;X-APPLE-RADIUS=500;X-TITLE=Watersportlaan 3:geo:3.7026469,51.0475487
END:VEVENT
BEGIN:VEVENT
DTSTART;TZID=Europe/Brussels:20260117T090000
DTEND;TZID=Europe/Brussels:20260117T103000
DTSTAMP:20260423T064623
CREATED:20250810T191739Z
LAST-MODIFIED:20250810T191741Z
UID:20001851-1768640400-1768645800@www.shinbugent.be
SUMMARY:clubtraining (jeugd + volwassenen)
DESCRIPTION:
URL:https://www.shinbugent.be/event/clubtraining-jeugd-volwassenen-12/2026-01-17/
LOCATION:Sporthal Arteveldehogeschool  – campus Watersportbaan\, Watersportlaan 4\, Gent\, Oost-Vlaanderen\, 9000\, Belgium
ATTACH;FMTTYPE=image/jpeg:https://www.shinbugent.be/wp-content/uploads/2025/08/foto-1-sporthal-artevelde.jpg
END:VEVENT
BEGIN:VEVENT
DTSTART;TZID=Europe/Brussels:20260120T190000
DTEND;TZID=Europe/Brussels:20260120T203000
DTSTAMP:20260423T064623
CREATED:20250810T190848Z
LAST-MODIFIED:20250810T190850Z
UID:20001778-1768935600-1768941000@www.shinbugent.be
SUMMARY:clubtraining volwassenen
DESCRIPTION:
URL:https://www.shinbugent.be/event/clubtraining-volwassenen-24/2026-01-20/
LOCATION:Gents Universitair sportcentrum\, Watersportlaan 3\, Gent\, 9000\, België
END:VEVENT
BEGIN:VEVENT
DTSTART;TZID=Europe/Brussels:20260120T190000
DTEND;TZID=Europe/Brussels:20260120T203000
DTSTAMP:20260423T064623
CREATED:20260105T174313Z
LAST-MODIFIED:20260105T174314Z
UID:20001900-1768935600-1768941000@www.shinbugent.be
SUMMARY:Shinbu competitietraining
DESCRIPTION:kumitetraining i.f.v. wedstrijden -> springtouw en handschoenen steeds mee te nemen
URL:https://www.shinbugent.be/event/shinbu-competitietraining-15/2026-01-20/
LOCATION:Universitair Sportcentrum (Gent)\, Watersportlaan 3\, Gent\, Oost-Vlaanderen\, 9000\, België
GEO:51.0475487;3.7026469
X-APPLE-STRUCTURED-LOCATION;VALUE=URI;X-ADDRESS=Universitair Sportcentrum (Gent) Watersportlaan 3 Gent Oost-Vlaanderen 9000 België;X-APPLE-RADIUS=500;X-TITLE=Watersportlaan 3:geo:3.7026469,51.0475487
END:VEVENT
BEGIN:VEVENT
DTSTART;TZID=Europe/Brussels:20260122T193000
DTEND;TZID=Europe/Brussels:20260122T210000
DTSTAMP:20260423T064623
CREATED:20250810T191041Z
LAST-MODIFIED:20250810T191043Z
UID:20001803-1769110200-1769115600@www.shinbugent.be
SUMMARY:clubtraining volwassenen
DESCRIPTION:
URL:https://www.shinbugent.be/event/clubtraining-volwassenen-25/2026-01-22/
LOCATION:Gents Universitair sportcentrum\, Watersportlaan 3\, Gent\, 9000\, België
END:VEVENT
BEGIN:VEVENT
DTSTART;TZID=Europe/Brussels:20260124T090000
DTEND;TZID=Europe/Brussels:20260124T103000
DTSTAMP:20260423T064623
CREATED:20250810T191739Z
LAST-MODIFIED:20250810T191741Z
UID:20001852-1769245200-1769250600@www.shinbugent.be
SUMMARY:clubtraining (jeugd + volwassenen)
DESCRIPTION:
URL:https://www.shinbugent.be/event/clubtraining-jeugd-volwassenen-12/2026-01-24/
LOCATION:Sporthal Arteveldehogeschool  – campus Watersportbaan\, Watersportlaan 4\, Gent\, Oost-Vlaanderen\, 9000\, Belgium
ATTACH;FMTTYPE=image/jpeg:https://www.shinbugent.be/wp-content/uploads/2025/08/foto-1-sporthal-artevelde.jpg
END:VEVENT
BEGIN:VEVENT
DTSTART;TZID=Europe/Brussels:20260125T100000
DTEND;TZID=Europe/Brussels:20260125T170000
DTSTAMP:20260423T064623
CREATED:20250810T183441Z
LAST-MODIFIED:20250810T183443Z
UID:20001758-1769335200-1769360400@www.shinbugent.be
SUMMARY:The Brussels Golden Belt
DESCRIPTION:wedstrijd open voor alle clubs van JKA Vlaanderen en JKA Francophone: kata en kumite voor alle categorieën + jongens en meisjes gescheiden voor alle categorieën
URL:https://www.shinbugent.be/event/the-brussels-golden-belt/
LOCATION:Sporthal Erasmus VUB – Gebouw O\, Lenniksebaan 808\, Anderlecht\, 1070
END:VEVENT
END:VCALENDAR