BEGIN:VCALENDAR
VERSION:2.0
PRODID:-//Shinbu Gent - ECPv6.15.18//NONSGML v1.0//EN
CALSCALE:GREGORIAN
METHOD:PUBLISH
X-ORIGINAL-URL:https://www.shinbugent.be
X-WR-CALDESC:Evenementen voor Shinbu Gent
REFRESH-INTERVAL;VALUE=DURATION:PT1H
X-Robots-Tag:noindex
X-PUBLISHED-TTL:PT1H
BEGIN:VTIMEZONE
TZID:Europe/Brussels
BEGIN:DAYLIGHT
TZOFFSETFROM:+0100
TZOFFSETTO:+0200
TZNAME:CEST
DTSTART:20250330T010000
END:DAYLIGHT
BEGIN:STANDARD
TZOFFSETFROM:+0200
TZOFFSETTO:+0100
TZNAME:CET
DTSTART:20251026T010000
END:STANDARD
BEGIN:DAYLIGHT
TZOFFSETFROM:+0100
TZOFFSETTO:+0200
TZNAME:CEST
DTSTART:20260329T010000
END:DAYLIGHT
BEGIN:STANDARD
TZOFFSETFROM:+0200
TZOFFSETTO:+0100
TZNAME:CET
DTSTART:20261025T010000
END:STANDARD
BEGIN:DAYLIGHT
TZOFFSETFROM:+0100
TZOFFSETTO:+0200
TZNAME:CEST
DTSTART:20270328T010000
END:DAYLIGHT
BEGIN:STANDARD
TZOFFSETFROM:+0200
TZOFFSETTO:+0100
TZNAME:CET
DTSTART:20271031T010000
END:STANDARD
END:VTIMEZONE
BEGIN:VEVENT
DTSTART;TZID=Europe/Brussels:20260205T193000
DTEND;TZID=Europe/Brussels:20260205T210000
DTSTAMP:20260423T114123
CREATED:20260105T174457Z
LAST-MODIFIED:20260105T174458Z
UID:20001805-1770319800-1770325200@www.shinbugent.be
SUMMARY:clubtraining volwassenen - Defence
DESCRIPTION:
URL:https://www.shinbugent.be/event/clubtraining-volwassenen-defence/
LOCATION:Gents Universitair sportcentrum\, Watersportlaan 3\, Gent\, 9000\, België
END:VEVENT
BEGIN:VEVENT
DTSTART;TZID=Europe/Brussels:20260207T090000
DTEND;TZID=Europe/Brussels:20260207T103000
DTSTAMP:20260423T114123
CREATED:20250810T191739Z
LAST-MODIFIED:20250810T191741Z
UID:20001854-1770454800-1770460200@www.shinbugent.be
SUMMARY:clubtraining (jeugd + volwassenen)
DESCRIPTION:
URL:https://www.shinbugent.be/event/clubtraining-jeugd-volwassenen-12/2026-02-07/
LOCATION:Sporthal Arteveldehogeschool  – campus Watersportbaan\, Watersportlaan 4\, Gent\, Oost-Vlaanderen\, 9000\, Belgium
ATTACH;FMTTYPE=image/jpeg:https://www.shinbugent.be/wp-content/uploads/2025/08/foto-1-sporthal-artevelde.jpg
END:VEVENT
BEGIN:VEVENT
DTSTART;TZID=Europe/Brussels:20260207T140000
DTEND;TZID=Europe/Brussels:20260207T153000
DTSTAMP:20260423T114123
CREATED:20250810T182638Z
LAST-MODIFIED:20250810T182640Z
UID:20001749-1770472800-1770478200@www.shinbugent.be
SUMMARY:Nationale training
DESCRIPTION:Alle graden – minimum 13 jaar
URL:https://www.shinbugent.be/event/nationale-training-19/2026-02-07/
LOCATION:Complexe Gaston Reiff (Braine l’Alleud)\, Rue Ernest Laurent 210\, Braine l'Alleud\, 1420\, België
GEO:50.678249;4.3848448
X-APPLE-STRUCTURED-LOCATION;VALUE=URI;X-ADDRESS=Complexe Gaston Reiff (Braine l’Alleud) Rue Ernest Laurent 210 Braine l'Alleud 1420 België;X-APPLE-RADIUS=500;X-TITLE=Rue Ernest Laurent 210:geo:4.3848448,50.678249
END:VEVENT
BEGIN:VEVENT
DTSTART;TZID=Europe/Brussels:20260207T140000
DTEND;TZID=Europe/Brussels:20260207T153000
DTSTAMP:20260423T114123
CREATED:20250810T183125Z
LAST-MODIFIED:20250810T183127Z
UID:20001754-1770472800-1770478200@www.shinbugent.be
SUMMARY:Nationale training jongeren
DESCRIPTION:Alle graden – 7 tot en met 12 jaar
URL:https://www.shinbugent.be/event/nationale-training-jongeren-8/2026-02-07/
LOCATION:Complexe Gaston Reiff (Braine l’Alleud)\, Rue Ernest Laurent 210\, Braine l'Alleud\, 1420\, België
GEO:50.678249;4.3848448
X-APPLE-STRUCTURED-LOCATION;VALUE=URI;X-ADDRESS=Complexe Gaston Reiff (Braine l’Alleud) Rue Ernest Laurent 210 Braine l'Alleud 1420 België;X-APPLE-RADIUS=500;X-TITLE=Rue Ernest Laurent 210:geo:4.3848448,50.678249
END:VEVENT
BEGIN:VEVENT
DTSTART;TZID=Europe/Brussels:20260210T190000
DTEND;TZID=Europe/Brussels:20260210T203000
DTSTAMP:20260423T114123
CREATED:20250810T190848Z
LAST-MODIFIED:20250810T190850Z
UID:20001781-1770750000-1770755400@www.shinbugent.be
SUMMARY:clubtraining volwassenen
DESCRIPTION:
URL:https://www.shinbugent.be/event/clubtraining-volwassenen-24/2026-02-10/
LOCATION:Gents Universitair sportcentrum\, Watersportlaan 3\, Gent\, 9000\, België
END:VEVENT
BEGIN:VEVENT
DTSTART;TZID=Europe/Brussels:20260210T190000
DTEND;TZID=Europe/Brussels:20260210T203000
DTSTAMP:20260423T114123
CREATED:20260105T174313Z
LAST-MODIFIED:20260105T174314Z
UID:20001902-1770750000-1770755400@www.shinbugent.be
SUMMARY:Shinbu competitietraining
DESCRIPTION:kumitetraining i.f.v. wedstrijden -> springtouw en handschoenen steeds mee te nemen
URL:https://www.shinbugent.be/event/shinbu-competitietraining-15/2026-02-10/
LOCATION:Universitair Sportcentrum (Gent)\, Watersportlaan 3\, Gent\, Oost-Vlaanderen\, 9000\, België
GEO:51.0475487;3.7026469
X-APPLE-STRUCTURED-LOCATION;VALUE=URI;X-ADDRESS=Universitair Sportcentrum (Gent) Watersportlaan 3 Gent Oost-Vlaanderen 9000 België;X-APPLE-RADIUS=500;X-TITLE=Watersportlaan 3:geo:3.7026469,51.0475487
END:VEVENT
BEGIN:VEVENT
DTSTART;TZID=Europe/Brussels:20260212T193000
DTEND;TZID=Europe/Brussels:20260212T210000
DTSTAMP:20260423T114123
CREATED:20250810T191041Z
LAST-MODIFIED:20250810T191043Z
UID:20001806-1770924600-1770930000@www.shinbugent.be
SUMMARY:clubtraining volwassenen
DESCRIPTION:
URL:https://www.shinbugent.be/event/clubtraining-volwassenen-25/2026-02-12/
LOCATION:Gents Universitair sportcentrum\, Watersportlaan 3\, Gent\, 9000\, België
END:VEVENT
BEGIN:VEVENT
DTSTART;TZID=Europe/Brussels:20260214T090000
DTEND;TZID=Europe/Brussels:20260214T103000
DTSTAMP:20260423T114123
CREATED:20250810T191739Z
LAST-MODIFIED:20250810T191741Z
UID:20001855-1771059600-1771065000@www.shinbugent.be
SUMMARY:clubtraining (jeugd + volwassenen)
DESCRIPTION:
URL:https://www.shinbugent.be/event/clubtraining-jeugd-volwassenen-12/2026-02-14/
LOCATION:Sporthal Arteveldehogeschool  – campus Watersportbaan\, Watersportlaan 4\, Gent\, Oost-Vlaanderen\, 9000\, Belgium
ATTACH;FMTTYPE=image/jpeg:https://www.shinbugent.be/wp-content/uploads/2025/08/foto-1-sporthal-artevelde.jpg
END:VEVENT
BEGIN:VEVENT
DTSTART;TZID=Europe/Brussels:20260217T190000
DTEND;TZID=Europe/Brussels:20260217T203000
DTSTAMP:20260423T114123
CREATED:20260105T174836Z
LAST-MODIFIED:20260105T174837Z
UID:20001782-1771354800-1771360200@www.shinbugent.be
SUMMARY:Gastlesgever -> clubtraining volwassenen
DESCRIPTION:
URL:https://www.shinbugent.be/event/gastlesgever-clubtraining-volwassenen-2/
LOCATION:Gents Universitair sportcentrum\, Watersportlaan 3\, Gent\, 9000\, België
END:VEVENT
BEGIN:VEVENT
DTSTART;TZID=Europe/Brussels:20260219T193000
DTEND;TZID=Europe/Brussels:20260219T210000
DTSTAMP:20260423T114123
CREATED:20250810T184442Z
LAST-MODIFIED:20250810T184443Z
UID:20001762-1771529400-1771534800@www.shinbugent.be
SUMMARY:Provinciale training O-Vl
DESCRIPTION:o.l.v. een JKA-gastlesgever + open voor alle karateka’s met een geldige vergunning bij Karate Vlaanderen
URL:https://www.shinbugent.be/event/provinciale-training-o-vl-5/2026-02-19/
LOCATION:Gents Universitair sportcentrum\, Watersportlaan 3\, Gent\, 9000\, België
END:VEVENT
BEGIN:VEVENT
DTSTART;TZID=Europe/Brussels:20260219T193000
DTEND;TZID=Europe/Brussels:20260219T210000
DTSTAMP:20260423T114123
CREATED:20250810T191041Z
LAST-MODIFIED:20250810T191043Z
UID:20001807-1771529400-1771534800@www.shinbugent.be
SUMMARY:clubtraining volwassenen
DESCRIPTION:
URL:https://www.shinbugent.be/event/clubtraining-volwassenen-25/2026-02-19/
LOCATION:Gents Universitair sportcentrum\, Watersportlaan 3\, Gent\, 9000\, België
END:VEVENT
BEGIN:VEVENT
DTSTART;TZID=Europe/Brussels:20260219T193000
DTEND;TZID=Europe/Brussels:20260219T210000
DTSTAMP:20260423T114123
CREATED:20260105T175959Z
LAST-MODIFIED:20260105T180036Z
UID:20001904-1771529400-1771534800@www.shinbugent.be
SUMMARY:Ippon competitietraining O-Vl
DESCRIPTION:
URL:https://www.shinbugent.be/event/ippon-competitietraining-o-vl-4/2026-02-19/
LOCATION:Universitair Sportcentrum (Gent)\, Watersportlaan 3\, Gent\, Oost-Vlaanderen\, 9000\, België
GEO:51.0475487;3.7026469
X-APPLE-STRUCTURED-LOCATION;VALUE=URI;X-ADDRESS=Universitair Sportcentrum (Gent) Watersportlaan 3 Gent Oost-Vlaanderen 9000 België;X-APPLE-RADIUS=500;X-TITLE=Watersportlaan 3:geo:3.7026469,51.0475487
END:VEVENT
BEGIN:VEVENT
DTSTART;TZID=Europe/Brussels:20260221T090000
DTEND;TZID=Europe/Brussels:20260221T103000
DTSTAMP:20260423T114123
CREATED:20250810T191739Z
LAST-MODIFIED:20250810T191741Z
UID:20001856-1771664400-1771669800@www.shinbugent.be
SUMMARY:clubtraining (jeugd + volwassenen)
DESCRIPTION:
URL:https://www.shinbugent.be/event/clubtraining-jeugd-volwassenen-12/2026-02-21/
LOCATION:Sporthal Arteveldehogeschool  – campus Watersportbaan\, Watersportlaan 4\, Gent\, Oost-Vlaanderen\, 9000\, Belgium
ATTACH;FMTTYPE=image/jpeg:https://www.shinbugent.be/wp-content/uploads/2025/08/foto-1-sporthal-artevelde.jpg
END:VEVENT
BEGIN:VEVENT
DTSTART;TZID=Europe/Brussels:20260221T140000
DTEND;TZID=Europe/Brussels:20260221T173000
DTSTAMP:20260423T114123
CREATED:20251122T140303Z
LAST-MODIFIED:20251122T140305Z
UID:20001897-1771682400-1771695000@www.shinbugent.be
SUMMARY:JOW 7 Nevele + receptie
DESCRIPTION:jeugdoefenwedsttrijd te Nevele met daarna aansluitend een receptie
URL:https://www.shinbugent.be/event/jow-7-nevele-receptie/
LOCATION:Sporthal Oostbroek (Nevele)\, Zeistraat 41\, Nevele\, Oost-Vlaanderen\, 9850\, België
GEO:51.0332204;3.5553656
X-APPLE-STRUCTURED-LOCATION;VALUE=URI;X-ADDRESS=Sporthal Oostbroek (Nevele) Zeistraat 41 Nevele Oost-Vlaanderen 9850 België;X-APPLE-RADIUS=500;X-TITLE=Zeistraat 41:geo:3.5553656,51.0332204
END:VEVENT
BEGIN:VEVENT
DTSTART;TZID=Europe/Brussels:20260224T190000
DTEND;TZID=Europe/Brussels:20260224T203000
DTSTAMP:20260423T114123
CREATED:20250810T190848Z
LAST-MODIFIED:20250810T190850Z
UID:20001783-1771959600-1771965000@www.shinbugent.be
SUMMARY:clubtraining volwassenen
DESCRIPTION:
URL:https://www.shinbugent.be/event/clubtraining-volwassenen-24/2026-02-24/
LOCATION:Gents Universitair sportcentrum\, Watersportlaan 3\, Gent\, 9000\, België
END:VEVENT
BEGIN:VEVENT
DTSTART;TZID=Europe/Brussels:20260224T190000
DTEND;TZID=Europe/Brussels:20260224T203000
DTSTAMP:20260423T114123
CREATED:20260105T174313Z
LAST-MODIFIED:20260105T174314Z
UID:20001903-1771959600-1771965000@www.shinbugent.be
SUMMARY:Shinbu competitietraining
DESCRIPTION:kumitetraining i.f.v. wedstrijden -> springtouw en handschoenen steeds mee te nemen
URL:https://www.shinbugent.be/event/shinbu-competitietraining-15/2026-02-24/
LOCATION:Universitair Sportcentrum (Gent)\, Watersportlaan 3\, Gent\, Oost-Vlaanderen\, 9000\, België
GEO:51.0475487;3.7026469
X-APPLE-STRUCTURED-LOCATION;VALUE=URI;X-ADDRESS=Universitair Sportcentrum (Gent) Watersportlaan 3 Gent Oost-Vlaanderen 9000 België;X-APPLE-RADIUS=500;X-TITLE=Watersportlaan 3:geo:3.7026469,51.0475487
END:VEVENT
BEGIN:VEVENT
DTSTART;TZID=Europe/Brussels:20260226T193000
DTEND;TZID=Europe/Brussels:20260226T210000
DTSTAMP:20260423T114123
CREATED:20250810T191041Z
LAST-MODIFIED:20250810T191043Z
UID:20001808-1772134200-1772139600@www.shinbugent.be
SUMMARY:clubtraining volwassenen
DESCRIPTION:
URL:https://www.shinbugent.be/event/clubtraining-volwassenen-25/2026-02-26/
LOCATION:Gents Universitair sportcentrum\, Watersportlaan 3\, Gent\, 9000\, België
END:VEVENT
BEGIN:VEVENT
DTSTART;TZID=Europe/Brussels:20260228T090000
DTEND;TZID=Europe/Brussels:20260228T103000
DTSTAMP:20260423T114123
CREATED:20250810T191739Z
LAST-MODIFIED:20250810T191741Z
UID:20001857-1772269200-1772274600@www.shinbugent.be
SUMMARY:clubtraining (jeugd + volwassenen)
DESCRIPTION:
URL:https://www.shinbugent.be/event/clubtraining-jeugd-volwassenen-12/2026-02-28/
LOCATION:Sporthal Arteveldehogeschool  – campus Watersportbaan\, Watersportlaan 4\, Gent\, Oost-Vlaanderen\, 9000\, Belgium
ATTACH;FMTTYPE=image/jpeg:https://www.shinbugent.be/wp-content/uploads/2025/08/foto-1-sporthal-artevelde.jpg
END:VEVENT
BEGIN:VEVENT
DTSTART;TZID=Europe/Brussels:20260301T100000
DTEND;TZID=Europe/Brussels:20260301T170000
DTSTAMP:20260423T114123
CREATED:20250810T184650Z
LAST-MODIFIED:20260105T180538Z
UID:20001766-1772359200-1772384400@www.shinbugent.be
SUMMARY:JKA Oost-Vlaams kampioenschap
DESCRIPTION:Oost-Vlaams kampioenschap voor alle leeftijdscategorieën-> wedstrijden vanaf pupil starten stipt om 10u-> wedstrijden vanaf kadet starten uiterlijk om 12u30Iedere kamper dient steeds minstens 30 minuten voor de aanvang van de wedstrijden aanwezig te zijn in de opwarmingsruimtes
URL:https://www.shinbugent.be/event/jka-oost-vlaams-kampioenschap/
LOCATION:Sporthal Scaldis\, Sportdreef 1B\, Gavere\, 9890\, België
END:VEVENT
BEGIN:VEVENT
DTSTART;TZID=Europe/Brussels:20260303T190000
DTEND;TZID=Europe/Brussels:20260303T203000
DTSTAMP:20260423T114123
CREATED:20250810T190848Z
LAST-MODIFIED:20250810T190850Z
UID:20001784-1772564400-1772569800@www.shinbugent.be
SUMMARY:clubtraining volwassenen
DESCRIPTION:
URL:https://www.shinbugent.be/event/clubtraining-volwassenen-24/2026-03-03/
LOCATION:Gents Universitair sportcentrum\, Watersportlaan 3\, Gent\, 9000\, België
END:VEVENT
BEGIN:VEVENT
DTSTART;TZID=Europe/Brussels:20260303T190000
DTEND;TZID=Europe/Brussels:20260303T203000
DTSTAMP:20260423T114123
CREATED:20260222T131748Z
LAST-MODIFIED:20260222T131750Z
UID:20001910-1772564400-1772569800@www.shinbugent.be
SUMMARY:Shinbu competitietraining
DESCRIPTION:kumitetraining i.f.v. wedstrijden -> springtouw en handschoenen steeds mee te nemen
URL:https://www.shinbugent.be/event/shinbu-competitietraining-16/2026-03-03/
LOCATION:Gents Universitair sportcentrum\, Watersportlaan 3\, Gent\, 9000\, België
ATTACH;FMTTYPE=image/jpeg:https://www.shinbugent.be/wp-content/uploads/2025/09/IMG_20250914_115251.jpg
END:VEVENT
BEGIN:VEVENT
DTSTART;TZID=Europe/Brussels:20260305T193000
DTEND;TZID=Europe/Brussels:20260305T210000
DTSTAMP:20260423T114123
CREATED:20250810T191041Z
LAST-MODIFIED:20250810T191043Z
UID:20001809-1772739000-1772744400@www.shinbugent.be
SUMMARY:clubtraining volwassenen
DESCRIPTION:
URL:https://www.shinbugent.be/event/clubtraining-volwassenen-25/2026-03-05/
LOCATION:Gents Universitair sportcentrum\, Watersportlaan 3\, Gent\, 9000\, België
END:VEVENT
BEGIN:VEVENT
DTSTART;TZID=Europe/Brussels:20260307T090000
DTEND;TZID=Europe/Brussels:20260307T103000
DTSTAMP:20260423T114123
CREATED:20250810T191739Z
LAST-MODIFIED:20250810T191741Z
UID:20001858-1772874000-1772879400@www.shinbugent.be
SUMMARY:clubtraining (jeugd + volwassenen)
DESCRIPTION:
URL:https://www.shinbugent.be/event/clubtraining-jeugd-volwassenen-12/2026-03-07/
LOCATION:Sporthal Arteveldehogeschool  – campus Watersportbaan\, Watersportlaan 4\, Gent\, Oost-Vlaanderen\, 9000\, Belgium
ATTACH;FMTTYPE=image/jpeg:https://www.shinbugent.be/wp-content/uploads/2025/08/foto-1-sporthal-artevelde.jpg
END:VEVENT
BEGIN:VEVENT
DTSTART;TZID=Europe/Brussels:20260307T140000
DTEND;TZID=Europe/Brussels:20260307T153000
DTSTAMP:20260423T114123
CREATED:20250810T182638Z
LAST-MODIFIED:20250810T182640Z
UID:20001750-1772892000-1772897400@www.shinbugent.be
SUMMARY:Nationale training
DESCRIPTION:Alle graden – minimum 13 jaar
URL:https://www.shinbugent.be/event/nationale-training-19/2026-03-07/
LOCATION:Complexe Gaston Reiff (Braine l’Alleud)\, Rue Ernest Laurent 210\, Braine l'Alleud\, 1420\, België
GEO:50.678249;4.3848448
X-APPLE-STRUCTURED-LOCATION;VALUE=URI;X-ADDRESS=Complexe Gaston Reiff (Braine l’Alleud) Rue Ernest Laurent 210 Braine l'Alleud 1420 België;X-APPLE-RADIUS=500;X-TITLE=Rue Ernest Laurent 210:geo:4.3848448,50.678249
END:VEVENT
BEGIN:VEVENT
DTSTART;TZID=Europe/Brussels:20260307T140000
DTEND;TZID=Europe/Brussels:20260307T153000
DTSTAMP:20260423T114123
CREATED:20250810T183125Z
LAST-MODIFIED:20250810T183127Z
UID:20001755-1772892000-1772897400@www.shinbugent.be
SUMMARY:Nationale training jongeren
DESCRIPTION:Alle graden – 7 tot en met 12 jaar
URL:https://www.shinbugent.be/event/nationale-training-jongeren-8/2026-03-07/
LOCATION:Complexe Gaston Reiff (Braine l’Alleud)\, Rue Ernest Laurent 210\, Braine l'Alleud\, 1420\, België
GEO:50.678249;4.3848448
X-APPLE-STRUCTURED-LOCATION;VALUE=URI;X-ADDRESS=Complexe Gaston Reiff (Braine l’Alleud) Rue Ernest Laurent 210 Braine l'Alleud 1420 België;X-APPLE-RADIUS=500;X-TITLE=Rue Ernest Laurent 210:geo:4.3848448,50.678249
END:VEVENT
BEGIN:VEVENT
DTSTART;TZID=Europe/Brussels:20260310T190000
DTEND;TZID=Europe/Brussels:20260310T203000
DTSTAMP:20260423T114123
CREATED:20250810T190848Z
LAST-MODIFIED:20250810T190850Z
UID:20001785-1773169200-1773174600@www.shinbugent.be
SUMMARY:clubtraining volwassenen
DESCRIPTION:
URL:https://www.shinbugent.be/event/clubtraining-volwassenen-24/2026-03-10/
LOCATION:Gents Universitair sportcentrum\, Watersportlaan 3\, Gent\, 9000\, België
END:VEVENT
BEGIN:VEVENT
DTSTART;TZID=Europe/Brussels:20260310T190000
DTEND;TZID=Europe/Brussels:20260310T203000
DTSTAMP:20260423T114123
CREATED:20260222T131748Z
LAST-MODIFIED:20260222T131750Z
UID:20001911-1773169200-1773174600@www.shinbugent.be
SUMMARY:Shinbu competitietraining
DESCRIPTION:kumitetraining i.f.v. wedstrijden -> springtouw en handschoenen steeds mee te nemen
URL:https://www.shinbugent.be/event/shinbu-competitietraining-16/2026-03-10/
LOCATION:Gents Universitair sportcentrum\, Watersportlaan 3\, Gent\, 9000\, België
ATTACH;FMTTYPE=image/jpeg:https://www.shinbugent.be/wp-content/uploads/2025/09/IMG_20250914_115251.jpg
END:VEVENT
BEGIN:VEVENT
DTSTART;TZID=Europe/Brussels:20260312T193000
DTEND;TZID=Europe/Brussels:20260312T210000
DTSTAMP:20260423T114123
CREATED:20250810T191041Z
LAST-MODIFIED:20250810T191043Z
UID:20001810-1773343800-1773349200@www.shinbugent.be
SUMMARY:clubtraining volwassenen
DESCRIPTION:
URL:https://www.shinbugent.be/event/clubtraining-volwassenen-25/2026-03-12/
LOCATION:Gents Universitair sportcentrum\, Watersportlaan 3\, Gent\, 9000\, België
END:VEVENT
BEGIN:VEVENT
DTSTART;TZID=Europe/Brussels:20260314T090000
DTEND;TZID=Europe/Brussels:20260314T103000
DTSTAMP:20260423T114123
CREATED:20250810T191739Z
LAST-MODIFIED:20250810T191741Z
UID:20001859-1773478800-1773484200@www.shinbugent.be
SUMMARY:clubtraining (jeugd + volwassenen)
DESCRIPTION:
URL:https://www.shinbugent.be/event/clubtraining-jeugd-volwassenen-12/2026-03-14/
LOCATION:Sporthal Arteveldehogeschool  – campus Watersportbaan\, Watersportlaan 4\, Gent\, Oost-Vlaanderen\, 9000\, Belgium
ATTACH;FMTTYPE=image/jpeg:https://www.shinbugent.be/wp-content/uploads/2025/08/foto-1-sporthal-artevelde.jpg
END:VEVENT
BEGIN:VEVENT
DTSTART;TZID=Europe/Brussels:20260314T100000
DTEND;TZID=Europe/Brussels:20260314T170000
DTSTAMP:20260423T114123
CREATED:20250810T184934Z
LAST-MODIFIED:20250810T184936Z
UID:20001768-1773482400-1773507600@www.shinbugent.be
SUMMARY:Trainingsdag Zottegem
DESCRIPTION:
URL:https://www.shinbugent.be/event/trainingsdag-zottegem-3/
LOCATION:Stedelijke Sporthal “Bevegemse Vijvers” (Zottegem)\, Bevegemsevijvers 1\, Zottegem\, 9620\, België
GEO:50.8683915;3.8284737
X-APPLE-STRUCTURED-LOCATION;VALUE=URI;X-ADDRESS=Stedelijke Sporthal “Bevegemse Vijvers” (Zottegem) Bevegemsevijvers 1 Zottegem 9620 België;X-APPLE-RADIUS=500;X-TITLE=Bevegemsevijvers 1:geo:3.8284737,50.8683915
END:VEVENT
END:VCALENDAR