BEGIN:VCALENDAR
VERSION:2.0
PRODID:-//Shinbu Gent - ECPv6.15.18//NONSGML v1.0//EN
CALSCALE:GREGORIAN
METHOD:PUBLISH
X-WR-CALNAME:Shinbu Gent
X-ORIGINAL-URL:https://www.shinbugent.be
X-WR-CALDESC:Evenementen voor Shinbu Gent
REFRESH-INTERVAL;VALUE=DURATION:PT1H
X-Robots-Tag:noindex
X-PUBLISHED-TTL:PT1H
BEGIN:VTIMEZONE
TZID:Europe/Brussels
BEGIN:DAYLIGHT
TZOFFSETFROM:+0100
TZOFFSETTO:+0200
TZNAME:CEST
DTSTART:20250330T010000
END:DAYLIGHT
BEGIN:STANDARD
TZOFFSETFROM:+0200
TZOFFSETTO:+0100
TZNAME:CET
DTSTART:20251026T010000
END:STANDARD
BEGIN:DAYLIGHT
TZOFFSETFROM:+0100
TZOFFSETTO:+0200
TZNAME:CEST
DTSTART:20260329T010000
END:DAYLIGHT
BEGIN:STANDARD
TZOFFSETFROM:+0200
TZOFFSETTO:+0100
TZNAME:CET
DTSTART:20261025T010000
END:STANDARD
BEGIN:DAYLIGHT
TZOFFSETFROM:+0100
TZOFFSETTO:+0200
TZNAME:CEST
DTSTART:20270328T010000
END:DAYLIGHT
BEGIN:STANDARD
TZOFFSETFROM:+0200
TZOFFSETTO:+0100
TZNAME:CET
DTSTART:20271031T010000
END:STANDARD
END:VTIMEZONE
BEGIN:VEVENT
DTSTART;TZID=Europe/Brussels:20260307T140000
DTEND;TZID=Europe/Brussels:20260307T153000
DTSTAMP:20260423T150101
CREATED:20250810T183125Z
LAST-MODIFIED:20250810T183127Z
UID:20001755-1772892000-1772897400@www.shinbugent.be
SUMMARY:Nationale training jongeren
DESCRIPTION:Alle graden – 7 tot en met 12 jaar
URL:https://www.shinbugent.be/event/nationale-training-jongeren-8/2026-03-07/
LOCATION:Complexe Gaston Reiff (Braine l’Alleud)\, Rue Ernest Laurent 210\, Braine l'Alleud\, 1420\, België
GEO:50.678249;4.3848448
X-APPLE-STRUCTURED-LOCATION;VALUE=URI;X-ADDRESS=Complexe Gaston Reiff (Braine l’Alleud) Rue Ernest Laurent 210 Braine l'Alleud 1420 België;X-APPLE-RADIUS=500;X-TITLE=Rue Ernest Laurent 210:geo:4.3848448,50.678249
END:VEVENT
BEGIN:VEVENT
DTSTART;TZID=Europe/Brussels:20260310T190000
DTEND;TZID=Europe/Brussels:20260310T203000
DTSTAMP:20260423T150101
CREATED:20250810T190848Z
LAST-MODIFIED:20250810T190850Z
UID:20001785-1773169200-1773174600@www.shinbugent.be
SUMMARY:clubtraining volwassenen
DESCRIPTION:
URL:https://www.shinbugent.be/event/clubtraining-volwassenen-24/2026-03-10/
LOCATION:Gents Universitair sportcentrum\, Watersportlaan 3\, Gent\, 9000\, België
END:VEVENT
BEGIN:VEVENT
DTSTART;TZID=Europe/Brussels:20260310T190000
DTEND;TZID=Europe/Brussels:20260310T203000
DTSTAMP:20260423T150101
CREATED:20260222T131748Z
LAST-MODIFIED:20260222T131750Z
UID:20001911-1773169200-1773174600@www.shinbugent.be
SUMMARY:Shinbu competitietraining
DESCRIPTION:kumitetraining i.f.v. wedstrijden -> springtouw en handschoenen steeds mee te nemen
URL:https://www.shinbugent.be/event/shinbu-competitietraining-16/2026-03-10/
LOCATION:Gents Universitair sportcentrum\, Watersportlaan 3\, Gent\, 9000\, België
ATTACH;FMTTYPE=image/jpeg:https://www.shinbugent.be/wp-content/uploads/2025/09/IMG_20250914_115251.jpg
END:VEVENT
BEGIN:VEVENT
DTSTART;TZID=Europe/Brussels:20260312T193000
DTEND;TZID=Europe/Brussels:20260312T210000
DTSTAMP:20260423T150101
CREATED:20250810T191041Z
LAST-MODIFIED:20250810T191043Z
UID:20001810-1773343800-1773349200@www.shinbugent.be
SUMMARY:clubtraining volwassenen
DESCRIPTION:
URL:https://www.shinbugent.be/event/clubtraining-volwassenen-25/2026-03-12/
LOCATION:Gents Universitair sportcentrum\, Watersportlaan 3\, Gent\, 9000\, België
END:VEVENT
BEGIN:VEVENT
DTSTART;TZID=Europe/Brussels:20260314T090000
DTEND;TZID=Europe/Brussels:20260314T103000
DTSTAMP:20260423T150101
CREATED:20250810T191739Z
LAST-MODIFIED:20250810T191741Z
UID:20001859-1773478800-1773484200@www.shinbugent.be
SUMMARY:clubtraining (jeugd + volwassenen)
DESCRIPTION:
URL:https://www.shinbugent.be/event/clubtraining-jeugd-volwassenen-12/2026-03-14/
LOCATION:Sporthal Arteveldehogeschool  – campus Watersportbaan\, Watersportlaan 4\, Gent\, Oost-Vlaanderen\, 9000\, Belgium
ATTACH;FMTTYPE=image/jpeg:https://www.shinbugent.be/wp-content/uploads/2025/08/foto-1-sporthal-artevelde.jpg
END:VEVENT
BEGIN:VEVENT
DTSTART;TZID=Europe/Brussels:20260314T100000
DTEND;TZID=Europe/Brussels:20260314T170000
DTSTAMP:20260423T150101
CREATED:20250810T184934Z
LAST-MODIFIED:20250810T184936Z
UID:20001768-1773482400-1773507600@www.shinbugent.be
SUMMARY:Trainingsdag Zottegem
DESCRIPTION:
URL:https://www.shinbugent.be/event/trainingsdag-zottegem-3/
LOCATION:Stedelijke Sporthal “Bevegemse Vijvers” (Zottegem)\, Bevegemsevijvers 1\, Zottegem\, 9620\, België
GEO:50.8683915;3.8284737
X-APPLE-STRUCTURED-LOCATION;VALUE=URI;X-ADDRESS=Stedelijke Sporthal “Bevegemse Vijvers” (Zottegem) Bevegemsevijvers 1 Zottegem 9620 België;X-APPLE-RADIUS=500;X-TITLE=Bevegemsevijvers 1:geo:3.8284737,50.8683915
END:VEVENT
BEGIN:VEVENT
DTSTART;TZID=Europe/Brussels:20260315T100000
DTEND;TZID=Europe/Brussels:20260315T170000
DTSTAMP:20260423T150101
CREATED:20250810T184828Z
LAST-MODIFIED:20250810T184830Z
UID:20001767-1773568800-1773594000@www.shinbugent.be
SUMMARY:JKA Vlaams kampioenschap jongeren
DESCRIPTION:JKA Vlaanderen kampioenschap voor jongeren. Vanuit de verschillende provincies worden jongeren geselecteerd voor dit kampioenschap.
URL:https://www.shinbugent.be/event/jka-vlaams-kampioenschap-jongeren-3/
LOCATION:Sporthal De Stormmeeuw (Knokke)\, Edward Verheyestraat 14\, Knokke\, 8300
GEO:51.3398289;3.2906249
X-APPLE-STRUCTURED-LOCATION;VALUE=URI;X-ADDRESS=Sporthal De Stormmeeuw (Knokke) Edward Verheyestraat 14 Knokke 8300;X-APPLE-RADIUS=500;X-TITLE=Edward Verheyestraat 14:geo:3.2906249,51.3398289
END:VEVENT
BEGIN:VEVENT
DTSTART;TZID=Europe/Brussels:20260317T190000
DTEND;TZID=Europe/Brussels:20260317T203000
DTSTAMP:20260423T150101
CREATED:20260222T132226Z
LAST-MODIFIED:20260222T132312Z
UID:20001786-1773774000-1773779400@www.shinbugent.be
SUMMARY:Gastlesgever - clubtraining volwassenen
DESCRIPTION:
URL:https://www.shinbugent.be/event/gastlesgever-clubtraining-volwassenen-3/
LOCATION:Gents Universitair sportcentrum\, Watersportlaan 3\, Gent\, 9000\, België
END:VEVENT
BEGIN:VEVENT
DTSTART;TZID=Europe/Brussels:20260319T193000
DTEND;TZID=Europe/Brussels:20260319T210000
DTSTAMP:20260423T150101
CREATED:20250810T184442Z
LAST-MODIFIED:20250810T184443Z
UID:20001763-1773948600-1773954000@www.shinbugent.be
SUMMARY:Provinciale training O-Vl
DESCRIPTION:o.l.v. een JKA-gastlesgever + open voor alle karateka’s met een geldige vergunning bij Karate Vlaanderen
URL:https://www.shinbugent.be/event/provinciale-training-o-vl-5/2026-03-19/
LOCATION:Gents Universitair sportcentrum\, Watersportlaan 3\, Gent\, 9000\, België
END:VEVENT
BEGIN:VEVENT
DTSTART;TZID=Europe/Brussels:20260319T193000
DTEND;TZID=Europe/Brussels:20260319T210000
DTSTAMP:20260423T150101
CREATED:20250810T191041Z
LAST-MODIFIED:20250810T191043Z
UID:20001811-1773948600-1773954000@www.shinbugent.be
SUMMARY:clubtraining volwassenen
DESCRIPTION:
URL:https://www.shinbugent.be/event/clubtraining-volwassenen-25/2026-03-19/
LOCATION:Gents Universitair sportcentrum\, Watersportlaan 3\, Gent\, 9000\, België
END:VEVENT
BEGIN:VEVENT
DTSTART;TZID=Europe/Brussels:20260319T193000
DTEND;TZID=Europe/Brussels:20260319T210000
DTSTAMP:20260423T150101
CREATED:20260105T175959Z
LAST-MODIFIED:20260105T180036Z
UID:20001905-1773948600-1773954000@www.shinbugent.be
SUMMARY:Ippon competitietraining O-Vl
DESCRIPTION:
URL:https://www.shinbugent.be/event/ippon-competitietraining-o-vl-4/2026-03-19/
LOCATION:Universitair Sportcentrum (Gent)\, Watersportlaan 3\, Gent\, Oost-Vlaanderen\, 9000\, België
GEO:51.0475487;3.7026469
X-APPLE-STRUCTURED-LOCATION;VALUE=URI;X-ADDRESS=Universitair Sportcentrum (Gent) Watersportlaan 3 Gent Oost-Vlaanderen 9000 België;X-APPLE-RADIUS=500;X-TITLE=Watersportlaan 3:geo:3.7026469,51.0475487
END:VEVENT
BEGIN:VEVENT
DTSTART;TZID=Europe/Brussels:20260321T090000
DTEND;TZID=Europe/Brussels:20260321T103000
DTSTAMP:20260423T150101
CREATED:20250810T191739Z
LAST-MODIFIED:20250810T191741Z
UID:20001860-1774083600-1774089000@www.shinbugent.be
SUMMARY:clubtraining (jeugd + volwassenen)
DESCRIPTION:
URL:https://www.shinbugent.be/event/clubtraining-jeugd-volwassenen-12/2026-03-21/
LOCATION:Sporthal Arteveldehogeschool  – campus Watersportbaan\, Watersportlaan 4\, Gent\, Oost-Vlaanderen\, 9000\, Belgium
ATTACH;FMTTYPE=image/jpeg:https://www.shinbugent.be/wp-content/uploads/2025/08/foto-1-sporthal-artevelde.jpg
END:VEVENT
BEGIN:VEVENT
DTSTART;TZID=Europe/Brussels:20260322T093000
DTEND;TZID=Europe/Brussels:20260322T170000
DTSTAMP:20260423T150101
CREATED:20260105T180854Z
LAST-MODIFIED:20260105T180855Z
UID:20001908-1774171800-1774198800@www.shinbugent.be
SUMMARY:Kazoku Cup
DESCRIPTION:IPPON-tornooi (zowel individueel als per ploeg)
URL:https://www.shinbugent.be/event/kazoku-cup/
LOCATION:Gemeentelijke Sporthal (Assenede)\, Kapelledreef 4\, Assenede\, Oost-Vlaanderen\, 9960\, België
GEO:51.2303427;3.7493673
X-APPLE-STRUCTURED-LOCATION;VALUE=URI;X-ADDRESS=Gemeentelijke Sporthal (Assenede) Kapelledreef 4 Assenede Oost-Vlaanderen 9960 België;X-APPLE-RADIUS=500;X-TITLE=Kapelledreef 4:geo:3.7493673,51.2303427
END:VEVENT
BEGIN:VEVENT
DTSTART;TZID=Europe/Brussels:20260324T190000
DTEND;TZID=Europe/Brussels:20260324T203000
DTSTAMP:20260423T150101
CREATED:20250810T190848Z
LAST-MODIFIED:20250810T190850Z
UID:20001787-1774378800-1774384200@www.shinbugent.be
SUMMARY:clubtraining volwassenen
DESCRIPTION:
URL:https://www.shinbugent.be/event/clubtraining-volwassenen-24/2026-03-24/
LOCATION:Gents Universitair sportcentrum\, Watersportlaan 3\, Gent\, 9000\, België
END:VEVENT
BEGIN:VEVENT
DTSTART;TZID=Europe/Brussels:20260326T193000
DTEND;TZID=Europe/Brussels:20260326T210000
DTSTAMP:20260423T150101
CREATED:20250810T191041Z
LAST-MODIFIED:20250810T191043Z
UID:20001812-1774553400-1774558800@www.shinbugent.be
SUMMARY:clubtraining volwassenen
DESCRIPTION:
URL:https://www.shinbugent.be/event/clubtraining-volwassenen-25/2026-03-26/
LOCATION:Gents Universitair sportcentrum\, Watersportlaan 3\, Gent\, 9000\, België
END:VEVENT
BEGIN:VEVENT
DTSTART;TZID=Europe/Brussels:20260328T090000
DTEND;TZID=Europe/Brussels:20260328T103000
DTSTAMP:20260423T150101
CREATED:20250810T191739Z
LAST-MODIFIED:20250810T191741Z
UID:20001861-1774688400-1774693800@www.shinbugent.be
SUMMARY:clubtraining (jeugd + volwassenen)
DESCRIPTION:
URL:https://www.shinbugent.be/event/clubtraining-jeugd-volwassenen-12/2026-03-28/
LOCATION:Sporthal Arteveldehogeschool  – campus Watersportbaan\, Watersportlaan 4\, Gent\, Oost-Vlaanderen\, 9000\, Belgium
ATTACH;FMTTYPE=image/jpeg:https://www.shinbugent.be/wp-content/uploads/2025/08/foto-1-sporthal-artevelde.jpg
END:VEVENT
BEGIN:VEVENT
DTSTART;TZID=Europe/Brussels:20260331T190000
DTEND;TZID=Europe/Brussels:20260331T203000
DTSTAMP:20260423T150101
CREATED:20250810T190848Z
LAST-MODIFIED:20250810T190850Z
UID:20001788-1774983600-1774989000@www.shinbugent.be
SUMMARY:clubtraining volwassenen
DESCRIPTION:
URL:https://www.shinbugent.be/event/clubtraining-volwassenen-24/2026-03-31/
LOCATION:Gents Universitair sportcentrum\, Watersportlaan 3\, Gent\, 9000\, België
END:VEVENT
BEGIN:VEVENT
DTSTART;TZID=Europe/Brussels:20260402T193000
DTEND;TZID=Europe/Brussels:20260402T210000
DTSTAMP:20260423T150101
CREATED:20250810T191041Z
LAST-MODIFIED:20250810T191043Z
UID:20001813-1775158200-1775163600@www.shinbugent.be
SUMMARY:clubtraining volwassenen
DESCRIPTION:
URL:https://www.shinbugent.be/event/clubtraining-volwassenen-25/2026-04-02/
LOCATION:Gents Universitair sportcentrum\, Watersportlaan 3\, Gent\, 9000\, België
END:VEVENT
BEGIN:VEVENT
DTSTART;TZID=Europe/Brussels:20260404T090000
DTEND;TZID=Europe/Brussels:20260404T103000
DTSTAMP:20260423T150101
CREATED:20250812T133356Z
LAST-MODIFIED:20250812T133425Z
UID:20001879-1775293200-1775298600@www.shinbugent.be
SUMMARY:GEEN clubtraining (jeugd + volwassenen)
DESCRIPTION:
URL:https://www.shinbugent.be/event/geen-clubtraining-jeugd-volwassenen-3/2026-04-04/
LOCATION:Sporthal Arteveldehogeschool  – campus Watersportbaan\, Watersportlaan 4\, Gent\, Oost-Vlaanderen\, 9000\, Belgium
END:VEVENT
BEGIN:VEVENT
DTSTART;TZID=Europe/Brussels:20260404T100000
DTEND;TZID=Europe/Brussels:20260406T160000
DTSTAMP:20260423T150101
CREATED:20250810T185353Z
LAST-MODIFIED:20250810T185355Z
UID:20001769-1775296800-1775491200@www.shinbugent.be
SUMMARY:JKA Lentestage Louvain-la-Neuve
DESCRIPTION:driedaagse JKA-stage
URL:https://www.shinbugent.be/event/jka-lentestage-louvain-la-neuve/
LOCATION:Place des Sports\, Place des Sports 1\, Ottignies - Louvain-la-Neuve\, Brabant wallon\, 1348\, Belgium
END:VEVENT
BEGIN:VEVENT
DTSTART;TZID=Europe/Brussels:20260407T190000
DTEND;TZID=Europe/Brussels:20260407T200000
DTSTAMP:20260423T150101
CREATED:20260401T183359Z
LAST-MODIFIED:20260401T183403Z
UID:20001825-1775588400-1775592000@www.shinbugent.be
SUMMARY:Geen clubtraining jeugd
DESCRIPTION:Geen clubtraining voor de jeugd tijdens de paasvakantie
URL:https://www.shinbugent.be/event/geen-clubtraining-jeugd-3/
LOCATION:Gents Universitair sportcentrum\, Watersportlaan 3\, Gent\, 9000\, België
ATTACH;FMTTYPE=image/png:https://www.shinbugent.be/wp-content/uploads/2025/08/no-training.png
END:VEVENT
BEGIN:VEVENT
DTSTART;TZID=Europe/Brussels:20260407T190000
DTEND;TZID=Europe/Brussels:20260407T203000
DTSTAMP:20260423T150101
CREATED:20250810T190848Z
LAST-MODIFIED:20250810T190850Z
UID:20001789-1775588400-1775593800@www.shinbugent.be
SUMMARY:clubtraining volwassenen
DESCRIPTION:
URL:https://www.shinbugent.be/event/clubtraining-volwassenen-24/2026-04-07/
LOCATION:Gents Universitair sportcentrum\, Watersportlaan 3\, Gent\, 9000\, België
END:VEVENT
BEGIN:VEVENT
DTSTART;TZID=Europe/Brussels:20260409T193000
DTEND;TZID=Europe/Brussels:20260409T210000
DTSTAMP:20260423T150101
CREATED:20250810T191041Z
LAST-MODIFIED:20250810T191043Z
UID:20001814-1775763000-1775768400@www.shinbugent.be
SUMMARY:clubtraining volwassenen
DESCRIPTION:
URL:https://www.shinbugent.be/event/clubtraining-volwassenen-25/2026-04-09/
LOCATION:Gents Universitair sportcentrum\, Watersportlaan 3\, Gent\, 9000\, België
END:VEVENT
BEGIN:VEVENT
DTSTART;TZID=Europe/Brussels:20260411T090000
DTEND;TZID=Europe/Brussels:20260411T103000
DTSTAMP:20260423T150101
CREATED:20250812T133356Z
LAST-MODIFIED:20250812T133425Z
UID:20001880-1775898000-1775903400@www.shinbugent.be
SUMMARY:GEEN clubtraining (jeugd + volwassenen)
DESCRIPTION:
URL:https://www.shinbugent.be/event/geen-clubtraining-jeugd-volwassenen-3/2026-04-11/
LOCATION:Sporthal Arteveldehogeschool  – campus Watersportbaan\, Watersportlaan 4\, Gent\, Oost-Vlaanderen\, 9000\, Belgium
END:VEVENT
BEGIN:VEVENT
DTSTART;TZID=Europe/Brussels:20260414T190000
DTEND;TZID=Europe/Brussels:20260414T200000
DTSTAMP:20260423T150101
CREATED:20260401T183619Z
LAST-MODIFIED:20260401T184351Z
UID:20001839-1776193200-1776196800@www.shinbugent.be
SUMMARY:Geen clubtraining jeugd
DESCRIPTION:Geen clubtraining voor de jeugd tijdens de paasvakantie
URL:https://www.shinbugent.be/event/geen-clubtraining-jeugd-4/
LOCATION:Gents Universitair sportcentrum\, Watersportlaan 3\, Gent\, 9000\, België
ATTACH;FMTTYPE=image/png:https://www.shinbugent.be/wp-content/uploads/2025/08/no-training.png
END:VEVENT
BEGIN:VEVENT
DTSTART;TZID=Europe/Brussels:20260414T190000
DTEND;TZID=Europe/Brussels:20260414T203000
DTSTAMP:20260423T150101
CREATED:20250810T190848Z
LAST-MODIFIED:20250810T190850Z
UID:20001790-1776193200-1776198600@www.shinbugent.be
SUMMARY:clubtraining volwassenen
DESCRIPTION:
URL:https://www.shinbugent.be/event/clubtraining-volwassenen-24/2026-04-14/
LOCATION:Gents Universitair sportcentrum\, Watersportlaan 3\, Gent\, 9000\, België
END:VEVENT
BEGIN:VEVENT
DTSTART;TZID=Europe/Brussels:20260416T193000
DTEND;TZID=Europe/Brussels:20260416T210000
DTSTAMP:20260423T150101
CREATED:20250810T184442Z
LAST-MODIFIED:20250810T184443Z
UID:20001764-1776367800-1776373200@www.shinbugent.be
SUMMARY:Provinciale training O-Vl
DESCRIPTION:o.l.v. een JKA-gastlesgever + open voor alle karateka’s met een geldige vergunning bij Karate Vlaanderen
URL:https://www.shinbugent.be/event/provinciale-training-o-vl-5/2026-04-16/
LOCATION:Gents Universitair sportcentrum\, Watersportlaan 3\, Gent\, 9000\, België
END:VEVENT
BEGIN:VEVENT
DTSTART;TZID=Europe/Brussels:20260416T193000
DTEND;TZID=Europe/Brussels:20260416T210000
DTSTAMP:20260423T150101
CREATED:20250810T191041Z
LAST-MODIFIED:20250810T191043Z
UID:20001815-1776367800-1776373200@www.shinbugent.be
SUMMARY:clubtraining volwassenen
DESCRIPTION:
URL:https://www.shinbugent.be/event/clubtraining-volwassenen-25/2026-04-16/
LOCATION:Gents Universitair sportcentrum\, Watersportlaan 3\, Gent\, 9000\, België
END:VEVENT
BEGIN:VEVENT
DTSTART;TZID=Europe/Brussels:20260416T193000
DTEND;TZID=Europe/Brussels:20260416T210000
DTSTAMP:20260423T150101
CREATED:20260105T175959Z
LAST-MODIFIED:20260105T180036Z
UID:20001906-1776367800-1776373200@www.shinbugent.be
SUMMARY:Ippon competitietraining O-Vl
DESCRIPTION:
URL:https://www.shinbugent.be/event/ippon-competitietraining-o-vl-4/2026-04-16/
LOCATION:Universitair Sportcentrum (Gent)\, Watersportlaan 3\, Gent\, Oost-Vlaanderen\, 9000\, België
GEO:51.0475487;3.7026469
X-APPLE-STRUCTURED-LOCATION;VALUE=URI;X-ADDRESS=Universitair Sportcentrum (Gent) Watersportlaan 3 Gent Oost-Vlaanderen 9000 België;X-APPLE-RADIUS=500;X-TITLE=Watersportlaan 3:geo:3.7026469,51.0475487
END:VEVENT
BEGIN:VEVENT
DTSTART;TZID=Europe/Brussels:20260418T090000
DTEND;TZID=Europe/Brussels:20260418T103000
DTSTAMP:20260423T150101
CREATED:20250812T133356Z
LAST-MODIFIED:20250812T133425Z
UID:20001881-1776502800-1776508200@www.shinbugent.be
SUMMARY:GEEN clubtraining (jeugd + volwassenen)
DESCRIPTION:
URL:https://www.shinbugent.be/event/geen-clubtraining-jeugd-volwassenen-3/2026-04-18/
LOCATION:Sporthal Arteveldehogeschool  – campus Watersportbaan\, Watersportlaan 4\, Gent\, Oost-Vlaanderen\, 9000\, Belgium
END:VEVENT
END:VCALENDAR