BEGIN:VCALENDAR
VERSION:2.0
PRODID:-//Shinbu Gent - ECPv6.15.18//NONSGML v1.0//EN
CALSCALE:GREGORIAN
METHOD:PUBLISH
X-WR-CALNAME:Shinbu Gent
X-ORIGINAL-URL:https://www.shinbugent.be
X-WR-CALDESC:Evenementen voor Shinbu Gent
REFRESH-INTERVAL;VALUE=DURATION:PT1H
X-Robots-Tag:noindex
X-PUBLISHED-TTL:PT1H
BEGIN:VTIMEZONE
TZID:Europe/Brussels
BEGIN:DAYLIGHT
TZOFFSETFROM:+0100
TZOFFSETTO:+0200
TZNAME:CEST
DTSTART:20220327T010000
END:DAYLIGHT
BEGIN:STANDARD
TZOFFSETFROM:+0200
TZOFFSETTO:+0100
TZNAME:CET
DTSTART:20221030T010000
END:STANDARD
BEGIN:DAYLIGHT
TZOFFSETFROM:+0100
TZOFFSETTO:+0200
TZNAME:CEST
DTSTART:20230326T010000
END:DAYLIGHT
BEGIN:STANDARD
TZOFFSETFROM:+0200
TZOFFSETTO:+0100
TZNAME:CET
DTSTART:20231029T010000
END:STANDARD
BEGIN:DAYLIGHT
TZOFFSETFROM:+0100
TZOFFSETTO:+0200
TZNAME:CEST
DTSTART:20240331T010000
END:DAYLIGHT
BEGIN:STANDARD
TZOFFSETFROM:+0200
TZOFFSETTO:+0100
TZNAME:CET
DTSTART:20241027T010000
END:STANDARD
END:VTIMEZONE
BEGIN:VEVENT
DTSTART;TZID=Europe/Brussels:20230406T193000
DTEND;TZID=Europe/Brussels:20230406T210000
DTSTAMP:20260420T014822
CREATED:20220822T142257Z
LAST-MODIFIED:20220822T142257Z
UID:20001051-1680809400-1680814800@www.shinbugent.be
SUMMARY:Clubtraining
DESCRIPTION:
URL:https://www.shinbugent.be/event/clubtraining-13/2023-04-06/
LOCATION:Universitair Sportcentrum (Gent)\, Watersportlaan 3\, Gent\, Oost-Vlaanderen\, 9000\, België
GEO:51.0475487;3.7026469
X-APPLE-STRUCTURED-LOCATION;VALUE=URI;X-ADDRESS=Universitair Sportcentrum (Gent) Watersportlaan 3 Gent Oost-Vlaanderen 9000 België;X-APPLE-RADIUS=500;X-TITLE=Watersportlaan 3:geo:3.7026469,51.0475487
END:VEVENT
BEGIN:VEVENT
DTSTART;TZID=Europe/Brussels:20230404T190000
DTEND;TZID=Europe/Brussels:20230404T203000
DTSTAMP:20260420T014822
CREATED:20220822T142205Z
LAST-MODIFIED:20220822T142206Z
UID:20001047-1680634800-1680640200@www.shinbugent.be
SUMMARY:Clubtraining
DESCRIPTION:
URL:https://www.shinbugent.be/event/clubtraining-12/2023-04-04/
LOCATION:Universitair Sportcentrum (Gent)\, Watersportlaan 3\, Gent\, Oost-Vlaanderen\, 9000\, België
GEO:51.0475487;3.7026469
X-APPLE-STRUCTURED-LOCATION;VALUE=URI;X-ADDRESS=Universitair Sportcentrum (Gent) Watersportlaan 3 Gent Oost-Vlaanderen 9000 België;X-APPLE-RADIUS=500;X-TITLE=Watersportlaan 3:geo:3.7026469,51.0475487
END:VEVENT
BEGIN:VEVENT
DTSTART;TZID=Europe/Brussels:20230401T100000
DTEND;TZID=Europe/Brussels:20230401T113000
DTSTAMP:20260420T014822
CREATED:20220822T142051Z
LAST-MODIFIED:20220822T142052Z
UID:20001043-1680343200-1680348600@www.shinbugent.be
SUMMARY:Clubtraining
DESCRIPTION:
URL:https://www.shinbugent.be/event/clubtraining-11/2023-04-01/
LOCATION:Universitair Sportcentrum (Gent)\, Watersportlaan 3\, Gent\, Oost-Vlaanderen\, 9000\, België
GEO:51.0475487;3.7026469
X-APPLE-STRUCTURED-LOCATION;VALUE=URI;X-ADDRESS=Universitair Sportcentrum (Gent) Watersportlaan 3 Gent Oost-Vlaanderen 9000 België;X-APPLE-RADIUS=500;X-TITLE=Watersportlaan 3:geo:3.7026469,51.0475487
END:VEVENT
BEGIN:VEVENT
DTSTART;TZID=Europe/Brussels:20230330T193000
DTEND;TZID=Europe/Brussels:20230330T210000
DTSTAMP:20260420T014822
CREATED:20220822T141505Z
LAST-MODIFIED:20220822T141507Z
UID:20001034-1680204600-1680210000@www.shinbugent.be
SUMMARY:Clubtraining
DESCRIPTION:
URL:https://www.shinbugent.be/event/clubtraining-8/2023-03-30/
LOCATION:Universitair Sportcentrum (Gent)\, Watersportlaan 3\, Gent\, Oost-Vlaanderen\, 9000\, België
GEO:51.0475487;3.7026469
X-APPLE-STRUCTURED-LOCATION;VALUE=URI;X-ADDRESS=Universitair Sportcentrum (Gent) Watersportlaan 3 Gent Oost-Vlaanderen 9000 België;X-APPLE-RADIUS=500;X-TITLE=Watersportlaan 3:geo:3.7026469,51.0475487
END:VEVENT
BEGIN:VEVENT
DTSTART;TZID=Europe/Brussels:20230328T190000
DTEND;TZID=Europe/Brussels:20230328T203000
DTSTAMP:20260420T014822
CREATED:20230128T152955Z
LAST-MODIFIED:20230128T152956Z
UID:20001134-1680030000-1680035400@www.shinbugent.be
SUMMARY:Club-competitietraining
DESCRIPTION:
URL:https://www.shinbugent.be/event/club-competitietraining-13/
LOCATION:Universitair Sportcentrum (Gent)\, Watersportlaan 3\, Gent\, Oost-Vlaanderen\, 9000\, België
GEO:51.0475487;3.7026469
X-APPLE-STRUCTURED-LOCATION;VALUE=URI;X-ADDRESS=Universitair Sportcentrum (Gent) Watersportlaan 3 Gent Oost-Vlaanderen 9000 België;X-APPLE-RADIUS=500;X-TITLE=Watersportlaan 3:geo:3.7026469,51.0475487
END:VEVENT
BEGIN:VEVENT
DTSTART;TZID=Europe/Brussels:20230328T190000
DTEND;TZID=Europe/Brussels:20230328T203000
DTSTAMP:20260420T014822
CREATED:20220822T141629Z
LAST-MODIFIED:20220822T141630Z
UID:20001038-1680030000-1680035400@www.shinbugent.be
SUMMARY:Clubtraining
DESCRIPTION:
URL:https://www.shinbugent.be/event/clubtraining-9/2023-03-28/
LOCATION:Universitair Sportcentrum (Gent)\, Watersportlaan 3\, Gent\, Oost-Vlaanderen\, 9000\, België
GEO:51.0475487;3.7026469
X-APPLE-STRUCTURED-LOCATION;VALUE=URI;X-ADDRESS=Universitair Sportcentrum (Gent) Watersportlaan 3 Gent Oost-Vlaanderen 9000 België;X-APPLE-RADIUS=500;X-TITLE=Watersportlaan 3:geo:3.7026469,51.0475487
END:VEVENT
BEGIN:VEVENT
DTSTART;TZID=Europe/Brussels:20230325T100000
DTEND;TZID=Europe/Brussels:20230325T170000
DTSTAMP:20260420T014822
CREATED:20230220T143226Z
LAST-MODIFIED:20230307T120631Z
UID:20001136-1679738400-1679763600@www.shinbugent.be
SUMMARY:Traditioneel kata-weekend Lede
DESCRIPTION:
URL:https://www.shinbugent.be/event/traditioneel-kata-weekend-lede-2/
LOCATION:Sportcomplex De Ommegang (Lede)\, Ommeganglaan 60 A\, Lede\, Oost-Vlaanderen\, 9340\, België
ATTACH;FMTTYPE=image/jpeg:https://www.shinbugent.be/wp-content/uploads/2023/03/Flyer-2023.jpeg
GEO:50.9591145;3.9780411
X-APPLE-STRUCTURED-LOCATION;VALUE=URI;X-ADDRESS=Sportcomplex De Ommegang (Lede) Ommeganglaan 60 A Lede Oost-Vlaanderen 9340 België;X-APPLE-RADIUS=500;X-TITLE=Ommeganglaan 60 A:geo:3.9780411,50.9591145
END:VEVENT
BEGIN:VEVENT
DTSTART;TZID=Europe/Brussels:20230325T100000
DTEND;TZID=Europe/Brussels:20230325T113000
DTSTAMP:20260420T014822
CREATED:20230301T172456Z
LAST-MODIFIED:20230301T172458Z
UID:20001042-1679738400-1679743800@www.shinbugent.be
SUMMARY:Geen clubtraining (jeugd & volwassenen)!
DESCRIPTION:naar aanleiding van de trainingsdag te Lede wordt er geen clubtraining georganiseerd (noch voor de jeugd\, noch voor de volwassenen)
URL:https://www.shinbugent.be/event/clubtraining-34/
LOCATION:Universitair Sportcentrum (Gent)\, Watersportlaan 3\, Gent\, Oost-Vlaanderen\, 9000\, België
GEO:51.0475487;3.7026469
X-APPLE-STRUCTURED-LOCATION;VALUE=URI;X-ADDRESS=Universitair Sportcentrum (Gent) Watersportlaan 3 Gent Oost-Vlaanderen 9000 België;X-APPLE-RADIUS=500;X-TITLE=Watersportlaan 3:geo:3.7026469,51.0475487
END:VEVENT
BEGIN:VEVENT
DTSTART;TZID=Europe/Brussels:20230323T193000
DTEND;TZID=Europe/Brussels:20230323T210000
DTSTAMP:20260420T014822
CREATED:20230128T153257Z
LAST-MODIFIED:20230128T153258Z
UID:20001033-1679599800-1679605200@www.shinbugent.be
SUMMARY:Clubtraining - defence training
DESCRIPTION:
URL:https://www.shinbugent.be/event/clubtraining-31/
LOCATION:Universitair Sportcentrum (Gent)\, Watersportlaan 3\, Gent\, Oost-Vlaanderen\, 9000\, België
GEO:51.0475487;3.7026469
X-APPLE-STRUCTURED-LOCATION;VALUE=URI;X-ADDRESS=Universitair Sportcentrum (Gent) Watersportlaan 3 Gent Oost-Vlaanderen 9000 België;X-APPLE-RADIUS=500;X-TITLE=Watersportlaan 3:geo:3.7026469,51.0475487
END:VEVENT
BEGIN:VEVENT
DTSTART;TZID=Europe/Brussels:20230321T190000
DTEND;TZID=Europe/Brussels:20230321T203000
DTSTAMP:20260420T014822
CREATED:20220822T141629Z
LAST-MODIFIED:20220822T141630Z
UID:20001037-1679425200-1679430600@www.shinbugent.be
SUMMARY:Clubtraining
DESCRIPTION:
URL:https://www.shinbugent.be/event/clubtraining-9/2023-03-21/
LOCATION:Universitair Sportcentrum (Gent)\, Watersportlaan 3\, Gent\, Oost-Vlaanderen\, 9000\, België
GEO:51.0475487;3.7026469
X-APPLE-STRUCTURED-LOCATION;VALUE=URI;X-ADDRESS=Universitair Sportcentrum (Gent) Watersportlaan 3 Gent Oost-Vlaanderen 9000 België;X-APPLE-RADIUS=500;X-TITLE=Watersportlaan 3:geo:3.7026469,51.0475487
END:VEVENT
BEGIN:VEVENT
DTSTART;TZID=Europe/Brussels:20230318T100000
DTEND;TZID=Europe/Brussels:20230318T113000
DTSTAMP:20260420T014822
CREATED:20220822T141734Z
LAST-MODIFIED:20220822T141735Z
UID:20001041-1679133600-1679139000@www.shinbugent.be
SUMMARY:Clubtraining
DESCRIPTION:
URL:https://www.shinbugent.be/event/clubtraining-10/2023-03-18/
LOCATION:Universitair Sportcentrum (Gent)\, Watersportlaan 3\, Gent\, Oost-Vlaanderen\, 9000\, België
GEO:51.0475487;3.7026469
X-APPLE-STRUCTURED-LOCATION;VALUE=URI;X-ADDRESS=Universitair Sportcentrum (Gent) Watersportlaan 3 Gent Oost-Vlaanderen 9000 België;X-APPLE-RADIUS=500;X-TITLE=Watersportlaan 3:geo:3.7026469,51.0475487
END:VEVENT
BEGIN:VEVENT
DTSTART;TZID=Europe/Brussels:20230316T193000
DTEND;TZID=Europe/Brussels:20230316T210000
DTSTAMP:20260420T014822
CREATED:20221130T174041Z
LAST-MODIFIED:20221130T174042Z
UID:20001115-1678995000-1679000400@www.shinbugent.be
SUMMARY:Ippon competitietraining
DESCRIPTION:vanaf graad 3de kyu
URL:https://www.shinbugent.be/event/ippon-competitietraining-3/
LOCATION:Universitair Sportcentrum (Gent)\, Watersportlaan 3\, Gent\, Oost-Vlaanderen\, 9000\, België
GEO:51.0475487;3.7026469
X-APPLE-STRUCTURED-LOCATION;VALUE=URI;X-ADDRESS=Universitair Sportcentrum (Gent) Watersportlaan 3 Gent Oost-Vlaanderen 9000 België;X-APPLE-RADIUS=500;X-TITLE=Watersportlaan 3:geo:3.7026469,51.0475487
END:VEVENT
BEGIN:VEVENT
DTSTART;TZID=Europe/Brussels:20230316T193000
DTEND;TZID=Europe/Brussels:20230316T210000
DTSTAMP:20260420T014822
CREATED:20220822T141505Z
LAST-MODIFIED:20220822T141507Z
UID:20001032-1678995000-1679000400@www.shinbugent.be
SUMMARY:Clubtraining
DESCRIPTION:
URL:https://www.shinbugent.be/event/clubtraining-8/2023-03-16/
LOCATION:Universitair Sportcentrum (Gent)\, Watersportlaan 3\, Gent\, Oost-Vlaanderen\, 9000\, België
GEO:51.0475487;3.7026469
X-APPLE-STRUCTURED-LOCATION;VALUE=URI;X-ADDRESS=Universitair Sportcentrum (Gent) Watersportlaan 3 Gent Oost-Vlaanderen 9000 België;X-APPLE-RADIUS=500;X-TITLE=Watersportlaan 3:geo:3.7026469,51.0475487
END:VEVENT
BEGIN:VEVENT
DTSTART;TZID=Europe/Brussels:20230314T190000
DTEND;TZID=Europe/Brussels:20230314T203000
DTSTAMP:20260420T014822
CREATED:20230128T153404Z
LAST-MODIFIED:20230307T115944Z
UID:20001036-1678820400-1678825800@www.shinbugent.be
SUMMARY:Clubtraining - gastles sensei Diederik Duyck
DESCRIPTION:De training staat open voor iedereen
URL:https://www.shinbugent.be/event/clubtraining-32/
LOCATION:Universitair Sportcentrum (Gent)\, Watersportlaan 3\, Gent\, Oost-Vlaanderen\, 9000\, België
GEO:51.0475487;3.7026469
X-APPLE-STRUCTURED-LOCATION;VALUE=URI;X-ADDRESS=Universitair Sportcentrum (Gent) Watersportlaan 3 Gent Oost-Vlaanderen 9000 België;X-APPLE-RADIUS=500;X-TITLE=Watersportlaan 3:geo:3.7026469,51.0475487
END:VEVENT
BEGIN:VEVENT
DTSTART;TZID=Europe/Brussels:20230312T090000
DTEND;TZID=Europe/Brussels:20230312T170000
DTSTAMP:20260420T014822
CREATED:20220819T141223Z
LAST-MODIFIED:20230307T120305Z
UID:20001001-1678611600-1678640400@www.shinbugent.be
SUMMARY:Vlaams kampioenschap (jongeren)
DESCRIPTION:
URL:https://www.shinbugent.be/event/vlaams-kampioenschap-jongeren/
LOCATION:Sporthal De Stormmeeuw (Knokke)\, Edward Verheyestraat 14\, Knokke\, 8300
GEO:51.3398289;3.2906249
X-APPLE-STRUCTURED-LOCATION;VALUE=URI;X-ADDRESS=Sporthal De Stormmeeuw (Knokke) Edward Verheyestraat 14 Knokke 8300;X-APPLE-RADIUS=500;X-TITLE=Edward Verheyestraat 14:geo:3.2906249,51.3398289
END:VEVENT
BEGIN:VEVENT
DTSTART;TZID=Europe/Brussels:20230311T100000
DTEND;TZID=Europe/Brussels:20230311T113000
DTSTAMP:20260420T014822
CREATED:20220822T141734Z
LAST-MODIFIED:20220822T141735Z
UID:20001040-1678528800-1678534200@www.shinbugent.be
SUMMARY:Clubtraining
DESCRIPTION:
URL:https://www.shinbugent.be/event/clubtraining-10/2023-03-11/
LOCATION:Universitair Sportcentrum (Gent)\, Watersportlaan 3\, Gent\, Oost-Vlaanderen\, 9000\, België
GEO:51.0475487;3.7026469
X-APPLE-STRUCTURED-LOCATION;VALUE=URI;X-ADDRESS=Universitair Sportcentrum (Gent) Watersportlaan 3 Gent Oost-Vlaanderen 9000 België;X-APPLE-RADIUS=500;X-TITLE=Watersportlaan 3:geo:3.7026469,51.0475487
END:VEVENT
BEGIN:VEVENT
DTSTART;TZID=Europe/Brussels:20230309T193000
DTEND;TZID=Europe/Brussels:20230309T210000
DTSTAMP:20260420T014822
CREATED:20221128T124015Z
LAST-MODIFIED:20221128T124016Z
UID:20001104-1678390200-1678395600@www.shinbugent.be
SUMMARY:Provinciale training
DESCRIPTION:
URL:https://www.shinbugent.be/event/provinciale-training-9/
LOCATION:Universitair Sportcentrum (Gent)\, Watersportlaan 3\, Gent\, Oost-Vlaanderen\, 9000\, België
GEO:51.0475487;3.7026469
X-APPLE-STRUCTURED-LOCATION;VALUE=URI;X-ADDRESS=Universitair Sportcentrum (Gent) Watersportlaan 3 Gent Oost-Vlaanderen 9000 België;X-APPLE-RADIUS=500;X-TITLE=Watersportlaan 3:geo:3.7026469,51.0475487
END:VEVENT
BEGIN:VEVENT
DTSTART;TZID=Europe/Brussels:20230309T193000
DTEND;TZID=Europe/Brussels:20230309T210000
DTSTAMP:20260420T014822
CREATED:20220822T141505Z
LAST-MODIFIED:20220822T141507Z
UID:20001031-1678390200-1678395600@www.shinbugent.be
SUMMARY:Clubtraining
DESCRIPTION:
URL:https://www.shinbugent.be/event/clubtraining-8/2023-03-09/
LOCATION:Universitair Sportcentrum (Gent)\, Watersportlaan 3\, Gent\, Oost-Vlaanderen\, 9000\, België
GEO:51.0475487;3.7026469
X-APPLE-STRUCTURED-LOCATION;VALUE=URI;X-ADDRESS=Universitair Sportcentrum (Gent) Watersportlaan 3 Gent Oost-Vlaanderen 9000 België;X-APPLE-RADIUS=500;X-TITLE=Watersportlaan 3:geo:3.7026469,51.0475487
END:VEVENT
BEGIN:VEVENT
DTSTART;TZID=Europe/Brussels:20230307T190000
DTEND;TZID=Europe/Brussels:20230307T203000
DTSTAMP:20260420T014822
CREATED:20220822T141629Z
LAST-MODIFIED:20220822T141630Z
UID:20001035-1678215600-1678221000@www.shinbugent.be
SUMMARY:Clubtraining
DESCRIPTION:
URL:https://www.shinbugent.be/event/clubtraining-9/2023-03-07/
LOCATION:Universitair Sportcentrum (Gent)\, Watersportlaan 3\, Gent\, Oost-Vlaanderen\, 9000\, België
GEO:51.0475487;3.7026469
X-APPLE-STRUCTURED-LOCATION;VALUE=URI;X-ADDRESS=Universitair Sportcentrum (Gent) Watersportlaan 3 Gent Oost-Vlaanderen 9000 België;X-APPLE-RADIUS=500;X-TITLE=Watersportlaan 3:geo:3.7026469,51.0475487
END:VEVENT
BEGIN:VEVENT
DTSTART;TZID=Europe/Brussels:20230305T090000
DTEND;TZID=Europe/Brussels:20230305T180000
DTSTAMP:20260420T014822
CREATED:20220819T141108Z
LAST-MODIFIED:20220819T141109Z
UID:20001000-1678006800-1678039200@www.shinbugent.be
SUMMARY:GALa-tornooi
DESCRIPTION:
URL:https://www.shinbugent.be/event/gala-tornooi/
LOCATION:Gemeentelijke sportzaal (Aalter)\, Lindestraat 17\, Aalter\, Oost-Vlaanderen\, 9880\, België
GEO:51.0820131;3.4388065
X-APPLE-STRUCTURED-LOCATION;VALUE=URI;X-ADDRESS=Gemeentelijke sportzaal (Aalter) Lindestraat 17 Aalter Oost-Vlaanderen 9880 België;X-APPLE-RADIUS=500;X-TITLE=Lindestraat 17:geo:3.4388065,51.0820131
END:VEVENT
BEGIN:VEVENT
DTSTART;TZID=Europe/Brussels:20230304T140000
DTEND;TZID=Europe/Brussels:20230304T153000
DTSTAMP:20260420T014822
CREATED:20220819T140345Z
LAST-MODIFIED:20220819T140345Z
UID:20000997-1677938400-1677943800@www.shinbugent.be
SUMMARY:Nationale training
DESCRIPTION:
URL:https://www.shinbugent.be/event/nationale-training-9/
LOCATION:Complexe Gaston Reiff (Braine l’Alleud)\, Rue Ernest Laurent 210\, Braine l'Alleud\, 1420\, België
GEO:50.678249;4.3848448
X-APPLE-STRUCTURED-LOCATION;VALUE=URI;X-ADDRESS=Complexe Gaston Reiff (Braine l’Alleud) Rue Ernest Laurent 210 Braine l'Alleud 1420 België;X-APPLE-RADIUS=500;X-TITLE=Rue Ernest Laurent 210:geo:4.3848448,50.678249
END:VEVENT
BEGIN:VEVENT
DTSTART;TZID=Europe/Brussels:20230304T100000
DTEND;TZID=Europe/Brussels:20230304T113000
DTSTAMP:20260420T014822
CREATED:20220822T141734Z
LAST-MODIFIED:20220822T141735Z
UID:20001039-1677924000-1677929400@www.shinbugent.be
SUMMARY:Clubtraining
DESCRIPTION:
URL:https://www.shinbugent.be/event/clubtraining-10/2023-03-04/
LOCATION:Universitair Sportcentrum (Gent)\, Watersportlaan 3\, Gent\, Oost-Vlaanderen\, 9000\, België
GEO:51.0475487;3.7026469
X-APPLE-STRUCTURED-LOCATION;VALUE=URI;X-ADDRESS=Universitair Sportcentrum (Gent) Watersportlaan 3 Gent Oost-Vlaanderen 9000 België;X-APPLE-RADIUS=500;X-TITLE=Watersportlaan 3:geo:3.7026469,51.0475487
END:VEVENT
BEGIN:VEVENT
DTSTART;TZID=Europe/Brussels:20230302T193000
DTEND;TZID=Europe/Brussels:20230302T210000
DTSTAMP:20260420T014822
CREATED:20230128T152901Z
LAST-MODIFIED:20230128T152902Z
UID:20001133-1677785400-1677790800@www.shinbugent.be
SUMMARY:Club-competitietraining
DESCRIPTION:
URL:https://www.shinbugent.be/event/club-competitietraining-12/
LOCATION:Universitair Sportcentrum (Gent)\, Watersportlaan 3\, Gent\, Oost-Vlaanderen\, 9000\, België
GEO:51.0475487;3.7026469
X-APPLE-STRUCTURED-LOCATION;VALUE=URI;X-ADDRESS=Universitair Sportcentrum (Gent) Watersportlaan 3 Gent Oost-Vlaanderen 9000 België;X-APPLE-RADIUS=500;X-TITLE=Watersportlaan 3:geo:3.7026469,51.0475487
END:VEVENT
BEGIN:VEVENT
DTSTART;TZID=Europe/Brussels:20230302T193000
DTEND;TZID=Europe/Brussels:20230302T210000
DTSTAMP:20260420T014822
CREATED:20220822T141505Z
LAST-MODIFIED:20220822T141507Z
UID:20001030-1677785400-1677790800@www.shinbugent.be
SUMMARY:Clubtraining
DESCRIPTION:
URL:https://www.shinbugent.be/event/clubtraining-8/2023-03-02/
LOCATION:Universitair Sportcentrum (Gent)\, Watersportlaan 3\, Gent\, Oost-Vlaanderen\, 9000\, België
GEO:51.0475487;3.7026469
X-APPLE-STRUCTURED-LOCATION;VALUE=URI;X-ADDRESS=Universitair Sportcentrum (Gent) Watersportlaan 3 Gent Oost-Vlaanderen 9000 België;X-APPLE-RADIUS=500;X-TITLE=Watersportlaan 3:geo:3.7026469,51.0475487
END:VEVENT
BEGIN:VEVENT
DTSTART;TZID=Europe/Brussels:20230228T190000
DTEND;TZID=Europe/Brussels:20230228T203000
DTSTAMP:20260420T014822
CREATED:20220822T141203Z
LAST-MODIFIED:20220822T141204Z
UID:20001025-1677610800-1677616200@www.shinbugent.be
SUMMARY:Clubtraining
DESCRIPTION:
URL:https://www.shinbugent.be/event/clubtraining-6/2023-02-28/
LOCATION:Universitair Sportcentrum (Gent)\, Watersportlaan 3\, Gent\, Oost-Vlaanderen\, 9000\, België
GEO:51.0475487;3.7026469
X-APPLE-STRUCTURED-LOCATION;VALUE=URI;X-ADDRESS=Universitair Sportcentrum (Gent) Watersportlaan 3 Gent Oost-Vlaanderen 9000 België;X-APPLE-RADIUS=500;X-TITLE=Watersportlaan 3:geo:3.7026469,51.0475487
END:VEVENT
BEGIN:VEVENT
DTSTART;TZID=Europe/Brussels:20230225T140000
DTEND;TZID=Europe/Brussels:20230225T180000
DTSTAMP:20260420T014822
CREATED:20220802T114311Z
LAST-MODIFIED:20220802T114311Z
UID:20000991-1677333600-1677348000@www.shinbugent.be
SUMMARY:JOW 8 - Nevele
DESCRIPTION:
URL:https://www.shinbugent.be/event/jow-8-nevele/
LOCATION:Sporthal Oostbroek (Nevele)\, Zeistraat 41\, Nevele\, Oost-Vlaanderen\, 9850\, België
GEO:51.0332204;3.5553656
X-APPLE-STRUCTURED-LOCATION;VALUE=URI;X-ADDRESS=Sporthal Oostbroek (Nevele) Zeistraat 41 Nevele Oost-Vlaanderen 9850 België;X-APPLE-RADIUS=500;X-TITLE=Zeistraat 41:geo:3.5553656,51.0332204
END:VEVENT
BEGIN:VEVENT
DTSTART;TZID=Europe/Brussels:20230225T100000
DTEND;TZID=Europe/Brussels:20230225T113000
DTSTAMP:20260420T014822
CREATED:20220822T141014Z
LAST-MODIFIED:20220822T141015Z
UID:20001021-1677319200-1677324600@www.shinbugent.be
SUMMARY:Clubtraining
DESCRIPTION:
URL:https://www.shinbugent.be/event/clubtraining-5/2023-02-25/
LOCATION:Universitair Sportcentrum (Gent)\, Watersportlaan 3\, Gent\, Oost-Vlaanderen\, 9000\, België
GEO:51.0475487;3.7026469
X-APPLE-STRUCTURED-LOCATION;VALUE=URI;X-ADDRESS=Universitair Sportcentrum (Gent) Watersportlaan 3 Gent Oost-Vlaanderen 9000 België;X-APPLE-RADIUS=500;X-TITLE=Watersportlaan 3:geo:3.7026469,51.0475487
END:VEVENT
BEGIN:VEVENT
DTSTART;TZID=Europe/Brussels:20230223T193000
DTEND;TZID=Europe/Brussels:20230223T210000
DTSTAMP:20260420T014822
CREATED:20221231T150829Z
LAST-MODIFIED:20221231T150830Z
UID:20001127-1677180600-1677186000@www.shinbugent.be
SUMMARY:Club-competitietraining
DESCRIPTION:
URL:https://www.shinbugent.be/event/club-competitietraining-11/
LOCATION:Universitair Sportcentrum (Gent)\, Watersportlaan 3\, Gent\, Oost-Vlaanderen\, 9000\, België
GEO:51.0475487;3.7026469
X-APPLE-STRUCTURED-LOCATION;VALUE=URI;X-ADDRESS=Universitair Sportcentrum (Gent) Watersportlaan 3 Gent Oost-Vlaanderen 9000 België;X-APPLE-RADIUS=500;X-TITLE=Watersportlaan 3:geo:3.7026469,51.0475487
END:VEVENT
BEGIN:VEVENT
DTSTART;TZID=Europe/Brussels:20230223T193000
DTEND;TZID=Europe/Brussels:20230223T210000
DTSTAMP:20260420T014822
CREATED:20220822T141309Z
LAST-MODIFIED:20220822T141309Z
UID:20001029-1677180600-1677186000@www.shinbugent.be
SUMMARY:Clubtraining
DESCRIPTION:
URL:https://www.shinbugent.be/event/clubtraining-7/2023-02-23/
LOCATION:Universitair Sportcentrum (Gent)\, Watersportlaan 3\, Gent\, Oost-Vlaanderen\, 9000\, België
GEO:51.0475487;3.7026469
X-APPLE-STRUCTURED-LOCATION;VALUE=URI;X-ADDRESS=Universitair Sportcentrum (Gent) Watersportlaan 3 Gent Oost-Vlaanderen 9000 België;X-APPLE-RADIUS=500;X-TITLE=Watersportlaan 3:geo:3.7026469,51.0475487
END:VEVENT
BEGIN:VEVENT
DTSTART;TZID=Europe/Brussels:20230221T190000
DTEND;TZID=Europe/Brussels:20230221T203000
DTSTAMP:20260420T014822
CREATED:20220822T141203Z
LAST-MODIFIED:20220822T141204Z
UID:20001024-1677006000-1677011400@www.shinbugent.be
SUMMARY:Clubtraining
DESCRIPTION:
URL:https://www.shinbugent.be/event/clubtraining-6/2023-02-21/
LOCATION:Universitair Sportcentrum (Gent)\, Watersportlaan 3\, Gent\, Oost-Vlaanderen\, 9000\, België
GEO:51.0475487;3.7026469
X-APPLE-STRUCTURED-LOCATION;VALUE=URI;X-ADDRESS=Universitair Sportcentrum (Gent) Watersportlaan 3 Gent Oost-Vlaanderen 9000 België;X-APPLE-RADIUS=500;X-TITLE=Watersportlaan 3:geo:3.7026469,51.0475487
END:VEVENT
END:VCALENDAR