BEGIN:VCALENDAR
VERSION:2.0
PRODID:-//Shinbu Gent - ECPv6.15.18//NONSGML v1.0//EN
CALSCALE:GREGORIAN
METHOD:PUBLISH
X-WR-CALNAME:Shinbu Gent
X-ORIGINAL-URL:https://www.shinbugent.be
X-WR-CALDESC:Evenementen voor Shinbu Gent
REFRESH-INTERVAL;VALUE=DURATION:PT1H
X-Robots-Tag:noindex
X-PUBLISHED-TTL:PT1H
BEGIN:VTIMEZONE
TZID:Europe/Brussels
BEGIN:DAYLIGHT
TZOFFSETFROM:+0100
TZOFFSETTO:+0200
TZNAME:CEST
DTSTART:20220327T010000
END:DAYLIGHT
BEGIN:STANDARD
TZOFFSETFROM:+0200
TZOFFSETTO:+0100
TZNAME:CET
DTSTART:20221030T010000
END:STANDARD
BEGIN:DAYLIGHT
TZOFFSETFROM:+0100
TZOFFSETTO:+0200
TZNAME:CEST
DTSTART:20230326T010000
END:DAYLIGHT
BEGIN:STANDARD
TZOFFSETFROM:+0200
TZOFFSETTO:+0100
TZNAME:CET
DTSTART:20231029T010000
END:STANDARD
BEGIN:DAYLIGHT
TZOFFSETFROM:+0100
TZOFFSETTO:+0200
TZNAME:CEST
DTSTART:20240331T010000
END:DAYLIGHT
BEGIN:STANDARD
TZOFFSETFROM:+0200
TZOFFSETTO:+0100
TZNAME:CET
DTSTART:20241027T010000
END:STANDARD
END:VTIMEZONE
BEGIN:VEVENT
DTSTART;TZID=Europe/Brussels:20230909T100000
DTEND;TZID=Europe/Brussels:20230909T113000
DTSTAMP:20260420T180720
CREATED:20230813T144711Z
LAST-MODIFIED:20230813T144713Z
UID:20001163-1694253600-1694259000@www.shinbugent.be
SUMMARY:Clubtraining
DESCRIPTION:clubtraining voor de jeugdgroep en de groep van de volwassenen
URL:https://www.shinbugent.be/event/clubtraining-44/2023-09-09/
LOCATION:Gents Universitair sportcentrum\, Watersportlaan 3\, Gent\, 9000\, België
END:VEVENT
BEGIN:VEVENT
DTSTART;TZID=Europe/Brussels:20230907T193000
DTEND;TZID=Europe/Brussels:20230907T210000
DTSTAMP:20260420T180720
CREATED:20230813T144333Z
LAST-MODIFIED:20230813T144335Z
UID:20001158-1694115000-1694120400@www.shinbugent.be
SUMMARY:Clubtraining
DESCRIPTION:clubtraining voor de groep van volwassenen (vanaf 13 jaar)
URL:https://www.shinbugent.be/event/clubtraining-43/2023-09-07/
LOCATION:Universitair Sportcentrum (Gent)\, Watersportlaan 3\, Gent\, Oost-Vlaanderen\, 9000\, België
GEO:51.0475487;3.7026469
X-APPLE-STRUCTURED-LOCATION;VALUE=URI;X-ADDRESS=Universitair Sportcentrum (Gent) Watersportlaan 3 Gent Oost-Vlaanderen 9000 België;X-APPLE-RADIUS=500;X-TITLE=Watersportlaan 3:geo:3.7026469,51.0475487
END:VEVENT
BEGIN:VEVENT
DTSTART;TZID=Europe/Brussels:20230907T193000
DTEND;TZID=Europe/Brussels:20230907T210000
DTSTAMP:20260420T180720
CREATED:20221130T175341Z
LAST-MODIFIED:20221130T175342Z
UID:20001118-1694115000-1694120400@www.shinbugent.be
SUMMARY:Ippon competitietraining
DESCRIPTION:vanaf graad 3de kyu
URL:https://www.shinbugent.be/event/ippon-competitietraining-6/
LOCATION:Universitair Sportcentrum (Gent)\, Watersportlaan 3\, Gent\, Oost-Vlaanderen\, 9000\, België
GEO:51.0475487;3.7026469
X-APPLE-STRUCTURED-LOCATION;VALUE=URI;X-ADDRESS=Universitair Sportcentrum (Gent) Watersportlaan 3 Gent Oost-Vlaanderen 9000 België;X-APPLE-RADIUS=500;X-TITLE=Watersportlaan 3:geo:3.7026469,51.0475487
END:VEVENT
BEGIN:VEVENT
DTSTART;TZID=Europe/Brussels:20230905T190000
DTEND;TZID=Europe/Brussels:20230905T203000
DTSTAMP:20260420T180720
CREATED:20230813T143816Z
LAST-MODIFIED:20230813T143818Z
UID:20001153-1693940400-1693945800@www.shinbugent.be
SUMMARY:Clubtraining
DESCRIPTION:clubtraining voor de groep van volwassenen (vanaf 13 jaar)
URL:https://www.shinbugent.be/event/clubtraining-42/2023-09-05/
LOCATION:Universitair Sportcentrum (Gent)\, Watersportlaan 3\, Gent\, Oost-Vlaanderen\, 9000\, België
GEO:51.0475487;3.7026469
X-APPLE-STRUCTURED-LOCATION;VALUE=URI;X-ADDRESS=Universitair Sportcentrum (Gent) Watersportlaan 3 Gent Oost-Vlaanderen 9000 België;X-APPLE-RADIUS=500;X-TITLE=Watersportlaan 3:geo:3.7026469,51.0475487
END:VEVENT
BEGIN:VEVENT
DTSTART;TZID=Europe/Brussels:20230905T190000
DTEND;TZID=Europe/Brussels:20230905T200000
DTSTAMP:20260420T180720
CREATED:20230813T151650Z
LAST-MODIFIED:20230813T151652Z
UID:20001167-1693940400-1693944000@www.shinbugent.be
SUMMARY:Clubtraining jeugd
DESCRIPTION:clubtraining voor de jeugdgroep (vanaf 8 jaar en minstens 1 seizoen karate-ervaring)
URL:https://www.shinbugent.be/event/clubtraining-jeugd-2/2023-09-05/
LOCATION:Universitair Sportcentrum (Gent)\, Watersportlaan 3\, Gent\, Oost-Vlaanderen\, 9000\, België
GEO:51.0475487;3.7026469
X-APPLE-STRUCTURED-LOCATION;VALUE=URI;X-ADDRESS=Universitair Sportcentrum (Gent) Watersportlaan 3 Gent Oost-Vlaanderen 9000 België;X-APPLE-RADIUS=500;X-TITLE=Watersportlaan 3:geo:3.7026469,51.0475487
END:VEVENT
BEGIN:VEVENT
DTSTART;TZID=Europe/Brussels:20230902T140000
DTEND;TZID=Europe/Brussels:20230902T153000
DTSTAMP:20260420T180720
CREATED:20230813T182317Z
LAST-MODIFIED:20230813T182319Z
UID:20001229-1693663200-1693668600@www.shinbugent.be
SUMMARY:Nationale training jongeren
DESCRIPTION:Vanaf 7 jaar en vanaf witte gordel
URL:https://www.shinbugent.be/event/nationale-training-jongeren/2023-09-02/
LOCATION:Complexe Gaston Reiff (Braine l’Alleud)\, Rue Ernest Laurent 210\, Braine l'Alleud\, 1420\, België
GEO:50.678249;4.3848448
X-APPLE-STRUCTURED-LOCATION;VALUE=URI;X-ADDRESS=Complexe Gaston Reiff (Braine l’Alleud) Rue Ernest Laurent 210 Braine l'Alleud 1420 België;X-APPLE-RADIUS=500;X-TITLE=Rue Ernest Laurent 210:geo:4.3848448,50.678249
END:VEVENT
BEGIN:VEVENT
DTSTART;TZID=Europe/Brussels:20230902T140000
DTEND;TZID=Europe/Brussels:20230902T153000
DTSTAMP:20260420T180720
CREATED:20230813T181857Z
LAST-MODIFIED:20230813T181859Z
UID:20001225-1693663200-1693668600@www.shinbugent.be
SUMMARY:Nationale training
DESCRIPTION:Alle graden – minimum 14 jaar
URL:https://www.shinbugent.be/event/nationale-training-10/2023-09-02/
LOCATION:Complexe Gaston Reiff (Braine l’Alleud)\, Rue Ernest Laurent 210\, Braine l'Alleud\, 1420\, België
GEO:50.678249;4.3848448
X-APPLE-STRUCTURED-LOCATION;VALUE=URI;X-ADDRESS=Complexe Gaston Reiff (Braine l’Alleud) Rue Ernest Laurent 210 Braine l'Alleud 1420 België;X-APPLE-RADIUS=500;X-TITLE=Rue Ernest Laurent 210:geo:4.3848448,50.678249
END:VEVENT
BEGIN:VEVENT
DTSTART;TZID=Europe/Brussels:20230902T100000
DTEND;TZID=Europe/Brussels:20230902T113000
DTSTAMP:20260420T180720
CREATED:20230813T144711Z
LAST-MODIFIED:20230813T144713Z
UID:20001162-1693648800-1693654200@www.shinbugent.be
SUMMARY:Clubtraining
DESCRIPTION:clubtraining voor de jeugdgroep en de groep van de volwassenen
URL:https://www.shinbugent.be/event/clubtraining-44/2023-09-02/
LOCATION:Gents Universitair sportcentrum\, Watersportlaan 3\, Gent\, 9000\, België
END:VEVENT
BEGIN:VEVENT
DTSTART;TZID=Europe/Brussels:20230831T193000
DTEND;TZID=Europe/Brussels:20230831T210000
DTSTAMP:20260420T180720
CREATED:20230813T144333Z
LAST-MODIFIED:20230813T144335Z
UID:20001157-1693510200-1693515600@www.shinbugent.be
SUMMARY:Clubtraining
DESCRIPTION:clubtraining voor de groep van volwassenen (vanaf 13 jaar)
URL:https://www.shinbugent.be/event/clubtraining-43/2023-08-31/
LOCATION:Universitair Sportcentrum (Gent)\, Watersportlaan 3\, Gent\, Oost-Vlaanderen\, 9000\, België
GEO:51.0475487;3.7026469
X-APPLE-STRUCTURED-LOCATION;VALUE=URI;X-ADDRESS=Universitair Sportcentrum (Gent) Watersportlaan 3 Gent Oost-Vlaanderen 9000 België;X-APPLE-RADIUS=500;X-TITLE=Watersportlaan 3:geo:3.7026469,51.0475487
END:VEVENT
BEGIN:VEVENT
DTSTART;TZID=Europe/Brussels:20230829T190000
DTEND;TZID=Europe/Brussels:20230829T203000
DTSTAMP:20260420T180720
CREATED:20230813T143816Z
LAST-MODIFIED:20230813T143818Z
UID:20001152-1693335600-1693341000@www.shinbugent.be
SUMMARY:Clubtraining
DESCRIPTION:clubtraining voor de groep van volwassenen (vanaf 13 jaar)
URL:https://www.shinbugent.be/event/clubtraining-42/2023-08-29/
LOCATION:Universitair Sportcentrum (Gent)\, Watersportlaan 3\, Gent\, Oost-Vlaanderen\, 9000\, België
GEO:51.0475487;3.7026469
X-APPLE-STRUCTURED-LOCATION;VALUE=URI;X-ADDRESS=Universitair Sportcentrum (Gent) Watersportlaan 3 Gent Oost-Vlaanderen 9000 België;X-APPLE-RADIUS=500;X-TITLE=Watersportlaan 3:geo:3.7026469,51.0475487
END:VEVENT
BEGIN:VEVENT
DTSTART;TZID=Europe/Brussels:20230826T100000
DTEND;TZID=Europe/Brussels:20230826T113000
DTSTAMP:20260420T180720
CREATED:20230813T143427Z
LAST-MODIFIED:20230813T143429Z
UID:20001151-1693044000-1693049400@www.shinbugent.be
SUMMARY:Clubtraining jeugd + volwassenen
DESCRIPTION:officiële start seizoen 2023-2024
URL:https://www.shinbugent.be/event/clubtraining-jeugd-volwassenen/
LOCATION:Gents Universitair sportcentrum\, Watersportlaan 3\, Gent\, 9000\, België
END:VEVENT
BEGIN:VEVENT
DTSTART;TZID=Europe/Brussels:20230824T193000
DTEND;TZID=Europe/Brussels:20230824T210000
DTSTAMP:20260420T180720
CREATED:20230813T143141Z
LAST-MODIFIED:20230813T143143Z
UID:20001150-1692905400-1692910800@www.shinbugent.be
SUMMARY:clubtraining (volwassenen)
DESCRIPTION:
URL:https://www.shinbugent.be/event/clubtraining-volwassenen-2/
LOCATION:Gents Universitair sportcentrum\, Watersportlaan 3\, Gent\, 9000\, België
END:VEVENT
BEGIN:VEVENT
DTSTART;TZID=Europe/Brussels:20230822T190000
DTEND;TZID=Europe/Brussels:20230822T203000
DTSTAMP:20260420T180720
CREATED:20230813T142652Z
LAST-MODIFIED:20230813T142653Z
UID:20001149-1692730800-1692736200@www.shinbugent.be
SUMMARY:1e clubtraining (volwassenen)
DESCRIPTION:
URL:https://www.shinbugent.be/event/1e-clubtraining-volwassenen/
LOCATION:Universitair Sportcentrum (Gent)\, Watersportlaan 3\, Gent\, Oost-Vlaanderen\, 9000\, België
GEO:51.0475487;3.7026469
X-APPLE-STRUCTURED-LOCATION;VALUE=URI;X-ADDRESS=Universitair Sportcentrum (Gent) Watersportlaan 3 Gent Oost-Vlaanderen 9000 België;X-APPLE-RADIUS=500;X-TITLE=Watersportlaan 3:geo:3.7026469,51.0475487
END:VEVENT
BEGIN:VEVENT
DTSTART;TZID=Europe/Brussels:20230630T100000
DTEND;TZID=Europe/Brussels:20230702T170000
DTSTAMP:20260420T180720
CREATED:20220819T142205Z
LAST-MODIFIED:20220819T142205Z
UID:20001007-1688119200-1688317200@www.shinbugent.be
SUMMARY:Internationale Stage Gent
DESCRIPTION:
URL:https://www.shinbugent.be/event/internationale-stage-gent/
LOCATION:Universitair Sportcentrum (Gent)\, Watersportlaan 3\, Gent\, Oost-Vlaanderen\, 9000\, België
GEO:51.0475487;3.7026469
X-APPLE-STRUCTURED-LOCATION;VALUE=URI;X-ADDRESS=Universitair Sportcentrum (Gent) Watersportlaan 3 Gent Oost-Vlaanderen 9000 België;X-APPLE-RADIUS=500;X-TITLE=Watersportlaan 3:geo:3.7026469,51.0475487
END:VEVENT
BEGIN:VEVENT
DTSTART;TZID=Europe/Brussels:20230629T193000
DTEND;TZID=Europe/Brussels:20230629T210000
DTSTAMP:20260420T180720
CREATED:20230517T144534Z
LAST-MODIFIED:20230517T144535Z
UID:20001147-1688067000-1688072400@www.shinbugent.be
SUMMARY:(laatste) Clubtraining
DESCRIPTION:laatste clubtraining van het seizoen
URL:https://www.shinbugent.be/event/laatste-clubtraining/
LOCATION:Universitair Sportcentrum (Gent)\, Watersportlaan 3\, Gent\, Oost-Vlaanderen\, 9000\, België
GEO:51.0475487;3.7026469
X-APPLE-STRUCTURED-LOCATION;VALUE=URI;X-ADDRESS=Universitair Sportcentrum (Gent) Watersportlaan 3 Gent Oost-Vlaanderen 9000 België;X-APPLE-RADIUS=500;X-TITLE=Watersportlaan 3:geo:3.7026469,51.0475487
END:VEVENT
BEGIN:VEVENT
DTSTART;TZID=Europe/Brussels:20230627T190000
DTEND;TZID=Europe/Brussels:20230627T203000
DTSTAMP:20260420T180720
CREATED:20230517T144259Z
LAST-MODIFIED:20230517T144300Z
UID:20001146-1687892400-1687897800@www.shinbugent.be
SUMMARY:Clubtraining
DESCRIPTION:
URL:https://www.shinbugent.be/event/clubtraining-38/
LOCATION:Universitair Sportcentrum (Gent)\, Watersportlaan 3\, Gent\, Oost-Vlaanderen\, 9000\, België
GEO:51.0475487;3.7026469
X-APPLE-STRUCTURED-LOCATION;VALUE=URI;X-ADDRESS=Universitair Sportcentrum (Gent) Watersportlaan 3 Gent Oost-Vlaanderen 9000 België;X-APPLE-RADIUS=500;X-TITLE=Watersportlaan 3:geo:3.7026469,51.0475487
END:VEVENT
BEGIN:VEVENT
DTSTART;TZID=Europe/Brussels:20230624T180000
DTEND;TZID=Europe/Brussels:20230625T020000
DTSTAMP:20260420T180720
CREATED:20230517T150001Z
LAST-MODIFIED:20230604T165939Z
UID:20001148-1687629600-1687658400@www.shinbugent.be
SUMMARY:Clubfeest - Shinbu BBQ
DESCRIPTION:Receptie – diner – avondfeest \n\n\n\n\n\n\n\n\n	Bericht: JavaScript is vereist voor deze inhoud.
URL:https://www.shinbugent.be/event/clubfeest/
LOCATION:Universitair Sportcentrum (Gent)\, Watersportlaan 3\, Gent\, Oost-Vlaanderen\, 9000\, België
ATTACH;FMTTYPE=image/png:https://www.shinbugent.be/wp-content/uploads/2023/06/20230604-Shinbu-BBQ.png
GEO:51.0475487;3.7026469
X-APPLE-STRUCTURED-LOCATION;VALUE=URI;X-ADDRESS=Universitair Sportcentrum (Gent) Watersportlaan 3 Gent Oost-Vlaanderen 9000 België;X-APPLE-RADIUS=500;X-TITLE=Watersportlaan 3:geo:3.7026469,51.0475487
END:VEVENT
BEGIN:VEVENT
DTSTART;TZID=Europe/Brussels:20230624T100000
DTEND;TZID=Europe/Brussels:20230624T113000
DTSTAMP:20260420T180720
CREATED:20230517T143952Z
LAST-MODIFIED:20230517T144028Z
UID:20001073-1687600800-1687606200@www.shinbugent.be
SUMMARY:Geen clubtraining!
DESCRIPTION:geen clubtraining wegens onbeschikbaarheid zaal
URL:https://www.shinbugent.be/event/clubtraining-41/
LOCATION:Universitair Sportcentrum (Gent)\, Watersportlaan 3\, Gent\, Oost-Vlaanderen\, 9000\, België
GEO:51.0475487;3.7026469
X-APPLE-STRUCTURED-LOCATION;VALUE=URI;X-ADDRESS=Universitair Sportcentrum (Gent) Watersportlaan 3 Gent Oost-Vlaanderen 9000 België;X-APPLE-RADIUS=500;X-TITLE=Watersportlaan 3:geo:3.7026469,51.0475487
END:VEVENT
BEGIN:VEVENT
DTSTART;TZID=Europe/Brussels:20230622T193000
DTEND;TZID=Europe/Brussels:20230622T210000
DTSTAMP:20260420T180720
CREATED:20220822T143054Z
LAST-MODIFIED:20220822T143055Z
UID:20001069-1687462200-1687467600@www.shinbugent.be
SUMMARY:Clubtraining
DESCRIPTION:
URL:https://www.shinbugent.be/event/clubtraining-17/2023-06-22/
LOCATION:Universitair Sportcentrum (Gent)\, Watersportlaan 3\, Gent\, Oost-Vlaanderen\, 9000\, België
GEO:51.0475487;3.7026469
X-APPLE-STRUCTURED-LOCATION;VALUE=URI;X-ADDRESS=Universitair Sportcentrum (Gent) Watersportlaan 3 Gent Oost-Vlaanderen 9000 België;X-APPLE-RADIUS=500;X-TITLE=Watersportlaan 3:geo:3.7026469,51.0475487
END:VEVENT
BEGIN:VEVENT
DTSTART;TZID=Europe/Brussels:20230620T190000
DTEND;TZID=Europe/Brussels:20230620T203000
DTSTAMP:20260420T180720
CREATED:20220822T143323Z
LAST-MODIFIED:20220822T143324Z
UID:20001076-1687287600-1687293000@www.shinbugent.be
SUMMARY:Clubtraining
DESCRIPTION:
URL:https://www.shinbugent.be/event/clubtraining-19/2023-06-20/
LOCATION:Universitair Sportcentrum (Gent)\, Watersportlaan 3\, Gent\, Oost-Vlaanderen\, 9000\, België
GEO:51.0475487;3.7026469
X-APPLE-STRUCTURED-LOCATION;VALUE=URI;X-ADDRESS=Universitair Sportcentrum (Gent) Watersportlaan 3 Gent Oost-Vlaanderen 9000 België;X-APPLE-RADIUS=500;X-TITLE=Watersportlaan 3:geo:3.7026469,51.0475487
END:VEVENT
BEGIN:VEVENT
DTSTART;TZID=Europe/Brussels:20230617T190000
DTEND;TZID=Europe/Brussels:20230617T210000
DTSTAMP:20260420T180720
CREATED:20220822T145537Z
LAST-MODIFIED:20220822T145537Z
UID:20001084-1687028400-1687035600@www.shinbugent.be
SUMMARY:Memorial S. Miyazaki
DESCRIPTION:
URL:https://www.shinbugent.be/event/memorial-s-miyazaki/
LOCATION:Complexe Gaston Reiff (Braine l’Alleud)\, Rue Ernest Laurent 210\, Braine l'Alleud\, 1420\, België
GEO:50.678249;4.3848448
X-APPLE-STRUCTURED-LOCATION;VALUE=URI;X-ADDRESS=Complexe Gaston Reiff (Braine l’Alleud) Rue Ernest Laurent 210 Braine l'Alleud 1420 België;X-APPLE-RADIUS=500;X-TITLE=Rue Ernest Laurent 210:geo:4.3848448,50.678249
END:VEVENT
BEGIN:VEVENT
DTSTART;TZID=Europe/Brussels:20230617T100000
DTEND;TZID=Europe/Brussels:20230617T113000
DTSTAMP:20260420T180720
CREATED:20230517T143556Z
LAST-MODIFIED:20230517T143700Z
UID:20001072-1686996000-1687001400@www.shinbugent.be
SUMMARY:Geen clubtraining!
DESCRIPTION:geen clubtraining wegens onbeschikbaarheid zaal
URL:https://www.shinbugent.be/event/clubtraining-40/
LOCATION:Universitair Sportcentrum (Gent)\, Watersportlaan 3\, Gent\, Oost-Vlaanderen\, 9000\, België
GEO:51.0475487;3.7026469
X-APPLE-STRUCTURED-LOCATION;VALUE=URI;X-ADDRESS=Universitair Sportcentrum (Gent) Watersportlaan 3 Gent Oost-Vlaanderen 9000 België;X-APPLE-RADIUS=500;X-TITLE=Watersportlaan 3:geo:3.7026469,51.0475487
END:VEVENT
BEGIN:VEVENT
DTSTART;TZID=Europe/Brussels:20230615T193000
DTEND;TZID=Europe/Brussels:20230615T210000
DTSTAMP:20260420T180720
CREATED:20230517T142642Z
LAST-MODIFIED:20230517T142909Z
UID:20001142-1686857400-1686862800@www.shinbugent.be
SUMMARY:geen clubtraining!
DESCRIPTION:geen clubtraining wegens onbeschikbaarheid zaal
URL:https://www.shinbugent.be/event/clubtraining-37/
LOCATION:Universitair Sportcentrum (Gent)\, Watersportlaan 3\, Gent\, Oost-Vlaanderen\, 9000\, België
GEO:51.0475487;3.7026469
X-APPLE-STRUCTURED-LOCATION;VALUE=URI;X-ADDRESS=Universitair Sportcentrum (Gent) Watersportlaan 3 Gent Oost-Vlaanderen 9000 België;X-APPLE-RADIUS=500;X-TITLE=Watersportlaan 3:geo:3.7026469,51.0475487
END:VEVENT
BEGIN:VEVENT
DTSTART;TZID=Europe/Brussels:20230613T190000
DTEND;TZID=Europe/Brussels:20230613T203000
DTSTAMP:20260420T180720
CREATED:20220822T143323Z
LAST-MODIFIED:20220822T143324Z
UID:20001075-1686682800-1686688200@www.shinbugent.be
SUMMARY:Clubtraining
DESCRIPTION:
URL:https://www.shinbugent.be/event/clubtraining-19/2023-06-13/
LOCATION:Universitair Sportcentrum (Gent)\, Watersportlaan 3\, Gent\, Oost-Vlaanderen\, 9000\, België
GEO:51.0475487;3.7026469
X-APPLE-STRUCTURED-LOCATION;VALUE=URI;X-ADDRESS=Universitair Sportcentrum (Gent) Watersportlaan 3 Gent Oost-Vlaanderen 9000 België;X-APPLE-RADIUS=500;X-TITLE=Watersportlaan 3:geo:3.7026469,51.0475487
END:VEVENT
BEGIN:VEVENT
DTSTART;TZID=Europe/Brussels:20230610T100000
DTEND;TZID=Europe/Brussels:20230610T113000
DTSTAMP:20260420T180720
CREATED:20220822T143215Z
LAST-MODIFIED:20220822T143216Z
UID:20001071-1686391200-1686396600@www.shinbugent.be
SUMMARY:Clubtraining
DESCRIPTION:
URL:https://www.shinbugent.be/event/clubtraining-18/2023-06-10/
LOCATION:Universitair Sportcentrum (Gent)\, Watersportlaan 3\, Gent\, Oost-Vlaanderen\, 9000\, België
GEO:51.0475487;3.7026469
X-APPLE-STRUCTURED-LOCATION;VALUE=URI;X-ADDRESS=Universitair Sportcentrum (Gent) Watersportlaan 3 Gent Oost-Vlaanderen 9000 België;X-APPLE-RADIUS=500;X-TITLE=Watersportlaan 3:geo:3.7026469,51.0475487
END:VEVENT
BEGIN:VEVENT
DTSTART;TZID=Europe/Brussels:20230608T193000
DTEND;TZID=Europe/Brussels:20230608T210000
DTSTAMP:20260420T180720
CREATED:20220822T143054Z
LAST-MODIFIED:20220822T143055Z
UID:20001067-1686252600-1686258000@www.shinbugent.be
SUMMARY:Clubtraining
DESCRIPTION:
URL:https://www.shinbugent.be/event/clubtraining-17/2023-06-08/
LOCATION:Universitair Sportcentrum (Gent)\, Watersportlaan 3\, Gent\, Oost-Vlaanderen\, 9000\, België
GEO:51.0475487;3.7026469
X-APPLE-STRUCTURED-LOCATION;VALUE=URI;X-ADDRESS=Universitair Sportcentrum (Gent) Watersportlaan 3 Gent Oost-Vlaanderen 9000 België;X-APPLE-RADIUS=500;X-TITLE=Watersportlaan 3:geo:3.7026469,51.0475487
END:VEVENT
BEGIN:VEVENT
DTSTART;TZID=Europe/Brussels:20230606T190000
DTEND;TZID=Europe/Brussels:20230606T203000
DTSTAMP:20260420T180720
CREATED:20221128T124633Z
LAST-MODIFIED:20221128T124634Z
UID:20001107-1686078000-1686083400@www.shinbugent.be
SUMMARY:Provinciale instructietraining
DESCRIPTION:
URL:https://www.shinbugent.be/event/provinciale-instructietraining-3/
LOCATION:Universitair Sportcentrum (Gent)\, Watersportlaan 3\, Gent\, Oost-Vlaanderen\, 9000\, België
GEO:51.0475487;3.7026469
X-APPLE-STRUCTURED-LOCATION;VALUE=URI;X-ADDRESS=Universitair Sportcentrum (Gent) Watersportlaan 3 Gent Oost-Vlaanderen 9000 België;X-APPLE-RADIUS=500;X-TITLE=Watersportlaan 3:geo:3.7026469,51.0475487
END:VEVENT
BEGIN:VEVENT
DTSTART;TZID=Europe/Brussels:20230606T190000
DTEND;TZID=Europe/Brussels:20230606T203000
DTSTAMP:20260420T180720
CREATED:20220822T143323Z
LAST-MODIFIED:20220822T143324Z
UID:20001074-1686078000-1686083400@www.shinbugent.be
SUMMARY:Clubtraining
DESCRIPTION:
URL:https://www.shinbugent.be/event/clubtraining-19/2023-06-06/
LOCATION:Universitair Sportcentrum (Gent)\, Watersportlaan 3\, Gent\, Oost-Vlaanderen\, 9000\, België
GEO:51.0475487;3.7026469
X-APPLE-STRUCTURED-LOCATION;VALUE=URI;X-ADDRESS=Universitair Sportcentrum (Gent) Watersportlaan 3 Gent Oost-Vlaanderen 9000 België;X-APPLE-RADIUS=500;X-TITLE=Watersportlaan 3:geo:3.7026469,51.0475487
END:VEVENT
BEGIN:VEVENT
DTSTART;TZID=Europe/Brussels:20230603T140000
DTEND;TZID=Europe/Brussels:20230603T153000
DTSTAMP:20260420T180720
CREATED:20220819T142023Z
LAST-MODIFIED:20220819T142024Z
UID:20001006-1685800800-1685806200@www.shinbugent.be
SUMMARY:Nationale training
DESCRIPTION:
URL:https://www.shinbugent.be/event/nationale-training-12/
LOCATION:Complexe Gaston Reiff (Braine l’Alleud)\, Rue Ernest Laurent 210\, Braine l'Alleud\, 1420\, België
GEO:50.678249;4.3848448
X-APPLE-STRUCTURED-LOCATION;VALUE=URI;X-ADDRESS=Complexe Gaston Reiff (Braine l’Alleud) Rue Ernest Laurent 210 Braine l'Alleud 1420 België;X-APPLE-RADIUS=500;X-TITLE=Rue Ernest Laurent 210:geo:4.3848448,50.678249
END:VEVENT
BEGIN:VEVENT
DTSTART;TZID=Europe/Brussels:20230603T100000
DTEND;TZID=Europe/Brussels:20230603T113000
DTSTAMP:20260420T180720
CREATED:20220822T143215Z
LAST-MODIFIED:20220822T143216Z
UID:20001070-1685786400-1685791800@www.shinbugent.be
SUMMARY:Clubtraining
DESCRIPTION:
URL:https://www.shinbugent.be/event/clubtraining-18/2023-06-03/
LOCATION:Universitair Sportcentrum (Gent)\, Watersportlaan 3\, Gent\, Oost-Vlaanderen\, 9000\, België
GEO:51.0475487;3.7026469
X-APPLE-STRUCTURED-LOCATION;VALUE=URI;X-ADDRESS=Universitair Sportcentrum (Gent) Watersportlaan 3 Gent Oost-Vlaanderen 9000 België;X-APPLE-RADIUS=500;X-TITLE=Watersportlaan 3:geo:3.7026469,51.0475487
END:VEVENT
END:VCALENDAR