BEGIN:VCALENDAR
VERSION:2.0
PRODID:-//Shinbu Gent - ECPv6.15.18//NONSGML v1.0//EN
CALSCALE:GREGORIAN
METHOD:PUBLISH
X-WR-CALNAME:Shinbu Gent
X-ORIGINAL-URL:https://www.shinbugent.be
X-WR-CALDESC:Evenementen voor Shinbu Gent
REFRESH-INTERVAL;VALUE=DURATION:PT1H
X-Robots-Tag:noindex
X-PUBLISHED-TTL:PT1H
BEGIN:VTIMEZONE
TZID:Europe/Brussels
BEGIN:DAYLIGHT
TZOFFSETFROM:+0100
TZOFFSETTO:+0200
TZNAME:CEST
DTSTART:20220327T010000
END:DAYLIGHT
BEGIN:STANDARD
TZOFFSETFROM:+0200
TZOFFSETTO:+0100
TZNAME:CET
DTSTART:20221030T010000
END:STANDARD
BEGIN:DAYLIGHT
TZOFFSETFROM:+0100
TZOFFSETTO:+0200
TZNAME:CEST
DTSTART:20230326T010000
END:DAYLIGHT
BEGIN:STANDARD
TZOFFSETFROM:+0200
TZOFFSETTO:+0100
TZNAME:CET
DTSTART:20231029T010000
END:STANDARD
BEGIN:DAYLIGHT
TZOFFSETFROM:+0100
TZOFFSETTO:+0200
TZNAME:CEST
DTSTART:20240331T010000
END:DAYLIGHT
BEGIN:STANDARD
TZOFFSETFROM:+0200
TZOFFSETTO:+0100
TZNAME:CET
DTSTART:20241027T010000
END:STANDARD
END:VTIMEZONE
BEGIN:VEVENT
DTSTART;TZID=Europe/Brussels:20230211T103000
DTEND;TZID=Europe/Brussels:20230211T120000
DTSTAMP:20260420T073027
CREATED:20230109T145734Z
LAST-MODIFIED:20230109T145735Z
UID:20001019-1676111400-1676116800@www.shinbugent.be
SUMMARY:Clubtraining volwassenen
DESCRIPTION:tijdelijke aanpassing trainingsuren
URL:https://www.shinbugent.be/event/clubtraining-30/
LOCATION:Universitair Sportcentrum (Gent)\, Watersportlaan 3\, Gent\, Oost-Vlaanderen\, 9000\, België
GEO:51.0475487;3.7026469
X-APPLE-STRUCTURED-LOCATION;VALUE=URI;X-ADDRESS=Universitair Sportcentrum (Gent) Watersportlaan 3 Gent Oost-Vlaanderen 9000 België;X-APPLE-RADIUS=500;X-TITLE=Watersportlaan 3:geo:3.7026469,51.0475487
END:VEVENT
BEGIN:VEVENT
DTSTART;TZID=Europe/Brussels:20230211T090000
DTEND;TZID=Europe/Brussels:20230211T103000
DTSTAMP:20260420T073027
CREATED:20230109T150232Z
LAST-MODIFIED:20230109T150234Z
UID:20001132-1676106000-1676111400@www.shinbugent.be
SUMMARY:Clubtraining jeugd
DESCRIPTION:tijdelijke aanpassing trainingsuren jeugd
URL:https://www.shinbugent.be/event/clubtraining-jeugd/2023-02-11/
LOCATION:Universitair Sportcentrum (Gent)\, Watersportlaan 3\, Gent\, Oost-Vlaanderen\, 9000\, België
GEO:51.0475487;3.7026469
X-APPLE-STRUCTURED-LOCATION;VALUE=URI;X-ADDRESS=Universitair Sportcentrum (Gent) Watersportlaan 3 Gent Oost-Vlaanderen 9000 België;X-APPLE-RADIUS=500;X-TITLE=Watersportlaan 3:geo:3.7026469,51.0475487
END:VEVENT
BEGIN:VEVENT
DTSTART;TZID=Europe/Brussels:20230209T193000
DTEND;TZID=Europe/Brussels:20230209T210000
DTSTAMP:20260420T073027
CREATED:20221231T150653Z
LAST-MODIFIED:20221231T150654Z
UID:20001126-1675971000-1675976400@www.shinbugent.be
SUMMARY:Club-competitietraining
DESCRIPTION:
URL:https://www.shinbugent.be/event/club-competitietraining-10/
LOCATION:Universitair Sportcentrum (Gent)\, Watersportlaan 3\, Gent\, Oost-Vlaanderen\, 9000\, België
GEO:51.0475487;3.7026469
X-APPLE-STRUCTURED-LOCATION;VALUE=URI;X-ADDRESS=Universitair Sportcentrum (Gent) Watersportlaan 3 Gent Oost-Vlaanderen 9000 België;X-APPLE-RADIUS=500;X-TITLE=Watersportlaan 3:geo:3.7026469,51.0475487
END:VEVENT
BEGIN:VEVENT
DTSTART;TZID=Europe/Brussels:20230209T193000
DTEND;TZID=Europe/Brussels:20230209T210000
DTSTAMP:20260420T073027
CREATED:20220822T141309Z
LAST-MODIFIED:20220822T141309Z
UID:20001027-1675971000-1675976400@www.shinbugent.be
SUMMARY:Clubtraining
DESCRIPTION:
URL:https://www.shinbugent.be/event/clubtraining-7/2023-02-09/
LOCATION:Universitair Sportcentrum (Gent)\, Watersportlaan 3\, Gent\, Oost-Vlaanderen\, 9000\, België
GEO:51.0475487;3.7026469
X-APPLE-STRUCTURED-LOCATION;VALUE=URI;X-ADDRESS=Universitair Sportcentrum (Gent) Watersportlaan 3 Gent Oost-Vlaanderen 9000 België;X-APPLE-RADIUS=500;X-TITLE=Watersportlaan 3:geo:3.7026469,51.0475487
END:VEVENT
BEGIN:VEVENT
DTSTART;TZID=Europe/Brussels:20230207T190000
DTEND;TZID=Europe/Brussels:20230207T203000
DTSTAMP:20260420T073027
CREATED:20221128T123824Z
LAST-MODIFIED:20221128T123825Z
UID:20001103-1675796400-1675801800@www.shinbugent.be
SUMMARY:Provinciale instructietraining
DESCRIPTION:
URL:https://www.shinbugent.be/event/provinciale-instructietraining-2/
LOCATION:Universitair Sportcentrum (Gent)\, Watersportlaan 3\, Gent\, Oost-Vlaanderen\, 9000\, België
GEO:51.0475487;3.7026469
X-APPLE-STRUCTURED-LOCATION;VALUE=URI;X-ADDRESS=Universitair Sportcentrum (Gent) Watersportlaan 3 Gent Oost-Vlaanderen 9000 België;X-APPLE-RADIUS=500;X-TITLE=Watersportlaan 3:geo:3.7026469,51.0475487
END:VEVENT
BEGIN:VEVENT
DTSTART;TZID=Europe/Brussels:20230207T190000
DTEND;TZID=Europe/Brussels:20230207T203000
DTSTAMP:20260420T073027
CREATED:20220822T141203Z
LAST-MODIFIED:20220822T141204Z
UID:20001022-1675796400-1675801800@www.shinbugent.be
SUMMARY:Clubtraining
DESCRIPTION:
URL:https://www.shinbugent.be/event/clubtraining-6/2023-02-07/
LOCATION:Universitair Sportcentrum (Gent)\, Watersportlaan 3\, Gent\, Oost-Vlaanderen\, 9000\, België
GEO:51.0475487;3.7026469
X-APPLE-STRUCTURED-LOCATION;VALUE=URI;X-ADDRESS=Universitair Sportcentrum (Gent) Watersportlaan 3 Gent Oost-Vlaanderen 9000 België;X-APPLE-RADIUS=500;X-TITLE=Watersportlaan 3:geo:3.7026469,51.0475487
END:VEVENT
BEGIN:VEVENT
DTSTART;TZID=Europe/Brussels:20230204T140000
DTEND;TZID=Europe/Brussels:20230204T153000
DTSTAMP:20260420T073027
CREATED:20220819T140223Z
LAST-MODIFIED:20220819T140224Z
UID:20000996-1675519200-1675524600@www.shinbugent.be
SUMMARY:Nationale training
DESCRIPTION:
URL:https://www.shinbugent.be/event/nationale-training-8/
LOCATION:Complexe Gaston Reiff (Braine l’Alleud)\, Rue Ernest Laurent 210\, Braine l'Alleud\, 1420\, België
GEO:50.678249;4.3848448
X-APPLE-STRUCTURED-LOCATION;VALUE=URI;X-ADDRESS=Complexe Gaston Reiff (Braine l’Alleud) Rue Ernest Laurent 210 Braine l'Alleud 1420 België;X-APPLE-RADIUS=500;X-TITLE=Rue Ernest Laurent 210:geo:4.3848448,50.678249
END:VEVENT
BEGIN:VEVENT
DTSTART;TZID=Europe/Brussels:20230204T103000
DTEND;TZID=Europe/Brussels:20230204T120000
DTSTAMP:20260420T073027
CREATED:20221231T150434Z
LAST-MODIFIED:20230109T145544Z
UID:20001099-1675506600-1675512000@www.shinbugent.be
SUMMARY:Clubtraining volwassenen - defence training
DESCRIPTION:tijdelijke aanpassing trainingsuren
URL:https://www.shinbugent.be/event/clubtraining-24/
LOCATION:Universitair Sportcentrum (Gent)\, Watersportlaan 3\, Gent\, Oost-Vlaanderen\, 9000\, België
GEO:51.0475487;3.7026469
X-APPLE-STRUCTURED-LOCATION;VALUE=URI;X-ADDRESS=Universitair Sportcentrum (Gent) Watersportlaan 3 Gent Oost-Vlaanderen 9000 België;X-APPLE-RADIUS=500;X-TITLE=Watersportlaan 3:geo:3.7026469,51.0475487
END:VEVENT
BEGIN:VEVENT
DTSTART;TZID=Europe/Brussels:20230204T090000
DTEND;TZID=Europe/Brussels:20230204T103000
DTSTAMP:20260420T073027
CREATED:20230109T150232Z
LAST-MODIFIED:20230109T150234Z
UID:20001131-1675501200-1675506600@www.shinbugent.be
SUMMARY:Clubtraining jeugd
DESCRIPTION:tijdelijke aanpassing trainingsuren jeugd
URL:https://www.shinbugent.be/event/clubtraining-jeugd/2023-02-04/
LOCATION:Universitair Sportcentrum (Gent)\, Watersportlaan 3\, Gent\, Oost-Vlaanderen\, 9000\, België
GEO:51.0475487;3.7026469
X-APPLE-STRUCTURED-LOCATION;VALUE=URI;X-ADDRESS=Universitair Sportcentrum (Gent) Watersportlaan 3 Gent Oost-Vlaanderen 9000 België;X-APPLE-RADIUS=500;X-TITLE=Watersportlaan 3:geo:3.7026469,51.0475487
END:VEVENT
BEGIN:VEVENT
DTSTART;TZID=Europe/Brussels:20230202T193000
DTEND;TZID=Europe/Brussels:20230202T210000
DTSTAMP:20260420T073027
CREATED:20220822T141309Z
LAST-MODIFIED:20220822T141309Z
UID:20001026-1675366200-1675371600@www.shinbugent.be
SUMMARY:Clubtraining
DESCRIPTION:
URL:https://www.shinbugent.be/event/clubtraining-7/2023-02-02/
LOCATION:Universitair Sportcentrum (Gent)\, Watersportlaan 3\, Gent\, Oost-Vlaanderen\, 9000\, België
GEO:51.0475487;3.7026469
X-APPLE-STRUCTURED-LOCATION;VALUE=URI;X-ADDRESS=Universitair Sportcentrum (Gent) Watersportlaan 3 Gent Oost-Vlaanderen 9000 België;X-APPLE-RADIUS=500;X-TITLE=Watersportlaan 3:geo:3.7026469,51.0475487
END:VEVENT
BEGIN:VEVENT
DTSTART;TZID=Europe/Brussels:20230131T190000
DTEND;TZID=Europe/Brussels:20230131T203000
DTSTAMP:20260420T073027
CREATED:20220929T060120Z
LAST-MODIFIED:20220929T060120Z
UID:20001012-1675191600-1675197000@www.shinbugent.be
SUMMARY:Clubtraining
DESCRIPTION:
URL:https://www.shinbugent.be/event/clubtraining-4/2023-01-31/
LOCATION:Universitair Sportcentrum (Gent)\, Watersportlaan 3\, Gent\, Oost-Vlaanderen\, 9000\, België
GEO:51.0475487;3.7026469
X-APPLE-STRUCTURED-LOCATION;VALUE=URI;X-ADDRESS=Universitair Sportcentrum (Gent) Watersportlaan 3 Gent Oost-Vlaanderen 9000 België;X-APPLE-RADIUS=500;X-TITLE=Watersportlaan 3:geo:3.7026469,51.0475487
END:VEVENT
BEGIN:VEVENT
DTSTART;TZID=Europe/Brussels:20230129T090000
DTEND;TZID=Europe/Brussels:20230129T180000
DTSTAMP:20260420T073027
CREATED:20220822T144330Z
LAST-MODIFIED:20220822T144331Z
UID:20001079-1674982800-1675015200@www.shinbugent.be
SUMMARY:Oost-Vlaams kampioenschap
DESCRIPTION:
URL:https://www.shinbugent.be/event/oost-vlaams-kampioenschap/
END:VEVENT
BEGIN:VEVENT
DTSTART;TZID=Europe/Brussels:20230128T133000
DTEND;TZID=Europe/Brussels:20230128T173000
DTSTAMP:20260420T073027
CREATED:20220802T112820Z
LAST-MODIFIED:20220802T112821Z
UID:20000986-1674912600-1674927000@www.shinbugent.be
SUMMARY:JOW 6 - Assenede
DESCRIPTION:
URL:https://www.shinbugent.be/event/jow-6-assenede/
LOCATION:Gemeentelijke Sporthal (Assenede)\, Kapelledreef 4\, Assenede\, Oost-Vlaanderen\, 9960\, België
GEO:51.2303427;3.7493673
X-APPLE-STRUCTURED-LOCATION;VALUE=URI;X-ADDRESS=Gemeentelijke Sporthal (Assenede) Kapelledreef 4 Assenede Oost-Vlaanderen 9960 België;X-APPLE-RADIUS=500;X-TITLE=Kapelledreef 4:geo:3.7493673,51.2303427
END:VEVENT
BEGIN:VEVENT
DTSTART;TZID=Europe/Brussels:20230128T103000
DTEND;TZID=Europe/Brussels:20230128T120000
DTSTAMP:20260420T073027
CREATED:20230109T145206Z
LAST-MODIFIED:20230109T145207Z
UID:20001098-1674901800-1674907200@www.shinbugent.be
SUMMARY:Clubtraining volwassenen
DESCRIPTION:tijdelijke aanpassing trainingsuren
URL:https://www.shinbugent.be/event/clubtraining-29/
LOCATION:Universitair Sportcentrum (Gent)\, Watersportlaan 3\, Gent\, Oost-Vlaanderen\, 9000\, België
GEO:51.0475487;3.7026469
X-APPLE-STRUCTURED-LOCATION;VALUE=URI;X-ADDRESS=Universitair Sportcentrum (Gent) Watersportlaan 3 Gent Oost-Vlaanderen 9000 België;X-APPLE-RADIUS=500;X-TITLE=Watersportlaan 3:geo:3.7026469,51.0475487
END:VEVENT
BEGIN:VEVENT
DTSTART;TZID=Europe/Brussels:20230128T090000
DTEND;TZID=Europe/Brussels:20230128T103000
DTSTAMP:20260420T073027
CREATED:20230109T150232Z
LAST-MODIFIED:20230109T150234Z
UID:20001130-1674896400-1674901800@www.shinbugent.be
SUMMARY:Clubtraining jeugd
DESCRIPTION:tijdelijke aanpassing trainingsuren jeugd
URL:https://www.shinbugent.be/event/clubtraining-jeugd/2023-01-28/
LOCATION:Universitair Sportcentrum (Gent)\, Watersportlaan 3\, Gent\, Oost-Vlaanderen\, 9000\, België
GEO:51.0475487;3.7026469
X-APPLE-STRUCTURED-LOCATION;VALUE=URI;X-ADDRESS=Universitair Sportcentrum (Gent) Watersportlaan 3 Gent Oost-Vlaanderen 9000 België;X-APPLE-RADIUS=500;X-TITLE=Watersportlaan 3:geo:3.7026469,51.0475487
END:VEVENT
BEGIN:VEVENT
DTSTART;TZID=Europe/Brussels:20230126T193000
DTEND;TZID=Europe/Brussels:20230126T210000
DTSTAMP:20260420T073027
CREATED:20221231T150227Z
LAST-MODIFIED:20221231T150228Z
UID:20001125-1674761400-1674766800@www.shinbugent.be
SUMMARY:Club-competitietraining
DESCRIPTION:
URL:https://www.shinbugent.be/event/club-competitietraining-9/
LOCATION:Universitair Sportcentrum (Gent)\, Watersportlaan 3\, Gent\, Oost-Vlaanderen\, 9000\, België
GEO:51.0475487;3.7026469
X-APPLE-STRUCTURED-LOCATION;VALUE=URI;X-ADDRESS=Universitair Sportcentrum (Gent) Watersportlaan 3 Gent Oost-Vlaanderen 9000 België;X-APPLE-RADIUS=500;X-TITLE=Watersportlaan 3:geo:3.7026469,51.0475487
END:VEVENT
BEGIN:VEVENT
DTSTART;TZID=Europe/Brussels:20230126T193000
DTEND;TZID=Europe/Brussels:20230126T210000
DTSTAMP:20260420T073027
CREATED:20221128T123031Z
LAST-MODIFIED:20221128T123032Z
UID:20001101-1674761400-1674766800@www.shinbugent.be
SUMMARY:Clubtraining
DESCRIPTION:
URL:https://www.shinbugent.be/event/clubtraining-23/2023-01-26/
LOCATION:Universitair Sportcentrum (Gent)\, Watersportlaan 3\, Gent\, Oost-Vlaanderen\, 9000\, België
GEO:51.0475487;3.7026469
X-APPLE-STRUCTURED-LOCATION;VALUE=URI;X-ADDRESS=Universitair Sportcentrum (Gent) Watersportlaan 3 Gent Oost-Vlaanderen 9000 België;X-APPLE-RADIUS=500;X-TITLE=Watersportlaan 3:geo:3.7026469,51.0475487
END:VEVENT
BEGIN:VEVENT
DTSTART;TZID=Europe/Brussels:20230124T190000
DTEND;TZID=Europe/Brussels:20230124T203000
DTSTAMP:20260420T073027
CREATED:20221231T150939Z
LAST-MODIFIED:20221231T150940Z
UID:20001011-1674586800-1674592200@www.shinbugent.be
SUMMARY:Clubtraining - gastles
DESCRIPTION:
URL:https://www.shinbugent.be/event/clubtraining-25/
LOCATION:Universitair Sportcentrum (Gent)\, Watersportlaan 3\, Gent\, Oost-Vlaanderen\, 9000\, België
GEO:51.0475487;3.7026469
X-APPLE-STRUCTURED-LOCATION;VALUE=URI;X-ADDRESS=Universitair Sportcentrum (Gent) Watersportlaan 3 Gent Oost-Vlaanderen 9000 België;X-APPLE-RADIUS=500;X-TITLE=Watersportlaan 3:geo:3.7026469,51.0475487
END:VEVENT
BEGIN:VEVENT
DTSTART;TZID=Europe/Brussels:20230121T103000
DTEND;TZID=Europe/Brussels:20230121T120000
DTSTAMP:20260420T073027
CREATED:20230109T145038Z
LAST-MODIFIED:20230109T145040Z
UID:20001097-1674297000-1674302400@www.shinbugent.be
SUMMARY:Clubtraining volwassenen
DESCRIPTION:tijdelijke aanpassing trainingsuren
URL:https://www.shinbugent.be/event/clubtraining-28/
LOCATION:Universitair Sportcentrum (Gent)\, Watersportlaan 3\, Gent\, Oost-Vlaanderen\, 9000\, België
GEO:51.0475487;3.7026469
X-APPLE-STRUCTURED-LOCATION;VALUE=URI;X-ADDRESS=Universitair Sportcentrum (Gent) Watersportlaan 3 Gent Oost-Vlaanderen 9000 België;X-APPLE-RADIUS=500;X-TITLE=Watersportlaan 3:geo:3.7026469,51.0475487
END:VEVENT
BEGIN:VEVENT
DTSTART;TZID=Europe/Brussels:20230121T090000
DTEND;TZID=Europe/Brussels:20230121T103000
DTSTAMP:20260420T073027
CREATED:20230109T150232Z
LAST-MODIFIED:20230109T150234Z
UID:20001129-1674291600-1674297000@www.shinbugent.be
SUMMARY:Clubtraining jeugd
DESCRIPTION:tijdelijke aanpassing trainingsuren jeugd
URL:https://www.shinbugent.be/event/clubtraining-jeugd/2023-01-21/
LOCATION:Universitair Sportcentrum (Gent)\, Watersportlaan 3\, Gent\, Oost-Vlaanderen\, 9000\, België
GEO:51.0475487;3.7026469
X-APPLE-STRUCTURED-LOCATION;VALUE=URI;X-ADDRESS=Universitair Sportcentrum (Gent) Watersportlaan 3 Gent Oost-Vlaanderen 9000 België;X-APPLE-RADIUS=500;X-TITLE=Watersportlaan 3:geo:3.7026469,51.0475487
END:VEVENT
BEGIN:VEVENT
DTSTART;TZID=Europe/Brussels:20230119T193000
DTEND;TZID=Europe/Brussels:20230119T210000
DTSTAMP:20260420T073027
CREATED:20221130T173324Z
LAST-MODIFIED:20221130T173325Z
UID:20001112-1674156600-1674162000@www.shinbugent.be
SUMMARY:Ippon competitietraining
DESCRIPTION:vanaf graad 3de kyu
URL:https://www.shinbugent.be/event/ippon-competitietraining/
LOCATION:Universitair Sportcentrum (Gent)\, Watersportlaan 3\, Gent\, Oost-Vlaanderen\, 9000\, België
GEO:51.0475487;3.7026469
X-APPLE-STRUCTURED-LOCATION;VALUE=URI;X-ADDRESS=Universitair Sportcentrum (Gent) Watersportlaan 3 Gent Oost-Vlaanderen 9000 België;X-APPLE-RADIUS=500;X-TITLE=Watersportlaan 3:geo:3.7026469,51.0475487
END:VEVENT
BEGIN:VEVENT
DTSTART;TZID=Europe/Brussels:20230119T193000
DTEND;TZID=Europe/Brussels:20230119T210000
DTSTAMP:20260420T073027
CREATED:20221128T123031Z
LAST-MODIFIED:20221128T123032Z
UID:20001100-1674156600-1674162000@www.shinbugent.be
SUMMARY:Clubtraining
DESCRIPTION:
URL:https://www.shinbugent.be/event/clubtraining-23/2023-01-19/
LOCATION:Universitair Sportcentrum (Gent)\, Watersportlaan 3\, Gent\, Oost-Vlaanderen\, 9000\, België
GEO:51.0475487;3.7026469
X-APPLE-STRUCTURED-LOCATION;VALUE=URI;X-ADDRESS=Universitair Sportcentrum (Gent) Watersportlaan 3 Gent Oost-Vlaanderen 9000 België;X-APPLE-RADIUS=500;X-TITLE=Watersportlaan 3:geo:3.7026469,51.0475487
END:VEVENT
BEGIN:VEVENT
DTSTART;TZID=Europe/Brussels:20230117T190000
DTEND;TZID=Europe/Brussels:20230117T203000
DTSTAMP:20260420T073027
CREATED:20220929T060120Z
LAST-MODIFIED:20220929T060120Z
UID:20001010-1673982000-1673987400@www.shinbugent.be
SUMMARY:Clubtraining
DESCRIPTION:
URL:https://www.shinbugent.be/event/clubtraining-4/2023-01-17/
LOCATION:Universitair Sportcentrum (Gent)\, Watersportlaan 3\, Gent\, Oost-Vlaanderen\, 9000\, België
GEO:51.0475487;3.7026469
X-APPLE-STRUCTURED-LOCATION;VALUE=URI;X-ADDRESS=Universitair Sportcentrum (Gent) Watersportlaan 3 Gent Oost-Vlaanderen 9000 België;X-APPLE-RADIUS=500;X-TITLE=Watersportlaan 3:geo:3.7026469,51.0475487
END:VEVENT
BEGIN:VEVENT
DTSTART;TZID=Europe/Brussels:20230114T143000
DTEND;TZID=Europe/Brussels:20230114T180000
DTSTAMP:20260420T073027
CREATED:20220802T112627Z
LAST-MODIFIED:20220802T112628Z
UID:20000985-1673706600-1673719200@www.shinbugent.be
SUMMARY:JOW 5 - Lede
DESCRIPTION:
URL:https://www.shinbugent.be/event/jow-5-lede/
LOCATION:Sportcomplex De Ommegang (Lede)\, Ommeganglaan 60 A\, Lede\, Oost-Vlaanderen\, 9340\, België
GEO:50.9591145;3.9780411
X-APPLE-STRUCTURED-LOCATION;VALUE=URI;X-ADDRESS=Sportcomplex De Ommegang (Lede) Ommeganglaan 60 A Lede Oost-Vlaanderen 9340 België;X-APPLE-RADIUS=500;X-TITLE=Ommeganglaan 60 A:geo:3.9780411,50.9591145
END:VEVENT
BEGIN:VEVENT
DTSTART;TZID=Europe/Brussels:20230114T103000
DTEND;TZID=Europe/Brussels:20230114T120000
DTSTAMP:20260420T073027
CREATED:20230109T144830Z
LAST-MODIFIED:20230109T144831Z
UID:20001014-1673692200-1673697600@www.shinbugent.be
SUMMARY:Clubtraining volwassenen
DESCRIPTION:tijdelijke aanpassing trainingsuren
URL:https://www.shinbugent.be/event/clubtraining-27/
LOCATION:Universitair Sportcentrum (Gent)\, Watersportlaan 3\, Gent\, Oost-Vlaanderen\, 9000\, België
GEO:51.0475487;3.7026469
X-APPLE-STRUCTURED-LOCATION;VALUE=URI;X-ADDRESS=Universitair Sportcentrum (Gent) Watersportlaan 3 Gent Oost-Vlaanderen 9000 België;X-APPLE-RADIUS=500;X-TITLE=Watersportlaan 3:geo:3.7026469,51.0475487
END:VEVENT
BEGIN:VEVENT
DTSTART;TZID=Europe/Brussels:20230114T090000
DTEND;TZID=Europe/Brussels:20230114T103000
DTSTAMP:20260420T073027
CREATED:20230109T150232Z
LAST-MODIFIED:20230109T150234Z
UID:20001128-1673686800-1673692200@www.shinbugent.be
SUMMARY:Clubtraining jeugd
DESCRIPTION:tijdelijke aanpassing trainingsuren jeugd
URL:https://www.shinbugent.be/event/clubtraining-jeugd/2023-01-14/
LOCATION:Universitair Sportcentrum (Gent)\, Watersportlaan 3\, Gent\, Oost-Vlaanderen\, 9000\, België
GEO:51.0475487;3.7026469
X-APPLE-STRUCTURED-LOCATION;VALUE=URI;X-ADDRESS=Universitair Sportcentrum (Gent) Watersportlaan 3 Gent Oost-Vlaanderen 9000 België;X-APPLE-RADIUS=500;X-TITLE=Watersportlaan 3:geo:3.7026469,51.0475487
END:VEVENT
BEGIN:VEVENT
DTSTART;TZID=Europe/Brussels:20230112T193000
DTEND;TZID=Europe/Brussels:20230112T210000
DTSTAMP:20260420T073027
CREATED:20221128T123635Z
LAST-MODIFIED:20221128T123636Z
UID:20001102-1673551800-1673557200@www.shinbugent.be
SUMMARY:Provinciale training
DESCRIPTION:
URL:https://www.shinbugent.be/event/provinciale-training-8/
LOCATION:Universitair Sportcentrum (Gent)\, Watersportlaan 3\, Gent\, Oost-Vlaanderen\, 9000\, België
GEO:51.0475487;3.7026469
X-APPLE-STRUCTURED-LOCATION;VALUE=URI;X-ADDRESS=Universitair Sportcentrum (Gent) Watersportlaan 3 Gent Oost-Vlaanderen 9000 België;X-APPLE-RADIUS=500;X-TITLE=Watersportlaan 3:geo:3.7026469,51.0475487
END:VEVENT
BEGIN:VEVENT
DTSTART;TZID=Europe/Brussels:20230112T193000
DTEND;TZID=Europe/Brussels:20230112T210000
DTSTAMP:20260420T073027
CREATED:20220929T060120Z
LAST-MODIFIED:20220929T060120Z
UID:20001013-1673551800-1673557200@www.shinbugent.be
SUMMARY:Clubtraining
DESCRIPTION:
URL:https://www.shinbugent.be/event/clubtraining-4/
LOCATION:Universitair Sportcentrum (Gent)\, Watersportlaan 3\, Gent\, Oost-Vlaanderen\, 9000\, België
GEO:51.0475487;3.7026469
X-APPLE-STRUCTURED-LOCATION;VALUE=URI;X-ADDRESS=Universitair Sportcentrum (Gent) Watersportlaan 3 Gent Oost-Vlaanderen 9000 België;X-APPLE-RADIUS=500;X-TITLE=Watersportlaan 3:geo:3.7026469,51.0475487
END:VEVENT
BEGIN:VEVENT
DTSTART;TZID=Europe/Brussels:20230110T190000
DTEND;TZID=Europe/Brussels:20230110T203000
DTSTAMP:20260420T073027
CREATED:20221231T145616Z
LAST-MODIFIED:20221231T145618Z
UID:20001124-1673377200-1673382600@www.shinbugent.be
SUMMARY:Club-competitietraining
DESCRIPTION:
URL:https://www.shinbugent.be/event/club-competitietraining-8/
LOCATION:Universitair Sportcentrum (Gent)\, Watersportlaan 3\, Gent\, Oost-Vlaanderen\, 9000\, België
GEO:51.0475487;3.7026469
X-APPLE-STRUCTURED-LOCATION;VALUE=URI;X-ADDRESS=Universitair Sportcentrum (Gent) Watersportlaan 3 Gent Oost-Vlaanderen 9000 België;X-APPLE-RADIUS=500;X-TITLE=Watersportlaan 3:geo:3.7026469,51.0475487
END:VEVENT
BEGIN:VEVENT
DTSTART;TZID=Europe/Brussels:20230110T190000
DTEND;TZID=Europe/Brussels:20230110T203000
DTSTAMP:20260420T073027
CREATED:20220929T060120Z
LAST-MODIFIED:20220929T060120Z
UID:20001009-1673377200-1673382600@www.shinbugent.be
SUMMARY:Clubtraining
DESCRIPTION:
URL:https://www.shinbugent.be/event/clubtraining-4/2023-01-10/
LOCATION:Universitair Sportcentrum (Gent)\, Watersportlaan 3\, Gent\, Oost-Vlaanderen\, 9000\, België
GEO:51.0475487;3.7026469
X-APPLE-STRUCTURED-LOCATION;VALUE=URI;X-ADDRESS=Universitair Sportcentrum (Gent) Watersportlaan 3 Gent Oost-Vlaanderen 9000 België;X-APPLE-RADIUS=500;X-TITLE=Watersportlaan 3:geo:3.7026469,51.0475487
END:VEVENT
END:VCALENDAR