BEGIN:VCALENDAR
VERSION:2.0
PRODID:-//Shinbu Gent - ECPv6.15.18//NONSGML v1.0//EN
CALSCALE:GREGORIAN
METHOD:PUBLISH
X-WR-CALNAME:Shinbu Gent
X-ORIGINAL-URL:https://www.shinbugent.be
X-WR-CALDESC:Evenementen voor Shinbu Gent
REFRESH-INTERVAL;VALUE=DURATION:PT1H
X-Robots-Tag:noindex
X-PUBLISHED-TTL:PT1H
BEGIN:VTIMEZONE
TZID:Europe/Brussels
BEGIN:DAYLIGHT
TZOFFSETFROM:+0100
TZOFFSETTO:+0200
TZNAME:CEST
DTSTART:20250330T010000
END:DAYLIGHT
BEGIN:STANDARD
TZOFFSETFROM:+0200
TZOFFSETTO:+0100
TZNAME:CET
DTSTART:20251026T010000
END:STANDARD
BEGIN:DAYLIGHT
TZOFFSETFROM:+0100
TZOFFSETTO:+0200
TZNAME:CEST
DTSTART:20260329T010000
END:DAYLIGHT
BEGIN:STANDARD
TZOFFSETFROM:+0200
TZOFFSETTO:+0100
TZNAME:CET
DTSTART:20261025T010000
END:STANDARD
BEGIN:DAYLIGHT
TZOFFSETFROM:+0100
TZOFFSETTO:+0200
TZNAME:CEST
DTSTART:20270328T010000
END:DAYLIGHT
BEGIN:STANDARD
TZOFFSETFROM:+0200
TZOFFSETTO:+0100
TZNAME:CET
DTSTART:20271031T010000
END:STANDARD
END:VTIMEZONE
BEGIN:VEVENT
DTSTART;TZID=Europe/Brussels:20260421T190000
DTEND;TZID=Europe/Brussels:20260421T200000
DTSTAMP:20260420T200029
CREATED:20260420T130527Z
LAST-MODIFIED:20260420T130529Z
UID:20001914-1776798000-1776801600@www.shinbugent.be
SUMMARY:Clubtraining jeugd
DESCRIPTION:
URL:https://www.shinbugent.be/event/clubtraining-jeugd-11/2026-04-21/
LOCATION:Universitair Sportcentrum (Gent)\, Watersportlaan 3\, Gent\, Oost-Vlaanderen\, 9000\, België
GEO:51.0475487;3.7026469
X-APPLE-STRUCTURED-LOCATION;VALUE=URI;X-ADDRESS=Universitair Sportcentrum (Gent) Watersportlaan 3 Gent Oost-Vlaanderen 9000 België;X-APPLE-RADIUS=500;X-TITLE=Watersportlaan 3:geo:3.7026469,51.0475487
END:VEVENT
BEGIN:VEVENT
DTSTART;TZID=Europe/Brussels:20260428T190000
DTEND;TZID=Europe/Brussels:20260428T200000
DTSTAMP:20260420T200029
CREATED:20260420T130527Z
LAST-MODIFIED:20260420T130529Z
UID:20001915-1777402800-1777406400@www.shinbugent.be
SUMMARY:Clubtraining jeugd
DESCRIPTION:
URL:https://www.shinbugent.be/event/clubtraining-jeugd-11/2026-04-28/
LOCATION:Universitair Sportcentrum (Gent)\, Watersportlaan 3\, Gent\, Oost-Vlaanderen\, 9000\, België
GEO:51.0475487;3.7026469
X-APPLE-STRUCTURED-LOCATION;VALUE=URI;X-ADDRESS=Universitair Sportcentrum (Gent) Watersportlaan 3 Gent Oost-Vlaanderen 9000 België;X-APPLE-RADIUS=500;X-TITLE=Watersportlaan 3:geo:3.7026469,51.0475487
END:VEVENT
BEGIN:VEVENT
DTSTART;TZID=Europe/Brussels:20260505T190000
DTEND;TZID=Europe/Brussels:20260505T200000
DTSTAMP:20260420T200029
CREATED:20260420T130527Z
LAST-MODIFIED:20260420T130529Z
UID:20001916-1778007600-1778011200@www.shinbugent.be
SUMMARY:Clubtraining jeugd
DESCRIPTION:
URL:https://www.shinbugent.be/event/clubtraining-jeugd-11/2026-05-05/
LOCATION:Universitair Sportcentrum (Gent)\, Watersportlaan 3\, Gent\, Oost-Vlaanderen\, 9000\, België
GEO:51.0475487;3.7026469
X-APPLE-STRUCTURED-LOCATION;VALUE=URI;X-ADDRESS=Universitair Sportcentrum (Gent) Watersportlaan 3 Gent Oost-Vlaanderen 9000 België;X-APPLE-RADIUS=500;X-TITLE=Watersportlaan 3:geo:3.7026469,51.0475487
END:VEVENT
BEGIN:VEVENT
DTSTART;TZID=Europe/Brussels:20260512T190000
DTEND;TZID=Europe/Brussels:20260512T200000
DTSTAMP:20260420T200029
CREATED:20260420T130527Z
LAST-MODIFIED:20260420T130529Z
UID:20001917-1778612400-1778616000@www.shinbugent.be
SUMMARY:Clubtraining jeugd
DESCRIPTION:
URL:https://www.shinbugent.be/event/clubtraining-jeugd-11/2026-05-12/
LOCATION:Universitair Sportcentrum (Gent)\, Watersportlaan 3\, Gent\, Oost-Vlaanderen\, 9000\, België
GEO:51.0475487;3.7026469
X-APPLE-STRUCTURED-LOCATION;VALUE=URI;X-ADDRESS=Universitair Sportcentrum (Gent) Watersportlaan 3 Gent Oost-Vlaanderen 9000 België;X-APPLE-RADIUS=500;X-TITLE=Watersportlaan 3:geo:3.7026469,51.0475487
END:VEVENT
BEGIN:VEVENT
DTSTART;TZID=Europe/Brussels:20260519T190000
DTEND;TZID=Europe/Brussels:20260519T200000
DTSTAMP:20260420T200029
CREATED:20260420T130527Z
LAST-MODIFIED:20260420T130529Z
UID:20001918-1779217200-1779220800@www.shinbugent.be
SUMMARY:Clubtraining jeugd
DESCRIPTION:
URL:https://www.shinbugent.be/event/clubtraining-jeugd-11/2026-05-19/
LOCATION:Universitair Sportcentrum (Gent)\, Watersportlaan 3\, Gent\, Oost-Vlaanderen\, 9000\, België
GEO:51.0475487;3.7026469
X-APPLE-STRUCTURED-LOCATION;VALUE=URI;X-ADDRESS=Universitair Sportcentrum (Gent) Watersportlaan 3 Gent Oost-Vlaanderen 9000 België;X-APPLE-RADIUS=500;X-TITLE=Watersportlaan 3:geo:3.7026469,51.0475487
END:VEVENT
BEGIN:VEVENT
DTSTART;TZID=Europe/Brussels:20260526T190000
DTEND;TZID=Europe/Brussels:20260526T200000
DTSTAMP:20260420T200029
CREATED:20260420T130527Z
LAST-MODIFIED:20260420T130529Z
UID:20001919-1779822000-1779825600@www.shinbugent.be
SUMMARY:Clubtraining jeugd
DESCRIPTION:
URL:https://www.shinbugent.be/event/clubtraining-jeugd-11/2026-05-26/
LOCATION:Universitair Sportcentrum (Gent)\, Watersportlaan 3\, Gent\, Oost-Vlaanderen\, 9000\, België
GEO:51.0475487;3.7026469
X-APPLE-STRUCTURED-LOCATION;VALUE=URI;X-ADDRESS=Universitair Sportcentrum (Gent) Watersportlaan 3 Gent Oost-Vlaanderen 9000 België;X-APPLE-RADIUS=500;X-TITLE=Watersportlaan 3:geo:3.7026469,51.0475487
END:VEVENT
END:VCALENDAR