BEGIN:VCALENDAR
VERSION:2.0
PRODID:-//Shinbu Gent - ECPv6.15.18//NONSGML v1.0//EN
CALSCALE:GREGORIAN
METHOD:PUBLISH
X-WR-CALNAME:Shinbu Gent
X-ORIGINAL-URL:https://www.shinbugent.be
X-WR-CALDESC:Evenementen voor Shinbu Gent
REFRESH-INTERVAL;VALUE=DURATION:PT1H
X-Robots-Tag:noindex
X-PUBLISHED-TTL:PT1H
BEGIN:VTIMEZONE
TZID:Europe/Brussels
BEGIN:DAYLIGHT
TZOFFSETFROM:+0100
TZOFFSETTO:+0200
TZNAME:CEST
DTSTART:20200329T010000
END:DAYLIGHT
BEGIN:STANDARD
TZOFFSETFROM:+0200
TZOFFSETTO:+0100
TZNAME:CET
DTSTART:20201025T010000
END:STANDARD
BEGIN:DAYLIGHT
TZOFFSETFROM:+0100
TZOFFSETTO:+0200
TZNAME:CEST
DTSTART:20210328T010000
END:DAYLIGHT
BEGIN:STANDARD
TZOFFSETFROM:+0200
TZOFFSETTO:+0100
TZNAME:CET
DTSTART:20211031T010000
END:STANDARD
BEGIN:DAYLIGHT
TZOFFSETFROM:+0100
TZOFFSETTO:+0200
TZNAME:CEST
DTSTART:20220327T010000
END:DAYLIGHT
BEGIN:STANDARD
TZOFFSETFROM:+0200
TZOFFSETTO:+0100
TZNAME:CET
DTSTART:20221030T010000
END:STANDARD
BEGIN:DAYLIGHT
TZOFFSETFROM:+0100
TZOFFSETTO:+0200
TZNAME:CEST
DTSTART:20230326T010000
END:DAYLIGHT
BEGIN:STANDARD
TZOFFSETFROM:+0200
TZOFFSETTO:+0100
TZNAME:CET
DTSTART:20231029T010000
END:STANDARD
BEGIN:DAYLIGHT
TZOFFSETFROM:+0100
TZOFFSETTO:+0200
TZNAME:CEST
DTSTART:20240331T010000
END:DAYLIGHT
BEGIN:STANDARD
TZOFFSETFROM:+0200
TZOFFSETTO:+0100
TZNAME:CET
DTSTART:20241027T010000
END:STANDARD
BEGIN:DAYLIGHT
TZOFFSETFROM:+0100
TZOFFSETTO:+0200
TZNAME:CEST
DTSTART:20250330T010000
END:DAYLIGHT
BEGIN:STANDARD
TZOFFSETFROM:+0200
TZOFFSETTO:+0100
TZNAME:CET
DTSTART:20251026T010000
END:STANDARD
BEGIN:DAYLIGHT
TZOFFSETFROM:+0100
TZOFFSETTO:+0200
TZNAME:CEST
DTSTART:20260329T010000
END:DAYLIGHT
BEGIN:STANDARD
TZOFFSETFROM:+0200
TZOFFSETTO:+0100
TZNAME:CET
DTSTART:20261025T010000
END:STANDARD
BEGIN:DAYLIGHT
TZOFFSETFROM:+0100
TZOFFSETTO:+0200
TZNAME:CEST
DTSTART:20270328T010000
END:DAYLIGHT
BEGIN:STANDARD
TZOFFSETFROM:+0200
TZOFFSETTO:+0100
TZNAME:CET
DTSTART:20271031T010000
END:STANDARD
END:VTIMEZONE
BEGIN:VEVENT
DTSTART;TZID=Europe/Brussels:20260322T093000
DTEND;TZID=Europe/Brussels:20260322T170000
DTSTAMP:20260420T142950
CREATED:20260105T180854Z
LAST-MODIFIED:20260105T180855Z
UID:20001908-1774171800-1774198800@www.shinbugent.be
SUMMARY:Kazoku Cup
DESCRIPTION:IPPON-tornooi (zowel individueel als per ploeg)
URL:https://www.shinbugent.be/event/kazoku-cup/
LOCATION:Gemeentelijke Sporthal (Assenede)\, Kapelledreef 4\, Assenede\, Oost-Vlaanderen\, 9960\, België
GEO:51.2303427;3.7493673
X-APPLE-STRUCTURED-LOCATION;VALUE=URI;X-ADDRESS=Gemeentelijke Sporthal (Assenede) Kapelledreef 4 Assenede Oost-Vlaanderen 9960 België;X-APPLE-RADIUS=500;X-TITLE=Kapelledreef 4:geo:3.7493673,51.2303427
END:VEVENT
BEGIN:VEVENT
DTSTART;TZID=Europe/Brussels:20251025T133000
DTEND;TZID=Europe/Brussels:20251025T173000
DTSTAMP:20260420T142950
CREATED:20250810T171354Z
LAST-MODIFIED:20250810T171356Z
UID:20001743-1761399000-1761413400@www.shinbugent.be
SUMMARY:JOW 2 - Assenede
DESCRIPTION:jeugdoefenwedstrijd 2 : verplichte aanwezigheid om 13u in het kader van de opwarming & wedstrijdvoorbereiding van de deelnemende jongeren
URL:https://www.shinbugent.be/event/jow-2-assenede/
LOCATION:Gemeentelijke Sporthal (Assenede)\, Kapelledreef 4\, Assenede\, Oost-Vlaanderen\, 9960\, België
GEO:51.2303427;3.7493673
X-APPLE-STRUCTURED-LOCATION;VALUE=URI;X-ADDRESS=Gemeentelijke Sporthal (Assenede) Kapelledreef 4 Assenede Oost-Vlaanderen 9960 België;X-APPLE-RADIUS=500;X-TITLE=Kapelledreef 4:geo:3.7493673,51.2303427
END:VEVENT
BEGIN:VEVENT
DTSTART;TZID=Europe/Brussels:20250323T093000
DTEND;TZID=Europe/Brussels:20250323T170000
DTSTAMP:20260420T142950
CREATED:20240820T073850Z
LAST-MODIFIED:20240820T073851Z
UID:20001616-1742722200-1742749200@www.shinbugent.be
SUMMARY:Kazoku Cup - ploegentornooi
DESCRIPTION:Ippon tornooi
URL:https://www.shinbugent.be/event/kazoku-cup-ploegentornooi-3/
LOCATION:Gemeentelijke Sporthal (Assenede)\, Kapelledreef 4\, Assenede\, Oost-Vlaanderen\, 9960\, België
GEO:51.2303427;3.7493673
X-APPLE-STRUCTURED-LOCATION;VALUE=URI;X-ADDRESS=Gemeentelijke Sporthal (Assenede) Kapelledreef 4 Assenede Oost-Vlaanderen 9960 België;X-APPLE-RADIUS=500;X-TITLE=Kapelledreef 4:geo:3.7493673,51.2303427
END:VEVENT
BEGIN:VEVENT
DTSTART;TZID=Europe/Brussels:20250222T133000
DTEND;TZID=Europe/Brussels:20250222T173000
DTSTAMP:20260420T142950
CREATED:20240714T171736Z
LAST-MODIFIED:20250105T155425Z
UID:20001428-1740231000-1740245400@www.shinbugent.be
SUMMARY:JOW 7 + receptie (Assenede)
DESCRIPTION:Start wedstrijd om 13u30 -> aanwezig in opwarmingsruimte om 13u. Nadien receptie wegens einde JOW-seizoen
URL:https://www.shinbugent.be/event/jow-8-receptie-assenede/
LOCATION:Gemeentelijke Sporthal (Assenede)\, Kapelledreef 4\, Assenede\, Oost-Vlaanderen\, 9960\, België
GEO:51.2303427;3.7493673
X-APPLE-STRUCTURED-LOCATION;VALUE=URI;X-ADDRESS=Gemeentelijke Sporthal (Assenede) Kapelledreef 4 Assenede Oost-Vlaanderen 9960 België;X-APPLE-RADIUS=500;X-TITLE=Kapelledreef 4:geo:3.7493673,51.2303427
END:VEVENT
BEGIN:VEVENT
DTSTART;TZID=Europe/Brussels:20240317T100000
DTEND;TZID=Europe/Brussels:20240317T170000
DTSTAMP:20260420T142950
CREATED:20230814T104438Z
LAST-MODIFIED:20230814T104443Z
UID:20001263-1710669600-1710694800@www.shinbugent.be
SUMMARY:Kazoku Cup - ploegentornooi
DESCRIPTION:
URL:https://www.shinbugent.be/event/kazoku-cup-ploegentornooi-2/
LOCATION:Gemeentelijke Sporthal (Assenede)\, Kapelledreef 4\, Assenede\, Oost-Vlaanderen\, 9960\, België
GEO:51.2303427;3.7493673
X-APPLE-STRUCTURED-LOCATION;VALUE=URI;X-ADDRESS=Gemeentelijke Sporthal (Assenede) Kapelledreef 4 Assenede Oost-Vlaanderen 9960 België;X-APPLE-RADIUS=500;X-TITLE=Kapelledreef 4:geo:3.7493673,51.2303427
END:VEVENT
BEGIN:VEVENT
DTSTART;TZID=Europe/Brussels:20240120T130000
DTEND;TZID=Europe/Brussels:20240120T170000
DTSTAMP:20260420T142950
CREATED:20230814T103316Z
LAST-MODIFIED:20230814T103320Z
UID:20001257-1705755600-1705770000@www.shinbugent.be
SUMMARY:JOW 6 - Assenede
DESCRIPTION:Jeugdoefenwedstrijd (6/8)
URL:https://www.shinbugent.be/event/jow-6-assenede-2/
LOCATION:Gemeentelijke Sporthal (Assenede)\, Kapelledreef 4\, Assenede\, Oost-Vlaanderen\, 9960\, België
GEO:51.2303427;3.7493673
X-APPLE-STRUCTURED-LOCATION;VALUE=URI;X-ADDRESS=Gemeentelijke Sporthal (Assenede) Kapelledreef 4 Assenede Oost-Vlaanderen 9960 België;X-APPLE-RADIUS=500;X-TITLE=Kapelledreef 4:geo:3.7493673,51.2303427
END:VEVENT
BEGIN:VEVENT
DTSTART;TZID=Europe/Brussels:20230507T090000
DTEND;TZID=Europe/Brussels:20230507T170000
DTSTAMP:20260420T142950
CREATED:20220819T141351Z
LAST-MODIFIED:20230212T171454Z
UID:20001002-1683450000-1683478800@www.shinbugent.be
SUMMARY:Kazoku Cup - ploegentornooi
DESCRIPTION:
URL:https://www.shinbugent.be/event/kazoku-cup-ploegentornooi/
LOCATION:Gemeentelijke Sporthal (Assenede)\, Kapelledreef 4\, Assenede\, Oost-Vlaanderen\, 9960\, België
GEO:51.2303427;3.7493673
X-APPLE-STRUCTURED-LOCATION;VALUE=URI;X-ADDRESS=Gemeentelijke Sporthal (Assenede) Kapelledreef 4 Assenede Oost-Vlaanderen 9960 België;X-APPLE-RADIUS=500;X-TITLE=Kapelledreef 4:geo:3.7493673,51.2303427
END:VEVENT
BEGIN:VEVENT
DTSTART;TZID=Europe/Brussels:20230128T133000
DTEND;TZID=Europe/Brussels:20230128T173000
DTSTAMP:20260420T142950
CREATED:20220802T112820Z
LAST-MODIFIED:20220802T112821Z
UID:20000986-1674912600-1674927000@www.shinbugent.be
SUMMARY:JOW 6 - Assenede
DESCRIPTION:
URL:https://www.shinbugent.be/event/jow-6-assenede/
LOCATION:Gemeentelijke Sporthal (Assenede)\, Kapelledreef 4\, Assenede\, Oost-Vlaanderen\, 9960\, België
GEO:51.2303427;3.7493673
X-APPLE-STRUCTURED-LOCATION;VALUE=URI;X-ADDRESS=Gemeentelijke Sporthal (Assenede) Kapelledreef 4 Assenede Oost-Vlaanderen 9960 België;X-APPLE-RADIUS=500;X-TITLE=Kapelledreef 4:geo:3.7493673,51.2303427
END:VEVENT
BEGIN:VEVENT
DTSTART;TZID=Europe/Brussels:20220129T133000
DTEND;TZID=Europe/Brussels:20220129T170000
DTSTAMP:20260420T142950
CREATED:20210926T172917Z
LAST-MODIFIED:20220104T092454Z
UID:20000857-1643463000-1643475600@www.shinbugent.be
SUMMARY:Geannuleerd - JOW Assenede
DESCRIPTION:
URL:https://www.shinbugent.be/event/jow-assenede-3/
LOCATION:Gemeentelijke Sporthal (Assenede)\, Kapelledreef 4\, Assenede\, Oost-Vlaanderen\, 9960\, België
GEO:51.2303427;3.7493673
X-APPLE-STRUCTURED-LOCATION;VALUE=URI;X-ADDRESS=Gemeentelijke Sporthal (Assenede) Kapelledreef 4 Assenede Oost-Vlaanderen 9960 België;X-APPLE-RADIUS=500;X-TITLE=Kapelledreef 4:geo:3.7493673,51.2303427
END:VEVENT
BEGIN:VEVENT
DTSTART;TZID=Europe/Brussels:20211211T133000
DTEND;TZID=Europe/Brussels:20211211T170000
DTSTAMP:20260420T142950
CREATED:20210926T172630Z
LAST-MODIFIED:20211206T184515Z
UID:20000856-1639229400-1639242000@www.shinbugent.be
SUMMARY:(geannuleerd) JOW Assenede
DESCRIPTION:
URL:https://www.shinbugent.be/event/jow-assenede-2/
LOCATION:Gemeentelijke Sporthal (Assenede)\, Kapelledreef 4\, Assenede\, Oost-Vlaanderen\, 9960\, België
GEO:51.2303427;3.7493673
X-APPLE-STRUCTURED-LOCATION;VALUE=URI;X-ADDRESS=Gemeentelijke Sporthal (Assenede) Kapelledreef 4 Assenede Oost-Vlaanderen 9960 België;X-APPLE-RADIUS=500;X-TITLE=Kapelledreef 4:geo:3.7493673,51.2303427
END:VEVENT
END:VCALENDAR