BEGIN:VCALENDAR
VERSION:2.0
PRODID:-//Shinbu Gent - ECPv6.15.18//NONSGML v1.0//EN
CALSCALE:GREGORIAN
METHOD:PUBLISH
X-ORIGINAL-URL:https://www.shinbugent.be
X-WR-CALDESC:Evenementen voor Shinbu Gent
REFRESH-INTERVAL;VALUE=DURATION:PT1H
X-Robots-Tag:noindex
X-PUBLISHED-TTL:PT1H
BEGIN:VTIMEZONE
TZID:Europe/Brussels
BEGIN:DAYLIGHT
TZOFFSETFROM:+0100
TZOFFSETTO:+0200
TZNAME:CEST
DTSTART:20210328T010000
END:DAYLIGHT
BEGIN:STANDARD
TZOFFSETFROM:+0200
TZOFFSETTO:+0100
TZNAME:CET
DTSTART:20211031T010000
END:STANDARD
BEGIN:DAYLIGHT
TZOFFSETFROM:+0100
TZOFFSETTO:+0200
TZNAME:CEST
DTSTART:20220327T010000
END:DAYLIGHT
BEGIN:STANDARD
TZOFFSETFROM:+0200
TZOFFSETTO:+0100
TZNAME:CET
DTSTART:20221030T010000
END:STANDARD
BEGIN:DAYLIGHT
TZOFFSETFROM:+0100
TZOFFSETTO:+0200
TZNAME:CEST
DTSTART:20230326T010000
END:DAYLIGHT
BEGIN:STANDARD
TZOFFSETFROM:+0200
TZOFFSETTO:+0100
TZNAME:CET
DTSTART:20231029T010000
END:STANDARD
BEGIN:DAYLIGHT
TZOFFSETFROM:+0100
TZOFFSETTO:+0200
TZNAME:CEST
DTSTART:20240331T010000
END:DAYLIGHT
BEGIN:STANDARD
TZOFFSETFROM:+0200
TZOFFSETTO:+0100
TZNAME:CET
DTSTART:20241027T010000
END:STANDARD
BEGIN:DAYLIGHT
TZOFFSETFROM:+0100
TZOFFSETTO:+0200
TZNAME:CEST
DTSTART:20250330T010000
END:DAYLIGHT
BEGIN:STANDARD
TZOFFSETFROM:+0200
TZOFFSETTO:+0100
TZNAME:CET
DTSTART:20251026T010000
END:STANDARD
END:VTIMEZONE
BEGIN:VEVENT
DTSTART;TZID=Europe/Brussels:20241221T100000
DTEND;TZID=Europe/Brussels:20241221T160000
DTSTAMP:20260419T223457
CREATED:20240714T165536Z
LAST-MODIFIED:20240714T165537Z
UID:20001420-1734775200-1734796800@www.shinbugent.be
SUMMARY:Tasseikan trainingsdag 'Back to basics'
DESCRIPTION:
URL:https://www.shinbugent.be/event/tasseikan-trainingsdag-back-to-basics-3/
LOCATION:Sporten Ontmoetingscentrum O.C.P. (De Pinte)\, Polderbos 20\, De Pinte\, 9840
GEO:50.9910617;3.6447414
X-APPLE-STRUCTURED-LOCATION;VALUE=URI;X-ADDRESS=Sporten Ontmoetingscentrum O.C.P. (De Pinte) Polderbos 20 De Pinte 9840;X-APPLE-RADIUS=500;X-TITLE=Polderbos 20:geo:3.6447414,50.9910617
END:VEVENT
BEGIN:VEVENT
DTSTART;TZID=Europe/Brussels:20231216T100000
DTEND;TZID=Europe/Brussels:20231216T170000
DTSTAMP:20260419T223457
CREATED:20230813T190229Z
LAST-MODIFIED:20230813T190230Z
UID:20001242-1702720800-1702746000@www.shinbugent.be
SUMMARY:Tasseikan trainingsdag 'Back to basics'
DESCRIPTION:
URL:https://www.shinbugent.be/event/tasseikan-trainingsdag-back-to-basics-2/
LOCATION:Sporten Ontmoetingscentrum O.C.P. (De Pinte)\, Polderbos 20\, De Pinte\, 9840
GEO:50.9910617;3.6447414
X-APPLE-STRUCTURED-LOCATION;VALUE=URI;X-ADDRESS=Sporten Ontmoetingscentrum O.C.P. (De Pinte) Polderbos 20 De Pinte 9840;X-APPLE-RADIUS=500;X-TITLE=Polderbos 20:geo:3.6447414,50.9910617
END:VEVENT
BEGIN:VEVENT
DTSTART;TZID=Europe/Brussels:20221217T100000
DTEND;TZID=Europe/Brussels:20221217T170000
DTSTAMP:20260419T223457
CREATED:20220822T144129Z
LAST-MODIFIED:20220822T144130Z
UID:20001078-1671271200-1671296400@www.shinbugent.be
SUMMARY:Tasseikan trainingsdag 'Back to basics'
DESCRIPTION:
URL:https://www.shinbugent.be/event/tasseikan-trainingsdag-back-to-basics/
LOCATION:Sporten Ontmoetingscentrum O.C.P. (De Pinte)\, Polderbos 20\, De Pinte\, 9840
GEO:50.9910617;3.6447414
X-APPLE-STRUCTURED-LOCATION;VALUE=URI;X-ADDRESS=Sporten Ontmoetingscentrum O.C.P. (De Pinte) Polderbos 20 De Pinte 9840;X-APPLE-RADIUS=500;X-TITLE=Polderbos 20:geo:3.6447414,50.9910617
END:VEVENT
END:VCALENDAR