BEGIN:VCALENDAR
VERSION:2.0
PRODID:-//Shinbu Gent - ECPv6.15.18//NONSGML v1.0//EN
CALSCALE:GREGORIAN
METHOD:PUBLISH
X-WR-CALNAME:Shinbu Gent
X-ORIGINAL-URL:https://www.shinbugent.be
X-WR-CALDESC:Evenementen voor Shinbu Gent
REFRESH-INTERVAL;VALUE=DURATION:PT1H
X-Robots-Tag:noindex
X-PUBLISHED-TTL:PT1H
BEGIN:VTIMEZONE
TZID:Europe/Brussels
BEGIN:DAYLIGHT
TZOFFSETFROM:+0100
TZOFFSETTO:+0200
TZNAME:CEST
DTSTART:20230326T010000
END:DAYLIGHT
BEGIN:STANDARD
TZOFFSETFROM:+0200
TZOFFSETTO:+0100
TZNAME:CET
DTSTART:20231029T010000
END:STANDARD
BEGIN:DAYLIGHT
TZOFFSETFROM:+0100
TZOFFSETTO:+0200
TZNAME:CEST
DTSTART:20240331T010000
END:DAYLIGHT
BEGIN:STANDARD
TZOFFSETFROM:+0200
TZOFFSETTO:+0100
TZNAME:CET
DTSTART:20241027T010000
END:STANDARD
BEGIN:DAYLIGHT
TZOFFSETFROM:+0100
TZOFFSETTO:+0200
TZNAME:CEST
DTSTART:20250330T010000
END:DAYLIGHT
BEGIN:STANDARD
TZOFFSETFROM:+0200
TZOFFSETTO:+0100
TZNAME:CET
DTSTART:20251026T010000
END:STANDARD
BEGIN:DAYLIGHT
TZOFFSETFROM:+0100
TZOFFSETTO:+0200
TZNAME:CEST
DTSTART:20260329T010000
END:DAYLIGHT
BEGIN:STANDARD
TZOFFSETFROM:+0200
TZOFFSETTO:+0100
TZNAME:CET
DTSTART:20261025T010000
END:STANDARD
END:VTIMEZONE
BEGIN:VEVENT
DTSTART;TZID=Europe/Brussels:20250208T133000
DTEND;TZID=Europe/Brussels:20250208T173000
DTSTAMP:20260420T002701
CREATED:20240714T171118Z
LAST-MODIFIED:20240923T201457Z
UID:20001427-1739021400-1739035800@www.shinbugent.be
SUMMARY:JOW 6 (Geraardsbergen)
DESCRIPTION:
URL:https://www.shinbugent.be/event/jow-7-geraardsbergen/
LOCATION:sporthal De Veldmuis\, Felicien Cauwelstraat 39\, Geraardsbergen\, 9500\, België
END:VEVENT
BEGIN:VEVENT
DTSTART;TZID=Europe/Brussels:20240324T083000
DTEND;TZID=Europe/Brussels:20240324T200000
DTSTAMP:20260420T002701
CREATED:20231009T102010Z
LAST-MODIFIED:20231009T102013Z
UID:20001383-1711269000-1711310400@www.shinbugent.be
SUMMARY:Maitoshi Kachi Trophy
DESCRIPTION:wedstrijd WKF – alle stijlen
URL:https://www.shinbugent.be/event/maitoshi-kachi-trophy/
LOCATION:sporthal De Veldmuis\, Felicien Cauwelstraat 39\, Geraardsbergen\, 9500\, België
END:VEVENT
END:VCALENDAR