BEGIN:VCALENDAR
VERSION:2.0
PRODID:-//Shinbu Gent - ECPv6.15.18//NONSGML v1.0//EN
CALSCALE:GREGORIAN
METHOD:PUBLISH
X-ORIGINAL-URL:https://www.shinbugent.be
X-WR-CALDESC:Evenementen voor Shinbu Gent
REFRESH-INTERVAL;VALUE=DURATION:PT1H
X-Robots-Tag:noindex
X-PUBLISHED-TTL:PT1H
BEGIN:VTIMEZONE
TZID:Europe/Brussels
BEGIN:DAYLIGHT
TZOFFSETFROM:+0100
TZOFFSETTO:+0200
TZNAME:CEST
DTSTART:20210328T010000
END:DAYLIGHT
BEGIN:STANDARD
TZOFFSETFROM:+0200
TZOFFSETTO:+0100
TZNAME:CET
DTSTART:20211031T010000
END:STANDARD
BEGIN:DAYLIGHT
TZOFFSETFROM:+0100
TZOFFSETTO:+0200
TZNAME:CEST
DTSTART:20220327T010000
END:DAYLIGHT
BEGIN:STANDARD
TZOFFSETFROM:+0200
TZOFFSETTO:+0100
TZNAME:CET
DTSTART:20221030T010000
END:STANDARD
BEGIN:DAYLIGHT
TZOFFSETFROM:+0100
TZOFFSETTO:+0200
TZNAME:CEST
DTSTART:20230326T010000
END:DAYLIGHT
BEGIN:STANDARD
TZOFFSETFROM:+0200
TZOFFSETTO:+0100
TZNAME:CET
DTSTART:20231029T010000
END:STANDARD
BEGIN:DAYLIGHT
TZOFFSETFROM:+0100
TZOFFSETTO:+0200
TZNAME:CEST
DTSTART:20240331T010000
END:DAYLIGHT
BEGIN:STANDARD
TZOFFSETFROM:+0200
TZOFFSETTO:+0100
TZNAME:CET
DTSTART:20241027T010000
END:STANDARD
BEGIN:DAYLIGHT
TZOFFSETFROM:+0100
TZOFFSETTO:+0200
TZNAME:CEST
DTSTART:20250330T010000
END:DAYLIGHT
BEGIN:STANDARD
TZOFFSETFROM:+0200
TZOFFSETTO:+0100
TZNAME:CET
DTSTART:20251026T010000
END:STANDARD
BEGIN:DAYLIGHT
TZOFFSETFROM:+0100
TZOFFSETTO:+0200
TZNAME:CEST
DTSTART:20260329T010000
END:DAYLIGHT
BEGIN:STANDARD
TZOFFSETFROM:+0200
TZOFFSETTO:+0100
TZNAME:CET
DTSTART:20261025T010000
END:STANDARD
END:VTIMEZONE
BEGIN:VEVENT
DTSTART;TZID=Europe/Brussels:20251115T133000
DTEND;TZID=Europe/Brussels:20251115T173000
DTSTAMP:20260421T072647
CREATED:20250810T171633Z
LAST-MODIFIED:20250810T171635Z
UID:20001744-1763213400-1763227800@www.shinbugent.be
SUMMARY:JOW 3 - Wachtebeke
DESCRIPTION:jeugdoefenwedstrijd 3 : verplichte aanwezigheid om 13u in het kader van de opwarming & wedstrijdvoorbereiding van de deelnemende jongeren
URL:https://www.shinbugent.be/event/jow-3-wachtebeke-2/
LOCATION:Sporthal Puyenbroeck (Wachtebeke)\, Puidonkdreef 1\, Lochristi\, Oost-Vlaanderen\, 9185\, België
GEO:51.152695;3.8637784
X-APPLE-STRUCTURED-LOCATION;VALUE=URI;X-ADDRESS=Sporthal Puyenbroeck (Wachtebeke) Puidonkdreef 1 Lochristi Oost-Vlaanderen 9185 België;X-APPLE-RADIUS=500;X-TITLE=Puidonkdreef 1:geo:3.8637784,51.152695
END:VEVENT
BEGIN:VEVENT
DTSTART;TZID=Europe/Brussels:20241130T133000
DTEND;TZID=Europe/Brussels:20241130T173000
DTSTAMP:20260421T072647
CREATED:20240714T170727Z
LAST-MODIFIED:20240923T201220Z
UID:20001424-1732973400-1732987800@www.shinbugent.be
SUMMARY:JOW 3 (Wachtebeke)
DESCRIPTION:
URL:https://www.shinbugent.be/event/jow-4-wachtebeke/
LOCATION:Sporthal Puyenbroeck (Wachtebeke)\, Puidonkdreef 1\, Lochristi\, Oost-Vlaanderen\, 9185\, België
GEO:51.152695;3.8637784
X-APPLE-STRUCTURED-LOCATION;VALUE=URI;X-ADDRESS=Sporthal Puyenbroeck (Wachtebeke) Puidonkdreef 1 Lochristi Oost-Vlaanderen 9185 België;X-APPLE-RADIUS=500;X-TITLE=Puidonkdreef 1:geo:3.8637784,51.152695
END:VEVENT
BEGIN:VEVENT
DTSTART;TZID=Europe/Brussels:20241012T140000
DTEND;TZID=Europe/Brussels:20241012T173000
DTSTAMP:20260421T072647
CREATED:20240714T170112Z
LAST-MODIFIED:20240923T200900Z
UID:20001421-1728741600-1728754200@www.shinbugent.be
SUMMARY:JOW 1 (Wachtebeke)
DESCRIPTION:
URL:https://www.shinbugent.be/event/jow-1-lede-3/
LOCATION:Sporthal Puyenbroeck (Wachtebeke)\, Puidonkdreef 1\, Lochristi\, Oost-Vlaanderen\, 9185\, België
GEO:51.152695;3.8637784
X-APPLE-STRUCTURED-LOCATION;VALUE=URI;X-ADDRESS=Sporthal Puyenbroeck (Wachtebeke) Puidonkdreef 1 Lochristi Oost-Vlaanderen 9185 België;X-APPLE-RADIUS=500;X-TITLE=Puidonkdreef 1:geo:3.8637784,51.152695
END:VEVENT
BEGIN:VEVENT
DTSTART;TZID=Europe/Brussels:20231209T133000
DTEND;TZID=Europe/Brussels:20231209T173000
DTSTAMP:20260421T072647
CREATED:20230813T185332Z
LAST-MODIFIED:20230905T181150Z
UID:20001240-1702128600-1702143000@www.shinbugent.be
SUMMARY:JOW 4 - Wachtebeke
DESCRIPTION:Jeugdoefenwedstrijd (4/8)
URL:https://www.shinbugent.be/event/jow-2-gent/
LOCATION:Sporthal Puyenbroeck (Wachtebeke)\, Puidonkdreef 1\, Lochristi\, Oost-Vlaanderen\, 9185\, België
GEO:51.152695;3.8637784
X-APPLE-STRUCTURED-LOCATION;VALUE=URI;X-ADDRESS=Sporthal Puyenbroeck (Wachtebeke) Puidonkdreef 1 Lochristi Oost-Vlaanderen 9185 België;X-APPLE-RADIUS=500;X-TITLE=Puidonkdreef 1:geo:3.8637784,51.152695
END:VEVENT
BEGIN:VEVENT
DTSTART;TZID=Europe/Brussels:20221126T133000
DTEND;TZID=Europe/Brussels:20221126T173000
DTSTAMP:20260421T072647
CREATED:20220802T111450Z
LAST-MODIFIED:20220802T111451Z
UID:20000982-1669469400-1669483800@www.shinbugent.be
SUMMARY:JOW 3 - Wachtebeke
DESCRIPTION:
URL:https://www.shinbugent.be/event/jow-3-wachtebeke/
LOCATION:Sporthal Puyenbroeck (Wachtebeke)\, Puidonkdreef 1\, Lochristi\, Oost-Vlaanderen\, 9185\, België
GEO:51.152695;3.8637784
X-APPLE-STRUCTURED-LOCATION;VALUE=URI;X-ADDRESS=Sporthal Puyenbroeck (Wachtebeke) Puidonkdreef 1 Lochristi Oost-Vlaanderen 9185 België;X-APPLE-RADIUS=500;X-TITLE=Puidonkdreef 1:geo:3.8637784,51.152695
END:VEVENT
END:VCALENDAR