BEGIN:VCALENDAR
VERSION:2.0
PRODID:-//Shinbu Gent - ECPv6.15.18//NONSGML v1.0//EN
CALSCALE:GREGORIAN
METHOD:PUBLISH
X-WR-CALNAME:Shinbu Gent
X-ORIGINAL-URL:https://www.shinbugent.be
X-WR-CALDESC:Evenementen voor Shinbu Gent
REFRESH-INTERVAL;VALUE=DURATION:PT1H
X-Robots-Tag:noindex
X-PUBLISHED-TTL:PT1H
BEGIN:VTIMEZONE
TZID:Europe/Brussels
BEGIN:DAYLIGHT
TZOFFSETFROM:+0100
TZOFFSETTO:+0200
TZNAME:CEST
DTSTART:20240331T010000
END:DAYLIGHT
BEGIN:STANDARD
TZOFFSETFROM:+0200
TZOFFSETTO:+0100
TZNAME:CET
DTSTART:20241027T010000
END:STANDARD
BEGIN:DAYLIGHT
TZOFFSETFROM:+0100
TZOFFSETTO:+0200
TZNAME:CEST
DTSTART:20250330T010000
END:DAYLIGHT
BEGIN:STANDARD
TZOFFSETFROM:+0200
TZOFFSETTO:+0100
TZNAME:CET
DTSTART:20251026T010000
END:STANDARD
BEGIN:DAYLIGHT
TZOFFSETFROM:+0100
TZOFFSETTO:+0200
TZNAME:CEST
DTSTART:20260329T010000
END:DAYLIGHT
BEGIN:STANDARD
TZOFFSETFROM:+0200
TZOFFSETTO:+0100
TZNAME:CET
DTSTART:20261025T010000
END:STANDARD
END:VTIMEZONE
BEGIN:VEVENT
DTSTART;TZID=Europe/Brussels:20250218T190000
DTEND;TZID=Europe/Brussels:20250218T200000
DTSTAMP:20260419T170912
CREATED:20240819T191929Z
LAST-MODIFIED:20240819T191930Z
UID:20001528-1739905200-1739908800@www.shinbugent.be
SUMMARY:Clubtraining jeugd
DESCRIPTION:
URL:https://www.shinbugent.be/event/clubtraining-jeugd-8/2025-02-18/
LOCATION:Universitair Sportcentrum (Gent)\, Watersportlaan 3\, Gent\, Oost-Vlaanderen\, 9000\, België
GEO:51.0475487;3.7026469
X-APPLE-STRUCTURED-LOCATION;VALUE=URI;X-ADDRESS=Universitair Sportcentrum (Gent) Watersportlaan 3 Gent Oost-Vlaanderen 9000 België;X-APPLE-RADIUS=500;X-TITLE=Watersportlaan 3:geo:3.7026469,51.0475487
END:VEVENT
BEGIN:VEVENT
DTSTART;TZID=Europe/Brussels:20250215T100000
DTEND;TZID=Europe/Brussels:20250215T113000
DTSTAMP:20260419T170912
CREATED:20240819T184623Z
LAST-MODIFIED:20240819T184624Z
UID:20001505-1739613600-1739619000@www.shinbugent.be
SUMMARY:Clubtraining (jeugd + volwassenen)
DESCRIPTION:+ na de training 30 minuten vrije training & voorbereiding jongeren deelnemend aan JOW
URL:https://www.shinbugent.be/event/clubtraining-jeugd-volwassenen-5/2025-02-15/
LOCATION:Universitair Sportcentrum (Gent)\, Watersportlaan 3\, Gent\, Oost-Vlaanderen\, 9000\, België
GEO:51.0475487;3.7026469
X-APPLE-STRUCTURED-LOCATION;VALUE=URI;X-ADDRESS=Universitair Sportcentrum (Gent) Watersportlaan 3 Gent Oost-Vlaanderen 9000 België;X-APPLE-RADIUS=500;X-TITLE=Watersportlaan 3:geo:3.7026469,51.0475487
END:VEVENT
BEGIN:VEVENT
DTSTART;TZID=Europe/Brussels:20250213T193000
DTEND;TZID=Europe/Brussels:20250213T210000
DTSTAMP:20260419T170912
CREATED:20250212T073446Z
LAST-MODIFIED:20250212T073514Z
UID:20001581-1739475000-1739480400@www.shinbugent.be
SUMMARY:GEEN clubtraining
DESCRIPTION:
URL:https://www.shinbugent.be/event/clubtraining-volwassenen-16/
LOCATION:Universitair Sportcentrum (Gent)\, Watersportlaan 3\, Gent\, Oost-Vlaanderen\, 9000\, België
GEO:51.0475487;3.7026469
X-APPLE-STRUCTURED-LOCATION;VALUE=URI;X-ADDRESS=Universitair Sportcentrum (Gent) Watersportlaan 3 Gent Oost-Vlaanderen 9000 België;X-APPLE-RADIUS=500;X-TITLE=Watersportlaan 3:geo:3.7026469,51.0475487
END:VEVENT
BEGIN:VEVENT
DTSTART;TZID=Europe/Brussels:20250211T190000
DTEND;TZID=Europe/Brussels:20250211T203000
DTSTAMP:20260419T170912
CREATED:20250102T165846Z
LAST-MODIFIED:20250102T165848Z
UID:20001639-1739300400-1739305800@www.shinbugent.be
SUMMARY:Shinbu Competitietraining
DESCRIPTION:springtouw en handschoenen mee te nemen
URL:https://www.shinbugent.be/event/shinbu-competitietraining-7/2025-02-11/
LOCATION:Universitair Sportcentrum (Gent)\, Watersportlaan 3\, Gent\, Oost-Vlaanderen\, 9000\, België
GEO:51.0475487;3.7026469
X-APPLE-STRUCTURED-LOCATION;VALUE=URI;X-ADDRESS=Universitair Sportcentrum (Gent) Watersportlaan 3 Gent Oost-Vlaanderen 9000 België;X-APPLE-RADIUS=500;X-TITLE=Watersportlaan 3:geo:3.7026469,51.0475487
END:VEVENT
BEGIN:VEVENT
DTSTART;TZID=Europe/Brussels:20250211T190000
DTEND;TZID=Europe/Brussels:20250211T203000
DTSTAMP:20260419T170912
CREATED:20240819T193132Z
LAST-MODIFIED:20240819T193133Z
UID:20001557-1739300400-1739305800@www.shinbugent.be
SUMMARY:Clubtraining (volwassenen)
DESCRIPTION:
URL:https://www.shinbugent.be/event/clubtraining-volwassenen-7/2025-02-11/
LOCATION:Universitair Sportcentrum (Gent)\, Watersportlaan 3\, Gent\, Oost-Vlaanderen\, 9000\, België
GEO:51.0475487;3.7026469
X-APPLE-STRUCTURED-LOCATION;VALUE=URI;X-ADDRESS=Universitair Sportcentrum (Gent) Watersportlaan 3 Gent Oost-Vlaanderen 9000 België;X-APPLE-RADIUS=500;X-TITLE=Watersportlaan 3:geo:3.7026469,51.0475487
END:VEVENT
BEGIN:VEVENT
DTSTART;TZID=Europe/Brussels:20250211T190000
DTEND;TZID=Europe/Brussels:20250211T200000
DTSTAMP:20260419T170912
CREATED:20240819T191929Z
LAST-MODIFIED:20240819T191930Z
UID:20001527-1739300400-1739304000@www.shinbugent.be
SUMMARY:Clubtraining jeugd
DESCRIPTION:
URL:https://www.shinbugent.be/event/clubtraining-jeugd-8/2025-02-11/
LOCATION:Universitair Sportcentrum (Gent)\, Watersportlaan 3\, Gent\, Oost-Vlaanderen\, 9000\, België
GEO:51.0475487;3.7026469
X-APPLE-STRUCTURED-LOCATION;VALUE=URI;X-ADDRESS=Universitair Sportcentrum (Gent) Watersportlaan 3 Gent Oost-Vlaanderen 9000 België;X-APPLE-RADIUS=500;X-TITLE=Watersportlaan 3:geo:3.7026469,51.0475487
END:VEVENT
BEGIN:VEVENT
DTSTART;TZID=Europe/Brussels:20250208T100000
DTEND;TZID=Europe/Brussels:20250208T113000
DTSTAMP:20260419T170912
CREATED:20240819T184623Z
LAST-MODIFIED:20240819T184624Z
UID:20001504-1739008800-1739014200@www.shinbugent.be
SUMMARY:Clubtraining (jeugd + volwassenen)
DESCRIPTION:+ na de training 30 minuten vrije training & voorbereiding jongeren deelnemend aan JOW
URL:https://www.shinbugent.be/event/clubtraining-jeugd-volwassenen-5/2025-02-08/
LOCATION:Universitair Sportcentrum (Gent)\, Watersportlaan 3\, Gent\, Oost-Vlaanderen\, 9000\, België
GEO:51.0475487;3.7026469
X-APPLE-STRUCTURED-LOCATION;VALUE=URI;X-ADDRESS=Universitair Sportcentrum (Gent) Watersportlaan 3 Gent Oost-Vlaanderen 9000 België;X-APPLE-RADIUS=500;X-TITLE=Watersportlaan 3:geo:3.7026469,51.0475487
END:VEVENT
BEGIN:VEVENT
DTSTART;TZID=Europe/Brussels:20250206T193000
DTEND;TZID=Europe/Brussels:20250206T210000
DTSTAMP:20260419T170912
CREATED:20240820T065847Z
LAST-MODIFIED:20240820T065849Z
UID:20001580-1738870200-1738875600@www.shinbugent.be
SUMMARY:Clubtraining (volwassenen)
DESCRIPTION:
URL:https://www.shinbugent.be/event/clubtraining-volwassenen-9/2025-02-06/
LOCATION:Universitair Sportcentrum (Gent)\, Watersportlaan 3\, Gent\, Oost-Vlaanderen\, 9000\, België
GEO:51.0475487;3.7026469
X-APPLE-STRUCTURED-LOCATION;VALUE=URI;X-ADDRESS=Universitair Sportcentrum (Gent) Watersportlaan 3 Gent Oost-Vlaanderen 9000 België;X-APPLE-RADIUS=500;X-TITLE=Watersportlaan 3:geo:3.7026469,51.0475487
END:VEVENT
BEGIN:VEVENT
DTSTART;TZID=Europe/Brussels:20250204T190000
DTEND;TZID=Europe/Brussels:20250204T203000
DTSTAMP:20260419T170912
CREATED:20240819T193132Z
LAST-MODIFIED:20240819T193133Z
UID:20001556-1738695600-1738701000@www.shinbugent.be
SUMMARY:Clubtraining (volwassenen)
DESCRIPTION:
URL:https://www.shinbugent.be/event/clubtraining-volwassenen-7/2025-02-04/
LOCATION:Universitair Sportcentrum (Gent)\, Watersportlaan 3\, Gent\, Oost-Vlaanderen\, 9000\, België
GEO:51.0475487;3.7026469
X-APPLE-STRUCTURED-LOCATION;VALUE=URI;X-ADDRESS=Universitair Sportcentrum (Gent) Watersportlaan 3 Gent Oost-Vlaanderen 9000 België;X-APPLE-RADIUS=500;X-TITLE=Watersportlaan 3:geo:3.7026469,51.0475487
END:VEVENT
BEGIN:VEVENT
DTSTART;TZID=Europe/Brussels:20250204T190000
DTEND;TZID=Europe/Brussels:20250204T200000
DTSTAMP:20260419T170912
CREATED:20240819T191929Z
LAST-MODIFIED:20240819T191930Z
UID:20001526-1738695600-1738699200@www.shinbugent.be
SUMMARY:Clubtraining jeugd
DESCRIPTION:
URL:https://www.shinbugent.be/event/clubtraining-jeugd-8/2025-02-04/
LOCATION:Universitair Sportcentrum (Gent)\, Watersportlaan 3\, Gent\, Oost-Vlaanderen\, 9000\, België
GEO:51.0475487;3.7026469
X-APPLE-STRUCTURED-LOCATION;VALUE=URI;X-ADDRESS=Universitair Sportcentrum (Gent) Watersportlaan 3 Gent Oost-Vlaanderen 9000 België;X-APPLE-RADIUS=500;X-TITLE=Watersportlaan 3:geo:3.7026469,51.0475487
END:VEVENT
BEGIN:VEVENT
DTSTART;TZID=Europe/Brussels:20250201T100000
DTEND;TZID=Europe/Brussels:20250201T113000
DTSTAMP:20260419T170912
CREATED:20240819T184623Z
LAST-MODIFIED:20240819T184624Z
UID:20001503-1738404000-1738409400@www.shinbugent.be
SUMMARY:Clubtraining (jeugd + volwassenen)
DESCRIPTION:+ na de training 30 minuten vrije training & voorbereiding jongeren deelnemend aan JOW
URL:https://www.shinbugent.be/event/clubtraining-jeugd-volwassenen-5/2025-02-01/
LOCATION:Universitair Sportcentrum (Gent)\, Watersportlaan 3\, Gent\, Oost-Vlaanderen\, 9000\, België
GEO:51.0475487;3.7026469
X-APPLE-STRUCTURED-LOCATION;VALUE=URI;X-ADDRESS=Universitair Sportcentrum (Gent) Watersportlaan 3 Gent Oost-Vlaanderen 9000 België;X-APPLE-RADIUS=500;X-TITLE=Watersportlaan 3:geo:3.7026469,51.0475487
END:VEVENT
BEGIN:VEVENT
DTSTART;TZID=Europe/Brussels:20250130T193000
DTEND;TZID=Europe/Brussels:20250130T210000
DTSTAMP:20260419T170912
CREATED:20250102T165846Z
LAST-MODIFIED:20250102T165848Z
UID:20001638-1738265400-1738270800@www.shinbugent.be
SUMMARY:Shinbu Competitietraining
DESCRIPTION:springtouw en handschoenen mee te nemen
URL:https://www.shinbugent.be/event/shinbu-competitietraining-7/2025-01-30/
LOCATION:Universitair Sportcentrum (Gent)\, Watersportlaan 3\, Gent\, Oost-Vlaanderen\, 9000\, België
GEO:51.0475487;3.7026469
X-APPLE-STRUCTURED-LOCATION;VALUE=URI;X-ADDRESS=Universitair Sportcentrum (Gent) Watersportlaan 3 Gent Oost-Vlaanderen 9000 België;X-APPLE-RADIUS=500;X-TITLE=Watersportlaan 3:geo:3.7026469,51.0475487
END:VEVENT
BEGIN:VEVENT
DTSTART;TZID=Europe/Brussels:20250130T193000
DTEND;TZID=Europe/Brussels:20250130T210000
DTSTAMP:20260419T170912
CREATED:20240820T065847Z
LAST-MODIFIED:20240820T065849Z
UID:20001579-1738265400-1738270800@www.shinbugent.be
SUMMARY:Clubtraining (volwassenen)
DESCRIPTION:
URL:https://www.shinbugent.be/event/clubtraining-volwassenen-9/2025-01-30/
LOCATION:Universitair Sportcentrum (Gent)\, Watersportlaan 3\, Gent\, Oost-Vlaanderen\, 9000\, België
GEO:51.0475487;3.7026469
X-APPLE-STRUCTURED-LOCATION;VALUE=URI;X-ADDRESS=Universitair Sportcentrum (Gent) Watersportlaan 3 Gent Oost-Vlaanderen 9000 België;X-APPLE-RADIUS=500;X-TITLE=Watersportlaan 3:geo:3.7026469,51.0475487
END:VEVENT
BEGIN:VEVENT
DTSTART;TZID=Europe/Brussels:20250128T190000
DTEND;TZID=Europe/Brussels:20250128T203000
DTSTAMP:20260419T170912
CREATED:20250102T170458Z
LAST-MODIFIED:20250102T170459Z
UID:20001555-1738090800-1738096200@www.shinbugent.be
SUMMARY:Gastlesgever - clubtraining (volwassenen)
DESCRIPTION:
URL:https://www.shinbugent.be/event/clubtraining-volwassenen-15/
LOCATION:Universitair Sportcentrum (Gent)\, Watersportlaan 3\, Gent\, Oost-Vlaanderen\, 9000\, België
GEO:51.0475487;3.7026469
X-APPLE-STRUCTURED-LOCATION;VALUE=URI;X-ADDRESS=Universitair Sportcentrum (Gent) Watersportlaan 3 Gent Oost-Vlaanderen 9000 België;X-APPLE-RADIUS=500;X-TITLE=Watersportlaan 3:geo:3.7026469,51.0475487
END:VEVENT
BEGIN:VEVENT
DTSTART;TZID=Europe/Brussels:20250128T190000
DTEND;TZID=Europe/Brussels:20250128T200000
DTSTAMP:20260419T170912
CREATED:20240819T191929Z
LAST-MODIFIED:20240819T191930Z
UID:20001525-1738090800-1738094400@www.shinbugent.be
SUMMARY:Clubtraining jeugd
DESCRIPTION:
URL:https://www.shinbugent.be/event/clubtraining-jeugd-8/2025-01-28/
LOCATION:Universitair Sportcentrum (Gent)\, Watersportlaan 3\, Gent\, Oost-Vlaanderen\, 9000\, België
GEO:51.0475487;3.7026469
X-APPLE-STRUCTURED-LOCATION;VALUE=URI;X-ADDRESS=Universitair Sportcentrum (Gent) Watersportlaan 3 Gent Oost-Vlaanderen 9000 België;X-APPLE-RADIUS=500;X-TITLE=Watersportlaan 3:geo:3.7026469,51.0475487
END:VEVENT
BEGIN:VEVENT
DTSTART;TZID=Europe/Brussels:20250125T100000
DTEND;TZID=Europe/Brussels:20250125T113000
DTSTAMP:20260419T170912
CREATED:20250102T170343Z
LAST-MODIFIED:20250102T170345Z
UID:20001641-1737799200-1737804600@www.shinbugent.be
SUMMARY:Defence training
DESCRIPTION:
URL:https://www.shinbugent.be/event/defence-training/
LOCATION:Universitair Sportcentrum (Gent)\, Watersportlaan 3\, Gent\, Oost-Vlaanderen\, 9000\, België
GEO:51.0475487;3.7026469
X-APPLE-STRUCTURED-LOCATION;VALUE=URI;X-ADDRESS=Universitair Sportcentrum (Gent) Watersportlaan 3 Gent Oost-Vlaanderen 9000 België;X-APPLE-RADIUS=500;X-TITLE=Watersportlaan 3:geo:3.7026469,51.0475487
END:VEVENT
BEGIN:VEVENT
DTSTART;TZID=Europe/Brussels:20250125T100000
DTEND;TZID=Europe/Brussels:20250125T113000
DTSTAMP:20260419T170912
CREATED:20250102T170210Z
LAST-MODIFIED:20250102T170219Z
UID:20001502-1737799200-1737804600@www.shinbugent.be
SUMMARY:Clubtraining (jeugd)
DESCRIPTION:+ na de training 30 minuten vrije training & voorbereiding jongeren deelnemend aan JOW
URL:https://www.shinbugent.be/event/clubtraining-jeugd-volwassenen-9/
LOCATION:Universitair Sportcentrum (Gent)\, Watersportlaan 3\, Gent\, Oost-Vlaanderen\, 9000\, België
GEO:51.0475487;3.7026469
X-APPLE-STRUCTURED-LOCATION;VALUE=URI;X-ADDRESS=Universitair Sportcentrum (Gent) Watersportlaan 3 Gent Oost-Vlaanderen 9000 België;X-APPLE-RADIUS=500;X-TITLE=Watersportlaan 3:geo:3.7026469,51.0475487
END:VEVENT
BEGIN:VEVENT
DTSTART;TZID=Europe/Brussels:20250123T193000
DTEND;TZID=Europe/Brussels:20250123T210000
DTSTAMP:20260419T170912
CREATED:20240820T065847Z
LAST-MODIFIED:20240820T065849Z
UID:20001578-1737660600-1737666000@www.shinbugent.be
SUMMARY:Clubtraining (volwassenen)
DESCRIPTION:
URL:https://www.shinbugent.be/event/clubtraining-volwassenen-9/2025-01-23/
LOCATION:Universitair Sportcentrum (Gent)\, Watersportlaan 3\, Gent\, Oost-Vlaanderen\, 9000\, België
GEO:51.0475487;3.7026469
X-APPLE-STRUCTURED-LOCATION;VALUE=URI;X-ADDRESS=Universitair Sportcentrum (Gent) Watersportlaan 3 Gent Oost-Vlaanderen 9000 België;X-APPLE-RADIUS=500;X-TITLE=Watersportlaan 3:geo:3.7026469,51.0475487
END:VEVENT
BEGIN:VEVENT
DTSTART;TZID=Europe/Brussels:20250121T190000
DTEND;TZID=Europe/Brussels:20250121T203000
DTSTAMP:20260419T170912
CREATED:20250102T165846Z
LAST-MODIFIED:20250102T165848Z
UID:20001637-1737486000-1737491400@www.shinbugent.be
SUMMARY:Shinbu Competitietraining
DESCRIPTION:springtouw en handschoenen mee te nemen
URL:https://www.shinbugent.be/event/shinbu-competitietraining-7/2025-01-21/
LOCATION:Universitair Sportcentrum (Gent)\, Watersportlaan 3\, Gent\, Oost-Vlaanderen\, 9000\, België
GEO:51.0475487;3.7026469
X-APPLE-STRUCTURED-LOCATION;VALUE=URI;X-ADDRESS=Universitair Sportcentrum (Gent) Watersportlaan 3 Gent Oost-Vlaanderen 9000 België;X-APPLE-RADIUS=500;X-TITLE=Watersportlaan 3:geo:3.7026469,51.0475487
END:VEVENT
BEGIN:VEVENT
DTSTART;TZID=Europe/Brussels:20250121T190000
DTEND;TZID=Europe/Brussels:20250121T203000
DTSTAMP:20260419T170912
CREATED:20240819T193132Z
LAST-MODIFIED:20240819T193133Z
UID:20001554-1737486000-1737491400@www.shinbugent.be
SUMMARY:Clubtraining (volwassenen)
DESCRIPTION:
URL:https://www.shinbugent.be/event/clubtraining-volwassenen-7/2025-01-21/
LOCATION:Universitair Sportcentrum (Gent)\, Watersportlaan 3\, Gent\, Oost-Vlaanderen\, 9000\, België
GEO:51.0475487;3.7026469
X-APPLE-STRUCTURED-LOCATION;VALUE=URI;X-ADDRESS=Universitair Sportcentrum (Gent) Watersportlaan 3 Gent Oost-Vlaanderen 9000 België;X-APPLE-RADIUS=500;X-TITLE=Watersportlaan 3:geo:3.7026469,51.0475487
END:VEVENT
BEGIN:VEVENT
DTSTART;TZID=Europe/Brussels:20250121T190000
DTEND;TZID=Europe/Brussels:20250121T200000
DTSTAMP:20260419T170912
CREATED:20240819T191929Z
LAST-MODIFIED:20240819T191930Z
UID:20001524-1737486000-1737489600@www.shinbugent.be
SUMMARY:Clubtraining jeugd
DESCRIPTION:
URL:https://www.shinbugent.be/event/clubtraining-jeugd-8/2025-01-21/
LOCATION:Universitair Sportcentrum (Gent)\, Watersportlaan 3\, Gent\, Oost-Vlaanderen\, 9000\, België
GEO:51.0475487;3.7026469
X-APPLE-STRUCTURED-LOCATION;VALUE=URI;X-ADDRESS=Universitair Sportcentrum (Gent) Watersportlaan 3 Gent Oost-Vlaanderen 9000 België;X-APPLE-RADIUS=500;X-TITLE=Watersportlaan 3:geo:3.7026469,51.0475487
END:VEVENT
BEGIN:VEVENT
DTSTART;TZID=Europe/Brussels:20250118T100000
DTEND;TZID=Europe/Brussels:20250118T113000
DTSTAMP:20260419T170912
CREATED:20240819T184623Z
LAST-MODIFIED:20240819T184624Z
UID:20001501-1737194400-1737199800@www.shinbugent.be
SUMMARY:Clubtraining (jeugd + volwassenen)
DESCRIPTION:+ na de training 30 minuten vrije training & voorbereiding jongeren deelnemend aan JOW
URL:https://www.shinbugent.be/event/clubtraining-jeugd-volwassenen-5/2025-01-18/
LOCATION:Universitair Sportcentrum (Gent)\, Watersportlaan 3\, Gent\, Oost-Vlaanderen\, 9000\, België
GEO:51.0475487;3.7026469
X-APPLE-STRUCTURED-LOCATION;VALUE=URI;X-ADDRESS=Universitair Sportcentrum (Gent) Watersportlaan 3 Gent Oost-Vlaanderen 9000 België;X-APPLE-RADIUS=500;X-TITLE=Watersportlaan 3:geo:3.7026469,51.0475487
END:VEVENT
BEGIN:VEVENT
DTSTART;TZID=Europe/Brussels:20250116T193000
DTEND;TZID=Europe/Brussels:20250116T210000
DTSTAMP:20260419T170912
CREATED:20240820T065847Z
LAST-MODIFIED:20240820T065849Z
UID:20001577-1737055800-1737061200@www.shinbugent.be
SUMMARY:Clubtraining (volwassenen)
DESCRIPTION:
URL:https://www.shinbugent.be/event/clubtraining-volwassenen-9/2025-01-16/
LOCATION:Universitair Sportcentrum (Gent)\, Watersportlaan 3\, Gent\, Oost-Vlaanderen\, 9000\, België
GEO:51.0475487;3.7026469
X-APPLE-STRUCTURED-LOCATION;VALUE=URI;X-ADDRESS=Universitair Sportcentrum (Gent) Watersportlaan 3 Gent Oost-Vlaanderen 9000 België;X-APPLE-RADIUS=500;X-TITLE=Watersportlaan 3:geo:3.7026469,51.0475487
END:VEVENT
BEGIN:VEVENT
DTSTART;TZID=Europe/Brussels:20250114T190000
DTEND;TZID=Europe/Brussels:20250114T203000
DTSTAMP:20260419T170912
CREATED:20250102T165846Z
LAST-MODIFIED:20250102T165848Z
UID:20001636-1736881200-1736886600@www.shinbugent.be
SUMMARY:Shinbu Competitietraining
DESCRIPTION:springtouw en handschoenen mee te nemen
URL:https://www.shinbugent.be/event/shinbu-competitietraining-7/2025-01-14/
LOCATION:Universitair Sportcentrum (Gent)\, Watersportlaan 3\, Gent\, Oost-Vlaanderen\, 9000\, België
GEO:51.0475487;3.7026469
X-APPLE-STRUCTURED-LOCATION;VALUE=URI;X-ADDRESS=Universitair Sportcentrum (Gent) Watersportlaan 3 Gent Oost-Vlaanderen 9000 België;X-APPLE-RADIUS=500;X-TITLE=Watersportlaan 3:geo:3.7026469,51.0475487
END:VEVENT
BEGIN:VEVENT
DTSTART;TZID=Europe/Brussels:20250114T190000
DTEND;TZID=Europe/Brussels:20250114T203000
DTSTAMP:20260419T170912
CREATED:20240819T193132Z
LAST-MODIFIED:20240819T193133Z
UID:20001553-1736881200-1736886600@www.shinbugent.be
SUMMARY:Clubtraining (volwassenen)
DESCRIPTION:
URL:https://www.shinbugent.be/event/clubtraining-volwassenen-7/2025-01-14/
LOCATION:Universitair Sportcentrum (Gent)\, Watersportlaan 3\, Gent\, Oost-Vlaanderen\, 9000\, België
GEO:51.0475487;3.7026469
X-APPLE-STRUCTURED-LOCATION;VALUE=URI;X-ADDRESS=Universitair Sportcentrum (Gent) Watersportlaan 3 Gent Oost-Vlaanderen 9000 België;X-APPLE-RADIUS=500;X-TITLE=Watersportlaan 3:geo:3.7026469,51.0475487
END:VEVENT
BEGIN:VEVENT
DTSTART;TZID=Europe/Brussels:20250114T190000
DTEND;TZID=Europe/Brussels:20250114T200000
DTSTAMP:20260419T170912
CREATED:20240819T191929Z
LAST-MODIFIED:20240819T191930Z
UID:20001523-1736881200-1736884800@www.shinbugent.be
SUMMARY:Clubtraining jeugd
DESCRIPTION:
URL:https://www.shinbugent.be/event/clubtraining-jeugd-8/2025-01-14/
LOCATION:Universitair Sportcentrum (Gent)\, Watersportlaan 3\, Gent\, Oost-Vlaanderen\, 9000\, België
GEO:51.0475487;3.7026469
X-APPLE-STRUCTURED-LOCATION;VALUE=URI;X-ADDRESS=Universitair Sportcentrum (Gent) Watersportlaan 3 Gent Oost-Vlaanderen 9000 België;X-APPLE-RADIUS=500;X-TITLE=Watersportlaan 3:geo:3.7026469,51.0475487
END:VEVENT
BEGIN:VEVENT
DTSTART;TZID=Europe/Brussels:20250111T100000
DTEND;TZID=Europe/Brussels:20250111T113000
DTSTAMP:20260419T170912
CREATED:20240819T184623Z
LAST-MODIFIED:20240819T184624Z
UID:20001500-1736589600-1736595000@www.shinbugent.be
SUMMARY:Clubtraining (jeugd + volwassenen)
DESCRIPTION:+ na de training 30 minuten vrije training & voorbereiding jongeren deelnemend aan JOW
URL:https://www.shinbugent.be/event/clubtraining-jeugd-volwassenen-5/2025-01-11/
LOCATION:Universitair Sportcentrum (Gent)\, Watersportlaan 3\, Gent\, Oost-Vlaanderen\, 9000\, België
GEO:51.0475487;3.7026469
X-APPLE-STRUCTURED-LOCATION;VALUE=URI;X-ADDRESS=Universitair Sportcentrum (Gent) Watersportlaan 3 Gent Oost-Vlaanderen 9000 België;X-APPLE-RADIUS=500;X-TITLE=Watersportlaan 3:geo:3.7026469,51.0475487
END:VEVENT
BEGIN:VEVENT
DTSTART;TZID=Europe/Brussels:20250109T193000
DTEND;TZID=Europe/Brussels:20250109T210000
DTSTAMP:20260419T170912
CREATED:20240820T065847Z
LAST-MODIFIED:20240820T065849Z
UID:20001576-1736451000-1736456400@www.shinbugent.be
SUMMARY:Clubtraining (volwassenen)
DESCRIPTION:
URL:https://www.shinbugent.be/event/clubtraining-volwassenen-9/2025-01-09/
LOCATION:Universitair Sportcentrum (Gent)\, Watersportlaan 3\, Gent\, Oost-Vlaanderen\, 9000\, België
GEO:51.0475487;3.7026469
X-APPLE-STRUCTURED-LOCATION;VALUE=URI;X-ADDRESS=Universitair Sportcentrum (Gent) Watersportlaan 3 Gent Oost-Vlaanderen 9000 België;X-APPLE-RADIUS=500;X-TITLE=Watersportlaan 3:geo:3.7026469,51.0475487
END:VEVENT
BEGIN:VEVENT
DTSTART;TZID=Europe/Brussels:20250107T190000
DTEND;TZID=Europe/Brussels:20250107T203000
DTSTAMP:20260419T170912
CREATED:20240820T082000Z
LAST-MODIFIED:20240820T082001Z
UID:20001626-1736276400-1736281800@www.shinbugent.be
SUMMARY:PIT-1 Oost-Vlaanderen
DESCRIPTION:Provinciale instructietraining o.l.v. S. Gneo sensei -> voorbehouden aan JKA-(hulp)lesgevers
URL:https://www.shinbugent.be/event/pit-1-oost-vlaanderen/
LOCATION:Universitair Sportcentrum (Gent)\, Watersportlaan 3\, Gent\, Oost-Vlaanderen\, 9000\, België
GEO:51.0475487;3.7026469
X-APPLE-STRUCTURED-LOCATION;VALUE=URI;X-ADDRESS=Universitair Sportcentrum (Gent) Watersportlaan 3 Gent Oost-Vlaanderen 9000 België;X-APPLE-RADIUS=500;X-TITLE=Watersportlaan 3:geo:3.7026469,51.0475487
END:VEVENT
BEGIN:VEVENT
DTSTART;TZID=Europe/Brussels:20250107T190000
DTEND;TZID=Europe/Brussels:20250107T203000
DTSTAMP:20260419T170912
CREATED:20240819T193132Z
LAST-MODIFIED:20240819T193133Z
UID:20001552-1736276400-1736281800@www.shinbugent.be
SUMMARY:Clubtraining (volwassenen)
DESCRIPTION:
URL:https://www.shinbugent.be/event/clubtraining-volwassenen-7/2025-01-07/
LOCATION:Universitair Sportcentrum (Gent)\, Watersportlaan 3\, Gent\, Oost-Vlaanderen\, 9000\, België
GEO:51.0475487;3.7026469
X-APPLE-STRUCTURED-LOCATION;VALUE=URI;X-ADDRESS=Universitair Sportcentrum (Gent) Watersportlaan 3 Gent Oost-Vlaanderen 9000 België;X-APPLE-RADIUS=500;X-TITLE=Watersportlaan 3:geo:3.7026469,51.0475487
END:VEVENT
END:VCALENDAR